BEGIN:VCALENDAR
VERSION:2.0
PRODID:-//Casa Monica Resort &amp; Spa - ECPv6.15.20//NONSGML v1.0//EN
CALSCALE:GREGORIAN
METHOD:PUBLISH
X-WR-CALNAME:Casa Monica Resort &amp; Spa
X-ORIGINAL-URL:https://www.kesslercollection.com/casa-monica
X-WR-CALDESC:Events for Casa Monica Resort &amp; Spa
REFRESH-INTERVAL;VALUE=DURATION:PT1H
X-Robots-Tag:noindex
X-PUBLISHED-TTL:PT1H
BEGIN:VTIMEZONE
TZID:America/New_York
BEGIN:DAYLIGHT
TZOFFSETFROM:-0500
TZOFFSETTO:-0400
TZNAME:EDT
DTSTART:20220313T070000
END:DAYLIGHT
BEGIN:STANDARD
TZOFFSETFROM:-0400
TZOFFSETTO:-0500
TZNAME:EST
DTSTART:20221106T060000
END:STANDARD
BEGIN:DAYLIGHT
TZOFFSETFROM:-0500
TZOFFSETTO:-0400
TZNAME:EDT
DTSTART:20230312T070000
END:DAYLIGHT
BEGIN:STANDARD
TZOFFSETFROM:-0400
TZOFFSETTO:-0500
TZNAME:EST
DTSTART:20231105T060000
END:STANDARD
BEGIN:DAYLIGHT
TZOFFSETFROM:-0500
TZOFFSETTO:-0400
TZNAME:EDT
DTSTART:20240310T070000
END:DAYLIGHT
BEGIN:STANDARD
TZOFFSETFROM:-0400
TZOFFSETTO:-0500
TZNAME:EST
DTSTART:20241103T060000
END:STANDARD
END:VTIMEZONE
BEGIN:VEVENT
DTSTART;TZID=America/New_York:20230707T180000
DTEND;TZID=America/New_York:20230707T223000
DTSTAMP:20260423T122935
CREATED:20230324T211733Z
LAST-MODIFIED:20230807T211901Z
UID:10000907-1688752800-1688769000@www.kesslercollection.com
SUMMARY:Live Music in the Cobalt Lounge
DESCRIPTION:Stay for a signature cocktail and let the sultry sounds of soft jazz become your plans for the evening. Join us for live music in the Cobalt Lounge  Friday – Sunday from 6:00 PM – 10:30 PM.
URL:https://www.kesslercollection.com/casa-monica/event/live-music-in-the-cobalt-lounge/2023-07-07/
LOCATION:Córdova\, 95 Cordova St.\, St. Augustine\, FL\, 32084\, United States
ATTACH;FMTTYPE=image/png:https://www.kesslercollection.com/casa-monica/wp-content/uploads/sites/6/2023/03/Event-calendar-15.png
END:VEVENT
BEGIN:VEVENT
DTSTART;TZID=America/New_York:20230702T110000
DTEND;TZID=America/New_York:20230702T140000
DTSTAMP:20260423T122935
CREATED:20230324T160021Z
LAST-MODIFIED:20230523T141718Z
UID:10001066-1688295600-1688306400@www.kesslercollection.com
SUMMARY:Sunday Brunch at Costa Brava
DESCRIPTION:Live Music accompanies fresh Mediterranean flavors and bottomless mimosas at Costa Brava’s Sunday Brunch. Enjoy a curated menu of modern brunch classics\, tapas\, libations\, and more in the charming setting of one of St. Augustine’s most unique dining destinations.
URL:https://www.kesslercollection.com/casa-monica/event/sunday-brunch-at-costa-brava/2023-07-02/
LOCATION:Córdova\, 95 Cordova St.\, St. Augustine\, FL\, 32084\, United States
ATTACH;FMTTYPE=image/jpeg:https://www.kesslercollection.com/casa-monica/wp-content/uploads/sites/6/2023/03/IMG_8680-HDR-Edit-2.jpg
END:VEVENT
BEGIN:VEVENT
DTSTART;TZID=America/New_York:20230701T180000
DTEND;TZID=America/New_York:20230701T223000
DTSTAMP:20260423T122935
CREATED:20230324T211733Z
LAST-MODIFIED:20230807T211901Z
UID:10000906-1688234400-1688250600@www.kesslercollection.com
SUMMARY:Live Music in the Cobalt Lounge
DESCRIPTION:Stay for a signature cocktail and let the sultry sounds of soft jazz become your plans for the evening. Join us for live music in the Cobalt Lounge  Friday – Sunday from 6:00 PM – 10:30 PM.
URL:https://www.kesslercollection.com/casa-monica/event/live-music-in-the-cobalt-lounge/2023-07-01/
LOCATION:Córdova\, 95 Cordova St.\, St. Augustine\, FL\, 32084\, United States
ATTACH;FMTTYPE=image/png:https://www.kesslercollection.com/casa-monica/wp-content/uploads/sites/6/2023/03/Event-calendar-15.png
END:VEVENT
BEGIN:VEVENT
DTSTART;TZID=America/New_York:20230630T180000
DTEND;TZID=America/New_York:20230630T223000
DTSTAMP:20260423T122935
CREATED:20230324T211733Z
LAST-MODIFIED:20230807T211901Z
UID:10000905-1688148000-1688164200@www.kesslercollection.com
SUMMARY:Live Music in the Cobalt Lounge
DESCRIPTION:Stay for a signature cocktail and let the sultry sounds of soft jazz become your plans for the evening. Join us for live music in the Cobalt Lounge  Friday – Sunday from 6:00 PM – 10:30 PM.
URL:https://www.kesslercollection.com/casa-monica/event/live-music-in-the-cobalt-lounge/2023-06-30/
LOCATION:Córdova\, 95 Cordova St.\, St. Augustine\, FL\, 32084\, United States
ATTACH;FMTTYPE=image/png:https://www.kesslercollection.com/casa-monica/wp-content/uploads/sites/6/2023/03/Event-calendar-15.png
END:VEVENT
BEGIN:VEVENT
DTSTART;TZID=America/New_York:20230625T110000
DTEND;TZID=America/New_York:20230625T140000
DTSTAMP:20260423T122935
CREATED:20230324T160021Z
LAST-MODIFIED:20230523T141718Z
UID:10001065-1687690800-1687701600@www.kesslercollection.com
SUMMARY:Sunday Brunch at Costa Brava
DESCRIPTION:Live Music accompanies fresh Mediterranean flavors and bottomless mimosas at Costa Brava’s Sunday Brunch. Enjoy a curated menu of modern brunch classics\, tapas\, libations\, and more in the charming setting of one of St. Augustine’s most unique dining destinations.
URL:https://www.kesslercollection.com/casa-monica/event/sunday-brunch-at-costa-brava/2023-06-25/
LOCATION:Córdova\, 95 Cordova St.\, St. Augustine\, FL\, 32084\, United States
ATTACH;FMTTYPE=image/jpeg:https://www.kesslercollection.com/casa-monica/wp-content/uploads/sites/6/2023/03/IMG_8680-HDR-Edit-2.jpg
END:VEVENT
BEGIN:VEVENT
DTSTART;TZID=America/New_York:20230624T180000
DTEND;TZID=America/New_York:20230624T223000
DTSTAMP:20260423T122935
CREATED:20230324T211733Z
LAST-MODIFIED:20230807T211901Z
UID:10000904-1687629600-1687645800@www.kesslercollection.com
SUMMARY:Live Music in the Cobalt Lounge
DESCRIPTION:Stay for a signature cocktail and let the sultry sounds of soft jazz become your plans for the evening. Join us for live music in the Cobalt Lounge  Friday – Sunday from 6:00 PM – 10:30 PM.
URL:https://www.kesslercollection.com/casa-monica/event/live-music-in-the-cobalt-lounge/2023-06-24/
LOCATION:Córdova\, 95 Cordova St.\, St. Augustine\, FL\, 32084\, United States
ATTACH;FMTTYPE=image/png:https://www.kesslercollection.com/casa-monica/wp-content/uploads/sites/6/2023/03/Event-calendar-15.png
END:VEVENT
BEGIN:VEVENT
DTSTART;TZID=America/New_York:20230623T180000
DTEND;TZID=America/New_York:20230623T223000
DTSTAMP:20260423T122935
CREATED:20230324T211733Z
LAST-MODIFIED:20230807T211901Z
UID:10000903-1687543200-1687559400@www.kesslercollection.com
SUMMARY:Live Music in the Cobalt Lounge
DESCRIPTION:Stay for a signature cocktail and let the sultry sounds of soft jazz become your plans for the evening. Join us for live music in the Cobalt Lounge  Friday – Sunday from 6:00 PM – 10:30 PM.
URL:https://www.kesslercollection.com/casa-monica/event/live-music-in-the-cobalt-lounge/2023-06-23/
LOCATION:Córdova\, 95 Cordova St.\, St. Augustine\, FL\, 32084\, United States
ATTACH;FMTTYPE=image/png:https://www.kesslercollection.com/casa-monica/wp-content/uploads/sites/6/2023/03/Event-calendar-15.png
END:VEVENT
BEGIN:VEVENT
DTSTART;TZID=America/New_York:20230618T110000
DTEND;TZID=America/New_York:20230618T140000
DTSTAMP:20260423T122935
CREATED:20230324T160021Z
LAST-MODIFIED:20230523T141718Z
UID:10001064-1687086000-1687096800@www.kesslercollection.com
SUMMARY:Sunday Brunch at Costa Brava
DESCRIPTION:Live Music accompanies fresh Mediterranean flavors and bottomless mimosas at Costa Brava’s Sunday Brunch. Enjoy a curated menu of modern brunch classics\, tapas\, libations\, and more in the charming setting of one of St. Augustine’s most unique dining destinations.
URL:https://www.kesslercollection.com/casa-monica/event/sunday-brunch-at-costa-brava/2023-06-18/
LOCATION:Córdova\, 95 Cordova St.\, St. Augustine\, FL\, 32084\, United States
ATTACH;FMTTYPE=image/jpeg:https://www.kesslercollection.com/casa-monica/wp-content/uploads/sites/6/2023/03/IMG_8680-HDR-Edit-2.jpg
END:VEVENT
BEGIN:VEVENT
DTSTART;TZID=America/New_York:20230617T180000
DTEND;TZID=America/New_York:20230617T223000
DTSTAMP:20260423T122935
CREATED:20230324T211733Z
LAST-MODIFIED:20230807T211901Z
UID:10000902-1687024800-1687041000@www.kesslercollection.com
SUMMARY:Live Music in the Cobalt Lounge
DESCRIPTION:Stay for a signature cocktail and let the sultry sounds of soft jazz become your plans for the evening. Join us for live music in the Cobalt Lounge  Friday – Sunday from 6:00 PM – 10:30 PM.
URL:https://www.kesslercollection.com/casa-monica/event/live-music-in-the-cobalt-lounge/2023-06-17/
LOCATION:Córdova\, 95 Cordova St.\, St. Augustine\, FL\, 32084\, United States
ATTACH;FMTTYPE=image/png:https://www.kesslercollection.com/casa-monica/wp-content/uploads/sites/6/2023/03/Event-calendar-15.png
END:VEVENT
BEGIN:VEVENT
DTSTART;TZID=America/New_York:20230616T180000
DTEND;TZID=America/New_York:20230616T223000
DTSTAMP:20260423T122935
CREATED:20230324T211733Z
LAST-MODIFIED:20230807T211901Z
UID:10000901-1686938400-1686954600@www.kesslercollection.com
SUMMARY:Live Music in the Cobalt Lounge
DESCRIPTION:Stay for a signature cocktail and let the sultry sounds of soft jazz become your plans for the evening. Join us for live music in the Cobalt Lounge  Friday – Sunday from 6:00 PM – 10:30 PM.
URL:https://www.kesslercollection.com/casa-monica/event/live-music-in-the-cobalt-lounge/2023-06-16/
LOCATION:Córdova\, 95 Cordova St.\, St. Augustine\, FL\, 32084\, United States
ATTACH;FMTTYPE=image/png:https://www.kesslercollection.com/casa-monica/wp-content/uploads/sites/6/2023/03/Event-calendar-15.png
END:VEVENT
BEGIN:VEVENT
DTSTART;TZID=America/New_York:20230611T110000
DTEND;TZID=America/New_York:20230611T140000
DTSTAMP:20260423T122935
CREATED:20230324T160021Z
LAST-MODIFIED:20230523T141718Z
UID:10001063-1686481200-1686492000@www.kesslercollection.com
SUMMARY:Sunday Brunch at Costa Brava
DESCRIPTION:Live Music accompanies fresh Mediterranean flavors and bottomless mimosas at Costa Brava’s Sunday Brunch. Enjoy a curated menu of modern brunch classics\, tapas\, libations\, and more in the charming setting of one of St. Augustine’s most unique dining destinations.
URL:https://www.kesslercollection.com/casa-monica/event/sunday-brunch-at-costa-brava/2023-06-11/
LOCATION:Córdova\, 95 Cordova St.\, St. Augustine\, FL\, 32084\, United States
ATTACH;FMTTYPE=image/jpeg:https://www.kesslercollection.com/casa-monica/wp-content/uploads/sites/6/2023/03/IMG_8680-HDR-Edit-2.jpg
END:VEVENT
BEGIN:VEVENT
DTSTART;TZID=America/New_York:20230610T180000
DTEND;TZID=America/New_York:20230610T223000
DTSTAMP:20260423T122935
CREATED:20230324T211733Z
LAST-MODIFIED:20230807T211901Z
UID:10000900-1686420000-1686436200@www.kesslercollection.com
SUMMARY:Live Music in the Cobalt Lounge
DESCRIPTION:Stay for a signature cocktail and let the sultry sounds of soft jazz become your plans for the evening. Join us for live music in the Cobalt Lounge  Friday – Sunday from 6:00 PM – 10:30 PM.
URL:https://www.kesslercollection.com/casa-monica/event/live-music-in-the-cobalt-lounge/2023-06-10/
LOCATION:Córdova\, 95 Cordova St.\, St. Augustine\, FL\, 32084\, United States
ATTACH;FMTTYPE=image/png:https://www.kesslercollection.com/casa-monica/wp-content/uploads/sites/6/2023/03/Event-calendar-15.png
END:VEVENT
BEGIN:VEVENT
DTSTART;TZID=America/New_York:20230609T180000
DTEND;TZID=America/New_York:20230609T223000
DTSTAMP:20260423T122935
CREATED:20230324T211733Z
LAST-MODIFIED:20230807T211901Z
UID:10000899-1686333600-1686349800@www.kesslercollection.com
SUMMARY:Live Music in the Cobalt Lounge
DESCRIPTION:Stay for a signature cocktail and let the sultry sounds of soft jazz become your plans for the evening. Join us for live music in the Cobalt Lounge  Friday – Sunday from 6:00 PM – 10:30 PM.
URL:https://www.kesslercollection.com/casa-monica/event/live-music-in-the-cobalt-lounge/2023-06-09/
LOCATION:Córdova\, 95 Cordova St.\, St. Augustine\, FL\, 32084\, United States
ATTACH;FMTTYPE=image/png:https://www.kesslercollection.com/casa-monica/wp-content/uploads/sites/6/2023/03/Event-calendar-15.png
END:VEVENT
BEGIN:VEVENT
DTSTART;TZID=America/New_York:20230604T110000
DTEND;TZID=America/New_York:20230604T140000
DTSTAMP:20260423T122935
CREATED:20230324T160021Z
LAST-MODIFIED:20230523T141718Z
UID:10000626-1685876400-1685887200@www.kesslercollection.com
SUMMARY:Sunday Brunch at Costa Brava
DESCRIPTION:Live Music accompanies fresh Mediterranean flavors and bottomless mimosas at Costa Brava’s Sunday Brunch. Enjoy a curated menu of modern brunch classics\, tapas\, libations\, and more in the charming setting of one of St. Augustine’s most unique dining destinations.
URL:https://www.kesslercollection.com/casa-monica/event/sunday-brunch-at-costa-brava/2023-06-04/
LOCATION:Córdova\, 95 Cordova St.\, St. Augustine\, FL\, 32084\, United States
ATTACH;FMTTYPE=image/jpeg:https://www.kesslercollection.com/casa-monica/wp-content/uploads/sites/6/2023/03/IMG_8680-HDR-Edit-2.jpg
END:VEVENT
BEGIN:VEVENT
DTSTART;TZID=America/New_York:20230603T180000
DTEND;TZID=America/New_York:20230603T223000
DTSTAMP:20260423T122935
CREATED:20230324T211733Z
LAST-MODIFIED:20230807T211901Z
UID:10000898-1685815200-1685831400@www.kesslercollection.com
SUMMARY:Live Music in the Cobalt Lounge
DESCRIPTION:Stay for a signature cocktail and let the sultry sounds of soft jazz become your plans for the evening. Join us for live music in the Cobalt Lounge  Friday – Sunday from 6:00 PM – 10:30 PM.
URL:https://www.kesslercollection.com/casa-monica/event/live-music-in-the-cobalt-lounge/2023-06-03/
LOCATION:Córdova\, 95 Cordova St.\, St. Augustine\, FL\, 32084\, United States
ATTACH;FMTTYPE=image/png:https://www.kesslercollection.com/casa-monica/wp-content/uploads/sites/6/2023/03/Event-calendar-15.png
END:VEVENT
BEGIN:VEVENT
DTSTART;TZID=America/New_York:20230602T180000
DTEND;TZID=America/New_York:20230602T223000
DTSTAMP:20260423T122935
CREATED:20230324T211733Z
LAST-MODIFIED:20230807T211901Z
UID:10000897-1685728800-1685745000@www.kesslercollection.com
SUMMARY:Live Music in the Cobalt Lounge
DESCRIPTION:Stay for a signature cocktail and let the sultry sounds of soft jazz become your plans for the evening. Join us for live music in the Cobalt Lounge  Friday – Sunday from 6:00 PM – 10:30 PM.
URL:https://www.kesslercollection.com/casa-monica/event/live-music-in-the-cobalt-lounge/2023-06-02/
LOCATION:Córdova\, 95 Cordova St.\, St. Augustine\, FL\, 32084\, United States
ATTACH;FMTTYPE=image/png:https://www.kesslercollection.com/casa-monica/wp-content/uploads/sites/6/2023/03/Event-calendar-15.png
END:VEVENT
BEGIN:VEVENT
DTSTART;TZID=America/New_York:20230528T110000
DTEND;TZID=America/New_York:20230528T140000
DTSTAMP:20260423T122935
CREATED:20230324T160021Z
LAST-MODIFIED:20230523T141718Z
UID:10000625-1685271600-1685282400@www.kesslercollection.com
SUMMARY:Sunday Brunch at Costa Brava
DESCRIPTION:Live Music accompanies fresh Mediterranean flavors and bottomless mimosas at Costa Brava’s Sunday Brunch. Enjoy a curated menu of modern brunch classics\, tapas\, libations\, and more in the charming setting of one of St. Augustine’s most unique dining destinations.
URL:https://www.kesslercollection.com/casa-monica/event/sunday-brunch-at-costa-brava/2023-05-28/
LOCATION:Córdova\, 95 Cordova St.\, St. Augustine\, FL\, 32084\, United States
ATTACH;FMTTYPE=image/jpeg:https://www.kesslercollection.com/casa-monica/wp-content/uploads/sites/6/2023/03/IMG_8680-HDR-Edit-2.jpg
END:VEVENT
BEGIN:VEVENT
DTSTART;TZID=America/New_York:20230527T180000
DTEND;TZID=America/New_York:20230527T223000
DTSTAMP:20260423T122935
CREATED:20230324T211733Z
LAST-MODIFIED:20230807T211901Z
UID:10000896-1685210400-1685226600@www.kesslercollection.com
SUMMARY:Live Music in the Cobalt Lounge
DESCRIPTION:Stay for a signature cocktail and let the sultry sounds of soft jazz become your plans for the evening. Join us for live music in the Cobalt Lounge  Friday – Sunday from 6:00 PM – 10:30 PM.
URL:https://www.kesslercollection.com/casa-monica/event/live-music-in-the-cobalt-lounge/2023-05-27/
LOCATION:Córdova\, 95 Cordova St.\, St. Augustine\, FL\, 32084\, United States
ATTACH;FMTTYPE=image/png:https://www.kesslercollection.com/casa-monica/wp-content/uploads/sites/6/2023/03/Event-calendar-15.png
END:VEVENT
BEGIN:VEVENT
DTSTART;TZID=America/New_York:20230526T180000
DTEND;TZID=America/New_York:20230526T223000
DTSTAMP:20260423T122935
CREATED:20230324T211733Z
LAST-MODIFIED:20230807T211901Z
UID:10000895-1685124000-1685140200@www.kesslercollection.com
SUMMARY:Live Music in the Cobalt Lounge
DESCRIPTION:Stay for a signature cocktail and let the sultry sounds of soft jazz become your plans for the evening. Join us for live music in the Cobalt Lounge  Friday – Sunday from 6:00 PM – 10:30 PM.
URL:https://www.kesslercollection.com/casa-monica/event/live-music-in-the-cobalt-lounge/2023-05-26/
LOCATION:Córdova\, 95 Cordova St.\, St. Augustine\, FL\, 32084\, United States
ATTACH;FMTTYPE=image/png:https://www.kesslercollection.com/casa-monica/wp-content/uploads/sites/6/2023/03/Event-calendar-15.png
END:VEVENT
BEGIN:VEVENT
DTSTART;TZID=America/New_York:20230521T110000
DTEND;TZID=America/New_York:20230521T140000
DTSTAMP:20260423T122935
CREATED:20230324T160021Z
LAST-MODIFIED:20230523T141718Z
UID:10000624-1684666800-1684677600@www.kesslercollection.com
SUMMARY:Sunday Brunch at Costa Brava
DESCRIPTION:Live Music accompanies fresh Mediterranean flavors and bottomless mimosas at Costa Brava’s Sunday Brunch. Enjoy a curated menu of modern brunch classics\, tapas\, libations\, and more in the charming setting of one of St. Augustine’s most unique dining destinations.
URL:https://www.kesslercollection.com/casa-monica/event/sunday-brunch-at-costa-brava/2023-05-21/
LOCATION:Córdova\, 95 Cordova St.\, St. Augustine\, FL\, 32084\, United States
ATTACH;FMTTYPE=image/jpeg:https://www.kesslercollection.com/casa-monica/wp-content/uploads/sites/6/2023/03/IMG_8680-HDR-Edit-2.jpg
END:VEVENT
BEGIN:VEVENT
DTSTART;TZID=America/New_York:20230520T180000
DTEND;TZID=America/New_York:20230520T223000
DTSTAMP:20260423T122935
CREATED:20230324T211733Z
LAST-MODIFIED:20230807T211901Z
UID:10000894-1684605600-1684621800@www.kesslercollection.com
SUMMARY:Live Music in the Cobalt Lounge
DESCRIPTION:Stay for a signature cocktail and let the sultry sounds of soft jazz become your plans for the evening. Join us for live music in the Cobalt Lounge  Friday – Sunday from 6:00 PM – 10:30 PM.
URL:https://www.kesslercollection.com/casa-monica/event/live-music-in-the-cobalt-lounge/2023-05-20/
LOCATION:Córdova\, 95 Cordova St.\, St. Augustine\, FL\, 32084\, United States
ATTACH;FMTTYPE=image/png:https://www.kesslercollection.com/casa-monica/wp-content/uploads/sites/6/2023/03/Event-calendar-15.png
END:VEVENT
BEGIN:VEVENT
DTSTART;TZID=America/New_York:20230519T180000
DTEND;TZID=America/New_York:20230519T223000
DTSTAMP:20260423T122935
CREATED:20230324T211733Z
LAST-MODIFIED:20230807T211901Z
UID:10000893-1684519200-1684535400@www.kesslercollection.com
SUMMARY:Live Music in the Cobalt Lounge
DESCRIPTION:Stay for a signature cocktail and let the sultry sounds of soft jazz become your plans for the evening. Join us for live music in the Cobalt Lounge  Friday – Sunday from 6:00 PM – 10:30 PM.
URL:https://www.kesslercollection.com/casa-monica/event/live-music-in-the-cobalt-lounge/2023-05-19/
LOCATION:Córdova\, 95 Cordova St.\, St. Augustine\, FL\, 32084\, United States
ATTACH;FMTTYPE=image/png:https://www.kesslercollection.com/casa-monica/wp-content/uploads/sites/6/2023/03/Event-calendar-15.png
END:VEVENT
BEGIN:VEVENT
DTSTART;TZID=America/New_York:20230513T180000
DTEND;TZID=America/New_York:20230513T223000
DTSTAMP:20260423T122935
CREATED:20230324T211733Z
LAST-MODIFIED:20230807T211901Z
UID:10000892-1684000800-1684017000@www.kesslercollection.com
SUMMARY:Live Music in the Cobalt Lounge
DESCRIPTION:Stay for a signature cocktail and let the sultry sounds of soft jazz become your plans for the evening. Join us for live music in the Cobalt Lounge  Friday – Sunday from 6:00 PM – 10:30 PM.
URL:https://www.kesslercollection.com/casa-monica/event/live-music-in-the-cobalt-lounge/2023-05-13/
LOCATION:Córdova\, 95 Cordova St.\, St. Augustine\, FL\, 32084\, United States
ATTACH;FMTTYPE=image/png:https://www.kesslercollection.com/casa-monica/wp-content/uploads/sites/6/2023/03/Event-calendar-15.png
END:VEVENT
BEGIN:VEVENT
DTSTART;TZID=America/New_York:20230512T180000
DTEND;TZID=America/New_York:20230512T223000
DTSTAMP:20260423T122935
CREATED:20230324T211733Z
LAST-MODIFIED:20230807T211901Z
UID:10000891-1683914400-1683930600@www.kesslercollection.com
SUMMARY:Live Music in the Cobalt Lounge
DESCRIPTION:Stay for a signature cocktail and let the sultry sounds of soft jazz become your plans for the evening. Join us for live music in the Cobalt Lounge  Friday – Sunday from 6:00 PM – 10:30 PM.
URL:https://www.kesslercollection.com/casa-monica/event/live-music-in-the-cobalt-lounge/2023-05-12/
LOCATION:Córdova\, 95 Cordova St.\, St. Augustine\, FL\, 32084\, United States
ATTACH;FMTTYPE=image/png:https://www.kesslercollection.com/casa-monica/wp-content/uploads/sites/6/2023/03/Event-calendar-15.png
END:VEVENT
BEGIN:VEVENT
DTSTART;TZID=America/New_York:20230507T110000
DTEND;TZID=America/New_York:20230507T140000
DTSTAMP:20260423T122935
CREATED:20230324T160021Z
LAST-MODIFIED:20230523T141718Z
UID:10000622-1683457200-1683468000@www.kesslercollection.com
SUMMARY:Sunday Brunch at Costa Brava
DESCRIPTION:Live Music accompanies fresh Mediterranean flavors and bottomless mimosas at Costa Brava’s Sunday Brunch. Enjoy a curated menu of modern brunch classics\, tapas\, libations\, and more in the charming setting of one of St. Augustine’s most unique dining destinations.
URL:https://www.kesslercollection.com/casa-monica/event/sunday-brunch-at-costa-brava/2023-05-07/
LOCATION:Córdova\, 95 Cordova St.\, St. Augustine\, FL\, 32084\, United States
ATTACH;FMTTYPE=image/jpeg:https://www.kesslercollection.com/casa-monica/wp-content/uploads/sites/6/2023/03/IMG_8680-HDR-Edit-2.jpg
END:VEVENT
BEGIN:VEVENT
DTSTART;TZID=America/New_York:20230506T180000
DTEND;TZID=America/New_York:20230506T223000
DTSTAMP:20260423T122935
CREATED:20230324T211733Z
LAST-MODIFIED:20230807T211901Z
UID:10000890-1683396000-1683412200@www.kesslercollection.com
SUMMARY:Live Music in the Cobalt Lounge
DESCRIPTION:Stay for a signature cocktail and let the sultry sounds of soft jazz become your plans for the evening. Join us for live music in the Cobalt Lounge  Friday – Sunday from 6:00 PM – 10:30 PM.
URL:https://www.kesslercollection.com/casa-monica/event/live-music-in-the-cobalt-lounge/2023-05-06/
LOCATION:Córdova\, 95 Cordova St.\, St. Augustine\, FL\, 32084\, United States
ATTACH;FMTTYPE=image/png:https://www.kesslercollection.com/casa-monica/wp-content/uploads/sites/6/2023/03/Event-calendar-15.png
END:VEVENT
BEGIN:VEVENT
DTSTART;TZID=America/New_York:20230505T180000
DTEND;TZID=America/New_York:20230505T223000
DTSTAMP:20260423T122935
CREATED:20230324T211733Z
LAST-MODIFIED:20230807T211901Z
UID:10000889-1683309600-1683325800@www.kesslercollection.com
SUMMARY:Live Music in the Cobalt Lounge
DESCRIPTION:Stay for a signature cocktail and let the sultry sounds of soft jazz become your plans for the evening. Join us for live music in the Cobalt Lounge  Friday – Sunday from 6:00 PM – 10:30 PM.
URL:https://www.kesslercollection.com/casa-monica/event/live-music-in-the-cobalt-lounge/2023-05-05/
LOCATION:Córdova\, 95 Cordova St.\, St. Augustine\, FL\, 32084\, United States
ATTACH;FMTTYPE=image/png:https://www.kesslercollection.com/casa-monica/wp-content/uploads/sites/6/2023/03/Event-calendar-15.png
END:VEVENT
BEGIN:VEVENT
DTSTART;TZID=America/New_York:20230430T110000
DTEND;TZID=America/New_York:20230430T140000
DTSTAMP:20260423T122935
CREATED:20230324T160021Z
LAST-MODIFIED:20230523T141718Z
UID:10000621-1682852400-1682863200@www.kesslercollection.com
SUMMARY:Sunday Brunch at Costa Brava
DESCRIPTION:Live Music accompanies fresh Mediterranean flavors and bottomless mimosas at Costa Brava’s Sunday Brunch. Enjoy a curated menu of modern brunch classics\, tapas\, libations\, and more in the charming setting of one of St. Augustine’s most unique dining destinations.
URL:https://www.kesslercollection.com/casa-monica/event/sunday-brunch-at-costa-brava/2023-04-30/
LOCATION:Córdova\, 95 Cordova St.\, St. Augustine\, FL\, 32084\, United States
ATTACH;FMTTYPE=image/jpeg:https://www.kesslercollection.com/casa-monica/wp-content/uploads/sites/6/2023/03/IMG_8680-HDR-Edit-2.jpg
END:VEVENT
BEGIN:VEVENT
DTSTART;TZID=America/New_York:20230429T180000
DTEND;TZID=America/New_York:20230429T223000
DTSTAMP:20260423T122935
CREATED:20230324T211733Z
LAST-MODIFIED:20230807T211901Z
UID:10000888-1682791200-1682807400@www.kesslercollection.com
SUMMARY:Live Music in the Cobalt Lounge
DESCRIPTION:Stay for a signature cocktail and let the sultry sounds of soft jazz become your plans for the evening. Join us for live music in the Cobalt Lounge  Friday – Sunday from 6:00 PM – 10:30 PM.
URL:https://www.kesslercollection.com/casa-monica/event/live-music-in-the-cobalt-lounge/2023-04-29/
LOCATION:Córdova\, 95 Cordova St.\, St. Augustine\, FL\, 32084\, United States
ATTACH;FMTTYPE=image/png:https://www.kesslercollection.com/casa-monica/wp-content/uploads/sites/6/2023/03/Event-calendar-15.png
END:VEVENT
BEGIN:VEVENT
DTSTART;TZID=America/New_York:20230428T180000
DTEND;TZID=America/New_York:20230428T223000
DTSTAMP:20260423T122935
CREATED:20230324T211733Z
LAST-MODIFIED:20230807T211901Z
UID:10000887-1682704800-1682721000@www.kesslercollection.com
SUMMARY:Live Music in the Cobalt Lounge
DESCRIPTION:Stay for a signature cocktail and let the sultry sounds of soft jazz become your plans for the evening. Join us for live music in the Cobalt Lounge  Friday – Sunday from 6:00 PM – 10:30 PM.
URL:https://www.kesslercollection.com/casa-monica/event/live-music-in-the-cobalt-lounge/2023-04-28/
LOCATION:Córdova\, 95 Cordova St.\, St. Augustine\, FL\, 32084\, United States
ATTACH;FMTTYPE=image/png:https://www.kesslercollection.com/casa-monica/wp-content/uploads/sites/6/2023/03/Event-calendar-15.png
END:VEVENT
END:VCALENDAR