BEGIN:VCALENDAR
VERSION:2.0
PRODID:-//Casa Monica Resort &amp; Spa - ECPv6.15.20//NONSGML v1.0//EN
CALSCALE:GREGORIAN
METHOD:PUBLISH
X-WR-CALNAME:Casa Monica Resort &amp; Spa
X-ORIGINAL-URL:https://www.kesslercollection.com/casa-monica
X-WR-CALDESC:Events for Casa Monica Resort &amp; Spa
REFRESH-INTERVAL;VALUE=DURATION:PT1H
X-Robots-Tag:noindex
X-PUBLISHED-TTL:PT1H
BEGIN:VTIMEZONE
TZID:America/New_York
BEGIN:DAYLIGHT
TZOFFSETFROM:-0500
TZOFFSETTO:-0400
TZNAME:EDT
DTSTART:20250309T070000
END:DAYLIGHT
BEGIN:STANDARD
TZOFFSETFROM:-0400
TZOFFSETTO:-0500
TZNAME:EST
DTSTART:20251102T060000
END:STANDARD
BEGIN:DAYLIGHT
TZOFFSETFROM:-0500
TZOFFSETTO:-0400
TZNAME:EDT
DTSTART:20260308T070000
END:DAYLIGHT
BEGIN:STANDARD
TZOFFSETFROM:-0400
TZOFFSETTO:-0500
TZNAME:EST
DTSTART:20261101T060000
END:STANDARD
BEGIN:DAYLIGHT
TZOFFSETFROM:-0500
TZOFFSETTO:-0400
TZNAME:EDT
DTSTART:20270314T070000
END:DAYLIGHT
BEGIN:STANDARD
TZOFFSETFROM:-0400
TZOFFSETTO:-0500
TZNAME:EST
DTSTART:20271107T060000
END:STANDARD
END:VTIMEZONE
BEGIN:VEVENT
DTSTART;TZID=America/New_York:20260422T130000
DTEND;TZID=America/New_York:20260422T170000
DTSTAMP:20260422T014942
CREATED:20250612T195159Z
LAST-MODIFIED:20260403T193555Z
UID:10003747-1776862800-1776877200@www.kesslercollection.com
SUMMARY:Happy Hour at Cordova
DESCRIPTION:Step into Cordova for an elevated Happy Hour experience\, offered Monday through Thursday from 1:00 to 5:00 PM. Enjoy hand-selected wines\, signature drink specials\, and a complimentary tasting that turns your afternoon into a moment worth lingering over.
URL:https://www.kesslercollection.com/casa-monica/event/happy-hour-at-cordova-2/2026-04-22/
ATTACH;FMTTYPE=image/png:https://www.kesslercollection.com/casa-monica/wp-content/uploads/sites/6/2025/06/Disco-4.png
END:VEVENT
BEGIN:VEVENT
DTSTART;TZID=America/New_York:20260423T130000
DTEND;TZID=America/New_York:20260423T170000
DTSTAMP:20260422T014942
CREATED:20250612T195159Z
LAST-MODIFIED:20260403T193555Z
UID:10003748-1776949200-1776963600@www.kesslercollection.com
SUMMARY:Happy Hour at Cordova
DESCRIPTION:Step into Cordova for an elevated Happy Hour experience\, offered Monday through Thursday from 1:00 to 5:00 PM. Enjoy hand-selected wines\, signature drink specials\, and a complimentary tasting that turns your afternoon into a moment worth lingering over.
URL:https://www.kesslercollection.com/casa-monica/event/happy-hour-at-cordova-2/2026-04-23/
ATTACH;FMTTYPE=image/png:https://www.kesslercollection.com/casa-monica/wp-content/uploads/sites/6/2025/06/Disco-4.png
END:VEVENT
BEGIN:VEVENT
DTSTART;TZID=America/New_York:20260427T130000
DTEND;TZID=America/New_York:20260427T170000
DTSTAMP:20260422T014942
CREATED:20250612T195159Z
LAST-MODIFIED:20260403T193555Z
UID:10003749-1777294800-1777309200@www.kesslercollection.com
SUMMARY:Happy Hour at Cordova
DESCRIPTION:Step into Cordova for an elevated Happy Hour experience\, offered Monday through Thursday from 1:00 to 5:00 PM. Enjoy hand-selected wines\, signature drink specials\, and a complimentary tasting that turns your afternoon into a moment worth lingering over.
URL:https://www.kesslercollection.com/casa-monica/event/happy-hour-at-cordova-2/2026-04-27/
ATTACH;FMTTYPE=image/png:https://www.kesslercollection.com/casa-monica/wp-content/uploads/sites/6/2025/06/Disco-4.png
END:VEVENT
BEGIN:VEVENT
DTSTART;TZID=America/New_York:20260428T130000
DTEND;TZID=America/New_York:20260428T170000
DTSTAMP:20260422T014942
CREATED:20250612T195159Z
LAST-MODIFIED:20260403T193555Z
UID:10003750-1777381200-1777395600@www.kesslercollection.com
SUMMARY:Happy Hour at Cordova
DESCRIPTION:Step into Cordova for an elevated Happy Hour experience\, offered Monday through Thursday from 1:00 to 5:00 PM. Enjoy hand-selected wines\, signature drink specials\, and a complimentary tasting that turns your afternoon into a moment worth lingering over.
URL:https://www.kesslercollection.com/casa-monica/event/happy-hour-at-cordova-2/2026-04-28/
ATTACH;FMTTYPE=image/png:https://www.kesslercollection.com/casa-monica/wp-content/uploads/sites/6/2025/06/Disco-4.png
END:VEVENT
BEGIN:VEVENT
DTSTART;TZID=America/New_York:20260429T130000
DTEND;TZID=America/New_York:20260429T170000
DTSTAMP:20260422T014942
CREATED:20250612T195159Z
LAST-MODIFIED:20260403T193555Z
UID:10003751-1777467600-1777482000@www.kesslercollection.com
SUMMARY:Happy Hour at Cordova
DESCRIPTION:Step into Cordova for an elevated Happy Hour experience\, offered Monday through Thursday from 1:00 to 5:00 PM. Enjoy hand-selected wines\, signature drink specials\, and a complimentary tasting that turns your afternoon into a moment worth lingering over.
URL:https://www.kesslercollection.com/casa-monica/event/happy-hour-at-cordova-2/2026-04-29/
ATTACH;FMTTYPE=image/png:https://www.kesslercollection.com/casa-monica/wp-content/uploads/sites/6/2025/06/Disco-4.png
END:VEVENT
BEGIN:VEVENT
DTSTART;TZID=America/New_York:20260430T130000
DTEND;TZID=America/New_York:20260430T170000
DTSTAMP:20260422T014942
CREATED:20250612T195159Z
LAST-MODIFIED:20260403T193555Z
UID:10003752-1777554000-1777568400@www.kesslercollection.com
SUMMARY:Happy Hour at Cordova
DESCRIPTION:Step into Cordova for an elevated Happy Hour experience\, offered Monday through Thursday from 1:00 to 5:00 PM. Enjoy hand-selected wines\, signature drink specials\, and a complimentary tasting that turns your afternoon into a moment worth lingering over.
URL:https://www.kesslercollection.com/casa-monica/event/happy-hour-at-cordova-2/2026-04-30/
ATTACH;FMTTYPE=image/png:https://www.kesslercollection.com/casa-monica/wp-content/uploads/sites/6/2025/06/Disco-4.png
END:VEVENT
BEGIN:VEVENT
DTSTART;TZID=America/New_York:20260504T130000
DTEND;TZID=America/New_York:20260504T170000
DTSTAMP:20260422T014942
CREATED:20250612T195159Z
LAST-MODIFIED:20260403T193555Z
UID:10003753-1777899600-1777914000@www.kesslercollection.com
SUMMARY:Happy Hour at Cordova
DESCRIPTION:Step into Cordova for an elevated Happy Hour experience\, offered Monday through Thursday from 1:00 to 5:00 PM. Enjoy hand-selected wines\, signature drink specials\, and a complimentary tasting that turns your afternoon into a moment worth lingering over.
URL:https://www.kesslercollection.com/casa-monica/event/happy-hour-at-cordova-2/2026-05-04/
ATTACH;FMTTYPE=image/png:https://www.kesslercollection.com/casa-monica/wp-content/uploads/sites/6/2025/06/Disco-4.png
END:VEVENT
BEGIN:VEVENT
DTSTART;TZID=America/New_York:20260505T130000
DTEND;TZID=America/New_York:20260505T170000
DTSTAMP:20260422T014942
CREATED:20250612T195159Z
LAST-MODIFIED:20260403T193555Z
UID:10003754-1777986000-1778000400@www.kesslercollection.com
SUMMARY:Happy Hour at Cordova
DESCRIPTION:Step into Cordova for an elevated Happy Hour experience\, offered Monday through Thursday from 1:00 to 5:00 PM. Enjoy hand-selected wines\, signature drink specials\, and a complimentary tasting that turns your afternoon into a moment worth lingering over.
URL:https://www.kesslercollection.com/casa-monica/event/happy-hour-at-cordova-2/2026-05-05/
ATTACH;FMTTYPE=image/png:https://www.kesslercollection.com/casa-monica/wp-content/uploads/sites/6/2025/06/Disco-4.png
END:VEVENT
BEGIN:VEVENT
DTSTART;TZID=America/New_York:20260506T130000
DTEND;TZID=America/New_York:20260506T170000
DTSTAMP:20260422T014942
CREATED:20250612T195159Z
LAST-MODIFIED:20260403T193555Z
UID:10003755-1778072400-1778086800@www.kesslercollection.com
SUMMARY:Happy Hour at Cordova
DESCRIPTION:Step into Cordova for an elevated Happy Hour experience\, offered Monday through Thursday from 1:00 to 5:00 PM. Enjoy hand-selected wines\, signature drink specials\, and a complimentary tasting that turns your afternoon into a moment worth lingering over.
URL:https://www.kesslercollection.com/casa-monica/event/happy-hour-at-cordova-2/2026-05-06/
ATTACH;FMTTYPE=image/png:https://www.kesslercollection.com/casa-monica/wp-content/uploads/sites/6/2025/06/Disco-4.png
END:VEVENT
BEGIN:VEVENT
DTSTART;TZID=America/New_York:20260507T130000
DTEND;TZID=America/New_York:20260507T170000
DTSTAMP:20260422T014942
CREATED:20250612T195159Z
LAST-MODIFIED:20260403T193555Z
UID:10003756-1778158800-1778173200@www.kesslercollection.com
SUMMARY:Happy Hour at Cordova
DESCRIPTION:Step into Cordova for an elevated Happy Hour experience\, offered Monday through Thursday from 1:00 to 5:00 PM. Enjoy hand-selected wines\, signature drink specials\, and a complimentary tasting that turns your afternoon into a moment worth lingering over.
URL:https://www.kesslercollection.com/casa-monica/event/happy-hour-at-cordova-2/2026-05-07/
ATTACH;FMTTYPE=image/png:https://www.kesslercollection.com/casa-monica/wp-content/uploads/sites/6/2025/06/Disco-4.png
END:VEVENT
BEGIN:VEVENT
DTSTART;TZID=America/New_York:20260511T130000
DTEND;TZID=America/New_York:20260511T170000
DTSTAMP:20260422T014942
CREATED:20250612T195159Z
LAST-MODIFIED:20260403T193555Z
UID:10003757-1778504400-1778518800@www.kesslercollection.com
SUMMARY:Happy Hour at Cordova
DESCRIPTION:Step into Cordova for an elevated Happy Hour experience\, offered Monday through Thursday from 1:00 to 5:00 PM. Enjoy hand-selected wines\, signature drink specials\, and a complimentary tasting that turns your afternoon into a moment worth lingering over.
URL:https://www.kesslercollection.com/casa-monica/event/happy-hour-at-cordova-2/2026-05-11/
ATTACH;FMTTYPE=image/png:https://www.kesslercollection.com/casa-monica/wp-content/uploads/sites/6/2025/06/Disco-4.png
END:VEVENT
BEGIN:VEVENT
DTSTART;TZID=America/New_York:20260512T130000
DTEND;TZID=America/New_York:20260512T170000
DTSTAMP:20260422T014942
CREATED:20250612T195159Z
LAST-MODIFIED:20260403T193555Z
UID:10003758-1778590800-1778605200@www.kesslercollection.com
SUMMARY:Happy Hour at Cordova
DESCRIPTION:Step into Cordova for an elevated Happy Hour experience\, offered Monday through Thursday from 1:00 to 5:00 PM. Enjoy hand-selected wines\, signature drink specials\, and a complimentary tasting that turns your afternoon into a moment worth lingering over.
URL:https://www.kesslercollection.com/casa-monica/event/happy-hour-at-cordova-2/2026-05-12/
ATTACH;FMTTYPE=image/png:https://www.kesslercollection.com/casa-monica/wp-content/uploads/sites/6/2025/06/Disco-4.png
END:VEVENT
BEGIN:VEVENT
DTSTART;TZID=America/New_York:20260513T130000
DTEND;TZID=America/New_York:20260513T170000
DTSTAMP:20260422T014942
CREATED:20250612T195159Z
LAST-MODIFIED:20260403T193555Z
UID:10003759-1778677200-1778691600@www.kesslercollection.com
SUMMARY:Happy Hour at Cordova
DESCRIPTION:Step into Cordova for an elevated Happy Hour experience\, offered Monday through Thursday from 1:00 to 5:00 PM. Enjoy hand-selected wines\, signature drink specials\, and a complimentary tasting that turns your afternoon into a moment worth lingering over.
URL:https://www.kesslercollection.com/casa-monica/event/happy-hour-at-cordova-2/2026-05-13/
ATTACH;FMTTYPE=image/png:https://www.kesslercollection.com/casa-monica/wp-content/uploads/sites/6/2025/06/Disco-4.png
END:VEVENT
BEGIN:VEVENT
DTSTART;TZID=America/New_York:20260514T130000
DTEND;TZID=America/New_York:20260514T170000
DTSTAMP:20260422T014942
CREATED:20250612T195159Z
LAST-MODIFIED:20260403T193555Z
UID:10003760-1778763600-1778778000@www.kesslercollection.com
SUMMARY:Happy Hour at Cordova
DESCRIPTION:Step into Cordova for an elevated Happy Hour experience\, offered Monday through Thursday from 1:00 to 5:00 PM. Enjoy hand-selected wines\, signature drink specials\, and a complimentary tasting that turns your afternoon into a moment worth lingering over.
URL:https://www.kesslercollection.com/casa-monica/event/happy-hour-at-cordova-2/2026-05-14/
ATTACH;FMTTYPE=image/png:https://www.kesslercollection.com/casa-monica/wp-content/uploads/sites/6/2025/06/Disco-4.png
END:VEVENT
BEGIN:VEVENT
DTSTART;TZID=America/New_York:20260518T130000
DTEND;TZID=America/New_York:20260518T170000
DTSTAMP:20260422T014942
CREATED:20250612T195159Z
LAST-MODIFIED:20260403T193555Z
UID:10003761-1779109200-1779123600@www.kesslercollection.com
SUMMARY:Happy Hour at Cordova
DESCRIPTION:Step into Cordova for an elevated Happy Hour experience\, offered Monday through Thursday from 1:00 to 5:00 PM. Enjoy hand-selected wines\, signature drink specials\, and a complimentary tasting that turns your afternoon into a moment worth lingering over.
URL:https://www.kesslercollection.com/casa-monica/event/happy-hour-at-cordova-2/2026-05-18/
ATTACH;FMTTYPE=image/png:https://www.kesslercollection.com/casa-monica/wp-content/uploads/sites/6/2025/06/Disco-4.png
END:VEVENT
BEGIN:VEVENT
DTSTART;TZID=America/New_York:20260519T130000
DTEND;TZID=America/New_York:20260519T170000
DTSTAMP:20260422T014942
CREATED:20250612T195159Z
LAST-MODIFIED:20260403T193555Z
UID:10003762-1779195600-1779210000@www.kesslercollection.com
SUMMARY:Happy Hour at Cordova
DESCRIPTION:Step into Cordova for an elevated Happy Hour experience\, offered Monday through Thursday from 1:00 to 5:00 PM. Enjoy hand-selected wines\, signature drink specials\, and a complimentary tasting that turns your afternoon into a moment worth lingering over.
URL:https://www.kesslercollection.com/casa-monica/event/happy-hour-at-cordova-2/2026-05-19/
ATTACH;FMTTYPE=image/png:https://www.kesslercollection.com/casa-monica/wp-content/uploads/sites/6/2025/06/Disco-4.png
END:VEVENT
BEGIN:VEVENT
DTSTART;TZID=America/New_York:20260520T130000
DTEND;TZID=America/New_York:20260520T170000
DTSTAMP:20260422T014942
CREATED:20250612T195159Z
LAST-MODIFIED:20260403T193555Z
UID:10003763-1779282000-1779296400@www.kesslercollection.com
SUMMARY:Happy Hour at Cordova
DESCRIPTION:Step into Cordova for an elevated Happy Hour experience\, offered Monday through Thursday from 1:00 to 5:00 PM. Enjoy hand-selected wines\, signature drink specials\, and a complimentary tasting that turns your afternoon into a moment worth lingering over.
URL:https://www.kesslercollection.com/casa-monica/event/happy-hour-at-cordova-2/2026-05-20/
ATTACH;FMTTYPE=image/png:https://www.kesslercollection.com/casa-monica/wp-content/uploads/sites/6/2025/06/Disco-4.png
END:VEVENT
BEGIN:VEVENT
DTSTART;TZID=America/New_York:20260521T130000
DTEND;TZID=America/New_York:20260521T170000
DTSTAMP:20260422T014942
CREATED:20250612T195159Z
LAST-MODIFIED:20260403T193555Z
UID:10003764-1779368400-1779382800@www.kesslercollection.com
SUMMARY:Happy Hour at Cordova
DESCRIPTION:Step into Cordova for an elevated Happy Hour experience\, offered Monday through Thursday from 1:00 to 5:00 PM. Enjoy hand-selected wines\, signature drink specials\, and a complimentary tasting that turns your afternoon into a moment worth lingering over.
URL:https://www.kesslercollection.com/casa-monica/event/happy-hour-at-cordova-2/2026-05-21/
ATTACH;FMTTYPE=image/png:https://www.kesslercollection.com/casa-monica/wp-content/uploads/sites/6/2025/06/Disco-4.png
END:VEVENT
BEGIN:VEVENT
DTSTART;TZID=America/New_York:20260525T130000
DTEND;TZID=America/New_York:20260525T170000
DTSTAMP:20260422T014942
CREATED:20250612T195159Z
LAST-MODIFIED:20260403T193555Z
UID:10003765-1779714000-1779728400@www.kesslercollection.com
SUMMARY:Happy Hour at Cordova
DESCRIPTION:Step into Cordova for an elevated Happy Hour experience\, offered Monday through Thursday from 1:00 to 5:00 PM. Enjoy hand-selected wines\, signature drink specials\, and a complimentary tasting that turns your afternoon into a moment worth lingering over.
URL:https://www.kesslercollection.com/casa-monica/event/happy-hour-at-cordova-2/2026-05-25/
ATTACH;FMTTYPE=image/png:https://www.kesslercollection.com/casa-monica/wp-content/uploads/sites/6/2025/06/Disco-4.png
END:VEVENT
BEGIN:VEVENT
DTSTART;TZID=America/New_York:20260526T130000
DTEND;TZID=America/New_York:20260526T170000
DTSTAMP:20260422T014942
CREATED:20250612T195159Z
LAST-MODIFIED:20260403T193555Z
UID:10003766-1779800400-1779814800@www.kesslercollection.com
SUMMARY:Happy Hour at Cordova
DESCRIPTION:Step into Cordova for an elevated Happy Hour experience\, offered Monday through Thursday from 1:00 to 5:00 PM. Enjoy hand-selected wines\, signature drink specials\, and a complimentary tasting that turns your afternoon into a moment worth lingering over.
URL:https://www.kesslercollection.com/casa-monica/event/happy-hour-at-cordova-2/2026-05-26/
ATTACH;FMTTYPE=image/png:https://www.kesslercollection.com/casa-monica/wp-content/uploads/sites/6/2025/06/Disco-4.png
END:VEVENT
BEGIN:VEVENT
DTSTART;TZID=America/New_York:20260527T130000
DTEND;TZID=America/New_York:20260527T170000
DTSTAMP:20260422T014942
CREATED:20250612T195159Z
LAST-MODIFIED:20260403T193555Z
UID:10003767-1779886800-1779901200@www.kesslercollection.com
SUMMARY:Happy Hour at Cordova
DESCRIPTION:Step into Cordova for an elevated Happy Hour experience\, offered Monday through Thursday from 1:00 to 5:00 PM. Enjoy hand-selected wines\, signature drink specials\, and a complimentary tasting that turns your afternoon into a moment worth lingering over.
URL:https://www.kesslercollection.com/casa-monica/event/happy-hour-at-cordova-2/2026-05-27/
ATTACH;FMTTYPE=image/png:https://www.kesslercollection.com/casa-monica/wp-content/uploads/sites/6/2025/06/Disco-4.png
END:VEVENT
BEGIN:VEVENT
DTSTART;TZID=America/New_York:20260528T130000
DTEND;TZID=America/New_York:20260528T170000
DTSTAMP:20260422T014942
CREATED:20250612T195159Z
LAST-MODIFIED:20260403T193555Z
UID:10003768-1779973200-1779987600@www.kesslercollection.com
SUMMARY:Happy Hour at Cordova
DESCRIPTION:Step into Cordova for an elevated Happy Hour experience\, offered Monday through Thursday from 1:00 to 5:00 PM. Enjoy hand-selected wines\, signature drink specials\, and a complimentary tasting that turns your afternoon into a moment worth lingering over.
URL:https://www.kesslercollection.com/casa-monica/event/happy-hour-at-cordova-2/2026-05-28/
ATTACH;FMTTYPE=image/png:https://www.kesslercollection.com/casa-monica/wp-content/uploads/sites/6/2025/06/Disco-4.png
END:VEVENT
BEGIN:VEVENT
DTSTART;TZID=America/New_York:20260601T130000
DTEND;TZID=America/New_York:20260601T170000
DTSTAMP:20260422T014942
CREATED:20250612T195159Z
LAST-MODIFIED:20260403T193555Z
UID:10003769-1780318800-1780333200@www.kesslercollection.com
SUMMARY:Happy Hour at Cordova
DESCRIPTION:Step into Cordova for an elevated Happy Hour experience\, offered Monday through Thursday from 1:00 to 5:00 PM. Enjoy hand-selected wines\, signature drink specials\, and a complimentary tasting that turns your afternoon into a moment worth lingering over.
URL:https://www.kesslercollection.com/casa-monica/event/happy-hour-at-cordova-2/2026-06-01/
ATTACH;FMTTYPE=image/png:https://www.kesslercollection.com/casa-monica/wp-content/uploads/sites/6/2025/06/Disco-4.png
END:VEVENT
BEGIN:VEVENT
DTSTART;TZID=America/New_York:20260602T130000
DTEND;TZID=America/New_York:20260602T170000
DTSTAMP:20260422T014942
CREATED:20250612T195159Z
LAST-MODIFIED:20260403T193555Z
UID:10003770-1780405200-1780419600@www.kesslercollection.com
SUMMARY:Happy Hour at Cordova
DESCRIPTION:Step into Cordova for an elevated Happy Hour experience\, offered Monday through Thursday from 1:00 to 5:00 PM. Enjoy hand-selected wines\, signature drink specials\, and a complimentary tasting that turns your afternoon into a moment worth lingering over.
URL:https://www.kesslercollection.com/casa-monica/event/happy-hour-at-cordova-2/2026-06-02/
ATTACH;FMTTYPE=image/png:https://www.kesslercollection.com/casa-monica/wp-content/uploads/sites/6/2025/06/Disco-4.png
END:VEVENT
BEGIN:VEVENT
DTSTART;TZID=America/New_York:20260603T130000
DTEND;TZID=America/New_York:20260603T170000
DTSTAMP:20260422T014942
CREATED:20250612T195159Z
LAST-MODIFIED:20260403T193555Z
UID:10003771-1780491600-1780506000@www.kesslercollection.com
SUMMARY:Happy Hour at Cordova
DESCRIPTION:Step into Cordova for an elevated Happy Hour experience\, offered Monday through Thursday from 1:00 to 5:00 PM. Enjoy hand-selected wines\, signature drink specials\, and a complimentary tasting that turns your afternoon into a moment worth lingering over.
URL:https://www.kesslercollection.com/casa-monica/event/happy-hour-at-cordova-2/2026-06-03/
ATTACH;FMTTYPE=image/png:https://www.kesslercollection.com/casa-monica/wp-content/uploads/sites/6/2025/06/Disco-4.png
END:VEVENT
BEGIN:VEVENT
DTSTART;TZID=America/New_York:20260604T130000
DTEND;TZID=America/New_York:20260604T170000
DTSTAMP:20260422T014942
CREATED:20250612T195159Z
LAST-MODIFIED:20260403T193555Z
UID:10003772-1780578000-1780592400@www.kesslercollection.com
SUMMARY:Happy Hour at Cordova
DESCRIPTION:Step into Cordova for an elevated Happy Hour experience\, offered Monday through Thursday from 1:00 to 5:00 PM. Enjoy hand-selected wines\, signature drink specials\, and a complimentary tasting that turns your afternoon into a moment worth lingering over.
URL:https://www.kesslercollection.com/casa-monica/event/happy-hour-at-cordova-2/2026-06-04/
ATTACH;FMTTYPE=image/png:https://www.kesslercollection.com/casa-monica/wp-content/uploads/sites/6/2025/06/Disco-4.png
END:VEVENT
BEGIN:VEVENT
DTSTART;TZID=America/New_York:20260608T130000
DTEND;TZID=America/New_York:20260608T170000
DTSTAMP:20260422T014942
CREATED:20250612T195159Z
LAST-MODIFIED:20260403T193555Z
UID:10003773-1780923600-1780938000@www.kesslercollection.com
SUMMARY:Happy Hour at Cordova
DESCRIPTION:Step into Cordova for an elevated Happy Hour experience\, offered Monday through Thursday from 1:00 to 5:00 PM. Enjoy hand-selected wines\, signature drink specials\, and a complimentary tasting that turns your afternoon into a moment worth lingering over.
URL:https://www.kesslercollection.com/casa-monica/event/happy-hour-at-cordova-2/2026-06-08/
ATTACH;FMTTYPE=image/png:https://www.kesslercollection.com/casa-monica/wp-content/uploads/sites/6/2025/06/Disco-4.png
END:VEVENT
BEGIN:VEVENT
DTSTART;TZID=America/New_York:20260609T130000
DTEND;TZID=America/New_York:20260609T170000
DTSTAMP:20260422T014942
CREATED:20250612T195159Z
LAST-MODIFIED:20260403T193555Z
UID:10003774-1781010000-1781024400@www.kesslercollection.com
SUMMARY:Happy Hour at Cordova
DESCRIPTION:Step into Cordova for an elevated Happy Hour experience\, offered Monday through Thursday from 1:00 to 5:00 PM. Enjoy hand-selected wines\, signature drink specials\, and a complimentary tasting that turns your afternoon into a moment worth lingering over.
URL:https://www.kesslercollection.com/casa-monica/event/happy-hour-at-cordova-2/2026-06-09/
ATTACH;FMTTYPE=image/png:https://www.kesslercollection.com/casa-monica/wp-content/uploads/sites/6/2025/06/Disco-4.png
END:VEVENT
BEGIN:VEVENT
DTSTART;TZID=America/New_York:20260610T130000
DTEND;TZID=America/New_York:20260610T170000
DTSTAMP:20260422T014942
CREATED:20250612T195159Z
LAST-MODIFIED:20260403T193555Z
UID:10003775-1781096400-1781110800@www.kesslercollection.com
SUMMARY:Happy Hour at Cordova
DESCRIPTION:Step into Cordova for an elevated Happy Hour experience\, offered Monday through Thursday from 1:00 to 5:00 PM. Enjoy hand-selected wines\, signature drink specials\, and a complimentary tasting that turns your afternoon into a moment worth lingering over.
URL:https://www.kesslercollection.com/casa-monica/event/happy-hour-at-cordova-2/2026-06-10/
ATTACH;FMTTYPE=image/png:https://www.kesslercollection.com/casa-monica/wp-content/uploads/sites/6/2025/06/Disco-4.png
END:VEVENT
BEGIN:VEVENT
DTSTART;TZID=America/New_York:20260611T130000
DTEND;TZID=America/New_York:20260611T170000
DTSTAMP:20260422T014942
CREATED:20250612T195159Z
LAST-MODIFIED:20260403T193555Z
UID:10003776-1781182800-1781197200@www.kesslercollection.com
SUMMARY:Happy Hour at Cordova
DESCRIPTION:Step into Cordova for an elevated Happy Hour experience\, offered Monday through Thursday from 1:00 to 5:00 PM. Enjoy hand-selected wines\, signature drink specials\, and a complimentary tasting that turns your afternoon into a moment worth lingering over.
URL:https://www.kesslercollection.com/casa-monica/event/happy-hour-at-cordova-2/2026-06-11/
ATTACH;FMTTYPE=image/png:https://www.kesslercollection.com/casa-monica/wp-content/uploads/sites/6/2025/06/Disco-4.png
END:VEVENT
END:VCALENDAR