BEGIN:VCALENDAR
VERSION:2.0
PRODID:-//Casa Monica Resort &amp; Spa - ECPv6.15.20//NONSGML v1.0//EN
CALSCALE:GREGORIAN
METHOD:PUBLISH
X-WR-CALNAME:Casa Monica Resort &amp; Spa
X-ORIGINAL-URL:https://www.kesslercollection.com/casa-monica
X-WR-CALDESC:Events for Casa Monica Resort &amp; Spa
REFRESH-INTERVAL;VALUE=DURATION:PT1H
X-Robots-Tag:noindex
X-PUBLISHED-TTL:PT1H
BEGIN:VTIMEZONE
TZID:America/New_York
BEGIN:DAYLIGHT
TZOFFSETFROM:-0500
TZOFFSETTO:-0400
TZNAME:EDT
DTSTART:20250309T070000
END:DAYLIGHT
BEGIN:STANDARD
TZOFFSETFROM:-0400
TZOFFSETTO:-0500
TZNAME:EST
DTSTART:20251102T060000
END:STANDARD
BEGIN:DAYLIGHT
TZOFFSETFROM:-0500
TZOFFSETTO:-0400
TZNAME:EDT
DTSTART:20260308T070000
END:DAYLIGHT
BEGIN:STANDARD
TZOFFSETFROM:-0400
TZOFFSETTO:-0500
TZNAME:EST
DTSTART:20261101T060000
END:STANDARD
BEGIN:DAYLIGHT
TZOFFSETFROM:-0500
TZOFFSETTO:-0400
TZNAME:EDT
DTSTART:20270314T070000
END:DAYLIGHT
BEGIN:STANDARD
TZOFFSETFROM:-0400
TZOFFSETTO:-0500
TZNAME:EST
DTSTART:20271107T060000
END:STANDARD
END:VTIMEZONE
BEGIN:VEVENT
DTSTART;TZID=America/New_York:20260301T110000
DTEND;TZID=America/New_York:20260301T140000
DTSTAMP:20260425T192631
CREATED:20240916T172455Z
LAST-MODIFIED:20260303T195139Z
UID:10003097-1772362800-1772373600@www.kesslercollection.com
SUMMARY:Brunch at Cordova
DESCRIPTION:Brunch like never before at Cordova on Saturdays and Sundays from 11:00 AM – 2:00 PM. Indulge in a chef’s board\, choice of entrée\, and a dessert tower as the soothing tunes of live jazz entertainment create an enchanting atmosphere.
URL:https://www.kesslercollection.com/casa-monica/event/brunch-at-cordova-5/2026-03-01/
LOCATION:Cordova\, 95 Cordova St\, St. Augustine\, FL\, 32084\, United States
ATTACH;FMTTYPE=image/jpeg:https://www.kesslercollection.com/casa-monica/wp-content/uploads/sites/6/2024/09/CORDOVA-Spring24-2660.jpg
END:VEVENT
BEGIN:VEVENT
DTSTART;TZID=America/New_York:20260301T170000
DTEND;TZID=America/New_York:20260301T220000
DTSTAMP:20260425T192631
CREATED:20250519T150551Z
LAST-MODIFIED:20260320T193212Z
UID:10002789-1772384400-1772402400@www.kesslercollection.com
SUMMARY:Sangria Sundays at Cordova
DESCRIPTION:Enjoy 50% off our signature Cordova Sangria every Sunday from 5:00 PM – 10:00 PM. Delightful and refreshing\, discover the perfect blend of flavors to sweeten up your weekend with Sangria Sundays at Cordova.
URL:https://www.kesslercollection.com/casa-monica/event/sangria-sundays-at-cordova-2-2/2026-03-01/
LOCATION:Cordova\, 95 Cordova St\, St. Augustine\, FL\, 32084\, United States
ATTACH;FMTTYPE=image/png:https://www.kesslercollection.com/casa-monica/wp-content/uploads/sites/6/2025/05/Sangria-Sunday.png
END:VEVENT
BEGIN:VEVENT
DTSTART;TZID=America/New_York:20260302T130000
DTEND;TZID=America/New_York:20260302T170000
DTSTAMP:20260425T192631
CREATED:20250612T195159Z
LAST-MODIFIED:20260403T193555Z
UID:10003717-1772456400-1772470800@www.kesslercollection.com
SUMMARY:Happy Hour at Cordova
DESCRIPTION:Step into Cordova for an elevated Happy Hour experience\, offered Monday through Thursday from 1:00 to 5:00 PM. Enjoy hand-selected wines\, signature drink specials\, and a complimentary tasting that turns your afternoon into a moment worth lingering over.
URL:https://www.kesslercollection.com/casa-monica/event/happy-hour-at-cordova-2/2026-03-02/
ATTACH;FMTTYPE=image/png:https://www.kesslercollection.com/casa-monica/wp-content/uploads/sites/6/2025/06/Disco-4.png
END:VEVENT
BEGIN:VEVENT
DTSTART;TZID=America/New_York:20260303T130000
DTEND;TZID=America/New_York:20260303T170000
DTSTAMP:20260425T192631
CREATED:20250612T195159Z
LAST-MODIFIED:20260403T193555Z
UID:10003718-1772542800-1772557200@www.kesslercollection.com
SUMMARY:Happy Hour at Cordova
DESCRIPTION:Step into Cordova for an elevated Happy Hour experience\, offered Monday through Thursday from 1:00 to 5:00 PM. Enjoy hand-selected wines\, signature drink specials\, and a complimentary tasting that turns your afternoon into a moment worth lingering over.
URL:https://www.kesslercollection.com/casa-monica/event/happy-hour-at-cordova-2/2026-03-03/
ATTACH;FMTTYPE=image/png:https://www.kesslercollection.com/casa-monica/wp-content/uploads/sites/6/2025/06/Disco-4.png
END:VEVENT
BEGIN:VEVENT
DTSTART;TZID=America/New_York:20260304T130000
DTEND;TZID=America/New_York:20260304T170000
DTSTAMP:20260425T192631
CREATED:20250612T195159Z
LAST-MODIFIED:20260403T193555Z
UID:10003719-1772629200-1772643600@www.kesslercollection.com
SUMMARY:Happy Hour at Cordova
DESCRIPTION:Step into Cordova for an elevated Happy Hour experience\, offered Monday through Thursday from 1:00 to 5:00 PM. Enjoy hand-selected wines\, signature drink specials\, and a complimentary tasting that turns your afternoon into a moment worth lingering over.
URL:https://www.kesslercollection.com/casa-monica/event/happy-hour-at-cordova-2/2026-03-04/
ATTACH;FMTTYPE=image/png:https://www.kesslercollection.com/casa-monica/wp-content/uploads/sites/6/2025/06/Disco-4.png
END:VEVENT
BEGIN:VEVENT
DTSTART;TZID=America/New_York:20260304T150000
DTEND;TZID=America/New_York:20260304T220000
DTSTAMP:20260425T192631
CREATED:20250420T045058Z
LAST-MODIFIED:20260122T221314Z
UID:10004706-1772636400-1772661600@www.kesslercollection.com
SUMMARY:Wine Down Wednesday
DESCRIPTION:Unwind from the midweek hustle with 50% off a selection of fine wines by the bottle and appetizers. Join us on Wednesdays from 3:00 PM – 10:00 PM to experience a curated wine selection perfect for pairing with our coastal chophouse menu.
URL:https://www.kesslercollection.com/casa-monica/event/wine-down-wednesday-3-2/2026-03-04/
LOCATION:Cordova\, 95 Cordova St\, St. Augustine\, FL\, 32084\, United States
ATTACH;FMTTYPE=image/png:https://www.kesslercollection.com/casa-monica/wp-content/uploads/sites/6/2025/06/Wine-Down-Wednesday.png
END:VEVENT
BEGIN:VEVENT
DTSTART;TZID=America/New_York:20260305T130000
DTEND;TZID=America/New_York:20260305T170000
DTSTAMP:20260425T192631
CREATED:20250612T195159Z
LAST-MODIFIED:20260403T193555Z
UID:10003720-1772715600-1772730000@www.kesslercollection.com
SUMMARY:Happy Hour at Cordova
DESCRIPTION:Step into Cordova for an elevated Happy Hour experience\, offered Monday through Thursday from 1:00 to 5:00 PM. Enjoy hand-selected wines\, signature drink specials\, and a complimentary tasting that turns your afternoon into a moment worth lingering over.
URL:https://www.kesslercollection.com/casa-monica/event/happy-hour-at-cordova-2/2026-03-05/
ATTACH;FMTTYPE=image/png:https://www.kesslercollection.com/casa-monica/wp-content/uploads/sites/6/2025/06/Disco-4.png
END:VEVENT
BEGIN:VEVENT
DTSTART;TZID=America/New_York:20260307T110000
DTEND;TZID=America/New_York:20260307T140000
DTSTAMP:20260425T192631
CREATED:20240916T172455Z
LAST-MODIFIED:20260303T195139Z
UID:10003098-1772881200-1772892000@www.kesslercollection.com
SUMMARY:Brunch at Cordova
DESCRIPTION:Brunch like never before at Cordova on Saturdays and Sundays from 11:00 AM – 2:00 PM. Indulge in a chef’s board\, choice of entrée\, and a dessert tower as the soothing tunes of live jazz entertainment create an enchanting atmosphere.
URL:https://www.kesslercollection.com/casa-monica/event/brunch-at-cordova-5/2026-03-07/
LOCATION:Cordova\, 95 Cordova St\, St. Augustine\, FL\, 32084\, United States
ATTACH;FMTTYPE=image/jpeg:https://www.kesslercollection.com/casa-monica/wp-content/uploads/sites/6/2024/09/CORDOVA-Spring24-2660.jpg
END:VEVENT
BEGIN:VEVENT
DTSTART;TZID=America/New_York:20260307T180000
DTEND;TZID=America/New_York:20260307T180000
DTSTAMP:20260425T192631
CREATED:20260130T173434Z
LAST-MODIFIED:20260130T174123Z
UID:10005133-1772906400-1772906400@www.kesslercollection.com
SUMMARY:Magic Hideaway
DESCRIPTION:Discover one of the most intimate magic shows in the world featuring interactive mind-bending illusions happening mere inches away from your seat. End your evening with a post-performance social and an opportunity for photos and autographs with the Master Magician Bill Abbott.
URL:https://www.kesslercollection.com/casa-monica/event/magic-hideaway-2-2-2/2026-03-07/
LOCATION:Casa Monica Resort & Spa\, 95 Cordova St.\, St. Augustine\, FL\, 32084\, United States
ATTACH;FMTTYPE=image/jpeg:https://www.kesslercollection.com/casa-monica/wp-content/uploads/sites/6/2024/07/Magic-HIdeaway.jpeg
END:VEVENT
BEGIN:VEVENT
DTSTART;TZID=America/New_York:20260308T110000
DTEND;TZID=America/New_York:20260308T140000
DTSTAMP:20260425T192631
CREATED:20240916T172455Z
LAST-MODIFIED:20260303T195139Z
UID:10003099-1772967600-1772978400@www.kesslercollection.com
SUMMARY:Brunch at Cordova
DESCRIPTION:Brunch like never before at Cordova on Saturdays and Sundays from 11:00 AM – 2:00 PM. Indulge in a chef’s board\, choice of entrée\, and a dessert tower as the soothing tunes of live jazz entertainment create an enchanting atmosphere.
URL:https://www.kesslercollection.com/casa-monica/event/brunch-at-cordova-5/2026-03-08/
LOCATION:Cordova\, 95 Cordova St\, St. Augustine\, FL\, 32084\, United States
ATTACH;FMTTYPE=image/jpeg:https://www.kesslercollection.com/casa-monica/wp-content/uploads/sites/6/2024/09/CORDOVA-Spring24-2660.jpg
END:VEVENT
BEGIN:VEVENT
DTSTART;TZID=America/New_York:20260308T170000
DTEND;TZID=America/New_York:20260308T220000
DTSTAMP:20260425T192631
CREATED:20250519T150551Z
LAST-MODIFIED:20260320T193212Z
UID:10002790-1772989200-1773007200@www.kesslercollection.com
SUMMARY:Sangria Sundays at Cordova
DESCRIPTION:Enjoy 50% off our signature Cordova Sangria every Sunday from 5:00 PM – 10:00 PM. Delightful and refreshing\, discover the perfect blend of flavors to sweeten up your weekend with Sangria Sundays at Cordova.
URL:https://www.kesslercollection.com/casa-monica/event/sangria-sundays-at-cordova-2-2/2026-03-08/
LOCATION:Cordova\, 95 Cordova St\, St. Augustine\, FL\, 32084\, United States
ATTACH;FMTTYPE=image/png:https://www.kesslercollection.com/casa-monica/wp-content/uploads/sites/6/2025/05/Sangria-Sunday.png
END:VEVENT
BEGIN:VEVENT
DTSTART;TZID=America/New_York:20260309T130000
DTEND;TZID=America/New_York:20260309T170000
DTSTAMP:20260425T192631
CREATED:20250612T195159Z
LAST-MODIFIED:20260403T193555Z
UID:10003721-1773061200-1773075600@www.kesslercollection.com
SUMMARY:Happy Hour at Cordova
DESCRIPTION:Step into Cordova for an elevated Happy Hour experience\, offered Monday through Thursday from 1:00 to 5:00 PM. Enjoy hand-selected wines\, signature drink specials\, and a complimentary tasting that turns your afternoon into a moment worth lingering over.
URL:https://www.kesslercollection.com/casa-monica/event/happy-hour-at-cordova-2/2026-03-09/
ATTACH;FMTTYPE=image/png:https://www.kesslercollection.com/casa-monica/wp-content/uploads/sites/6/2025/06/Disco-4.png
END:VEVENT
BEGIN:VEVENT
DTSTART;TZID=America/New_York:20260310T130000
DTEND;TZID=America/New_York:20260310T170000
DTSTAMP:20260425T192631
CREATED:20250612T195159Z
LAST-MODIFIED:20260403T193555Z
UID:10003722-1773147600-1773162000@www.kesslercollection.com
SUMMARY:Happy Hour at Cordova
DESCRIPTION:Step into Cordova for an elevated Happy Hour experience\, offered Monday through Thursday from 1:00 to 5:00 PM. Enjoy hand-selected wines\, signature drink specials\, and a complimentary tasting that turns your afternoon into a moment worth lingering over.
URL:https://www.kesslercollection.com/casa-monica/event/happy-hour-at-cordova-2/2026-03-10/
ATTACH;FMTTYPE=image/png:https://www.kesslercollection.com/casa-monica/wp-content/uploads/sites/6/2025/06/Disco-4.png
END:VEVENT
BEGIN:VEVENT
DTSTART;TZID=America/New_York:20260311T130000
DTEND;TZID=America/New_York:20260311T170000
DTSTAMP:20260425T192631
CREATED:20250612T195159Z
LAST-MODIFIED:20260403T193555Z
UID:10003723-1773234000-1773248400@www.kesslercollection.com
SUMMARY:Happy Hour at Cordova
DESCRIPTION:Step into Cordova for an elevated Happy Hour experience\, offered Monday through Thursday from 1:00 to 5:00 PM. Enjoy hand-selected wines\, signature drink specials\, and a complimentary tasting that turns your afternoon into a moment worth lingering over.
URL:https://www.kesslercollection.com/casa-monica/event/happy-hour-at-cordova-2/2026-03-11/
ATTACH;FMTTYPE=image/png:https://www.kesslercollection.com/casa-monica/wp-content/uploads/sites/6/2025/06/Disco-4.png
END:VEVENT
BEGIN:VEVENT
DTSTART;TZID=America/New_York:20260311T150000
DTEND;TZID=America/New_York:20260311T220000
DTSTAMP:20260425T192631
CREATED:20250420T045058Z
LAST-MODIFIED:20260122T221314Z
UID:10004707-1773241200-1773266400@www.kesslercollection.com
SUMMARY:Wine Down Wednesday
DESCRIPTION:Unwind from the midweek hustle with 50% off a selection of fine wines by the bottle and appetizers. Join us on Wednesdays from 3:00 PM – 10:00 PM to experience a curated wine selection perfect for pairing with our coastal chophouse menu.
URL:https://www.kesslercollection.com/casa-monica/event/wine-down-wednesday-3-2/2026-03-11/
LOCATION:Cordova\, 95 Cordova St\, St. Augustine\, FL\, 32084\, United States
ATTACH;FMTTYPE=image/png:https://www.kesslercollection.com/casa-monica/wp-content/uploads/sites/6/2025/06/Wine-Down-Wednesday.png
END:VEVENT
BEGIN:VEVENT
DTSTART;TZID=America/New_York:20260312T130000
DTEND;TZID=America/New_York:20260312T170000
DTSTAMP:20260425T192631
CREATED:20250612T195159Z
LAST-MODIFIED:20260403T193555Z
UID:10003724-1773320400-1773334800@www.kesslercollection.com
SUMMARY:Happy Hour at Cordova
DESCRIPTION:Step into Cordova for an elevated Happy Hour experience\, offered Monday through Thursday from 1:00 to 5:00 PM. Enjoy hand-selected wines\, signature drink specials\, and a complimentary tasting that turns your afternoon into a moment worth lingering over.
URL:https://www.kesslercollection.com/casa-monica/event/happy-hour-at-cordova-2/2026-03-12/
ATTACH;FMTTYPE=image/png:https://www.kesslercollection.com/casa-monica/wp-content/uploads/sites/6/2025/06/Disco-4.png
END:VEVENT
BEGIN:VEVENT
DTSTART;TZID=America/New_York:20260314T110000
DTEND;TZID=America/New_York:20260314T140000
DTSTAMP:20260425T192631
CREATED:20240916T172455Z
LAST-MODIFIED:20260303T195139Z
UID:10003100-1773486000-1773496800@www.kesslercollection.com
SUMMARY:Brunch at Cordova
DESCRIPTION:Brunch like never before at Cordova on Saturdays and Sundays from 11:00 AM – 2:00 PM. Indulge in a chef’s board\, choice of entrée\, and a dessert tower as the soothing tunes of live jazz entertainment create an enchanting atmosphere.
URL:https://www.kesslercollection.com/casa-monica/event/brunch-at-cordova-5/2026-03-14/
LOCATION:Cordova\, 95 Cordova St\, St. Augustine\, FL\, 32084\, United States
ATTACH;FMTTYPE=image/jpeg:https://www.kesslercollection.com/casa-monica/wp-content/uploads/sites/6/2024/09/CORDOVA-Spring24-2660.jpg
END:VEVENT
BEGIN:VEVENT
DTSTART;TZID=America/New_York:20260314T180000
DTEND;TZID=America/New_York:20260314T180000
DTSTAMP:20260425T192631
CREATED:20260130T173434Z
LAST-MODIFIED:20260130T174123Z
UID:10005134-1773511200-1773511200@www.kesslercollection.com
SUMMARY:Magic Hideaway
DESCRIPTION:Discover one of the most intimate magic shows in the world featuring interactive mind-bending illusions happening mere inches away from your seat. End your evening with a post-performance social and an opportunity for photos and autographs with the Master Magician Bill Abbott.
URL:https://www.kesslercollection.com/casa-monica/event/magic-hideaway-2-2-2/2026-03-14/
LOCATION:Casa Monica Resort & Spa\, 95 Cordova St.\, St. Augustine\, FL\, 32084\, United States
ATTACH;FMTTYPE=image/jpeg:https://www.kesslercollection.com/casa-monica/wp-content/uploads/sites/6/2024/07/Magic-HIdeaway.jpeg
END:VEVENT
BEGIN:VEVENT
DTSTART;TZID=America/New_York:20260315T110000
DTEND;TZID=America/New_York:20260315T140000
DTSTAMP:20260425T192631
CREATED:20240916T172455Z
LAST-MODIFIED:20260303T195139Z
UID:10003101-1773572400-1773583200@www.kesslercollection.com
SUMMARY:Brunch at Cordova
DESCRIPTION:Brunch like never before at Cordova on Saturdays and Sundays from 11:00 AM – 2:00 PM. Indulge in a chef’s board\, choice of entrée\, and a dessert tower as the soothing tunes of live jazz entertainment create an enchanting atmosphere.
URL:https://www.kesslercollection.com/casa-monica/event/brunch-at-cordova-5/2026-03-15/
LOCATION:Cordova\, 95 Cordova St\, St. Augustine\, FL\, 32084\, United States
ATTACH;FMTTYPE=image/jpeg:https://www.kesslercollection.com/casa-monica/wp-content/uploads/sites/6/2024/09/CORDOVA-Spring24-2660.jpg
END:VEVENT
BEGIN:VEVENT
DTSTART;TZID=America/New_York:20260315T170000
DTEND;TZID=America/New_York:20260315T220000
DTSTAMP:20260425T192631
CREATED:20250519T150551Z
LAST-MODIFIED:20260320T193212Z
UID:10002791-1773594000-1773612000@www.kesslercollection.com
SUMMARY:Sangria Sundays at Cordova
DESCRIPTION:Enjoy 50% off our signature Cordova Sangria every Sunday from 5:00 PM – 10:00 PM. Delightful and refreshing\, discover the perfect blend of flavors to sweeten up your weekend with Sangria Sundays at Cordova.
URL:https://www.kesslercollection.com/casa-monica/event/sangria-sundays-at-cordova-2-2/2026-03-15/
LOCATION:Cordova\, 95 Cordova St\, St. Augustine\, FL\, 32084\, United States
ATTACH;FMTTYPE=image/png:https://www.kesslercollection.com/casa-monica/wp-content/uploads/sites/6/2025/05/Sangria-Sunday.png
END:VEVENT
BEGIN:VEVENT
DTSTART;TZID=America/New_York:20260316T130000
DTEND;TZID=America/New_York:20260316T170000
DTSTAMP:20260425T192631
CREATED:20250612T195159Z
LAST-MODIFIED:20260403T193555Z
UID:10003725-1773666000-1773680400@www.kesslercollection.com
SUMMARY:Happy Hour at Cordova
DESCRIPTION:Step into Cordova for an elevated Happy Hour experience\, offered Monday through Thursday from 1:00 to 5:00 PM. Enjoy hand-selected wines\, signature drink specials\, and a complimentary tasting that turns your afternoon into a moment worth lingering over.
URL:https://www.kesslercollection.com/casa-monica/event/happy-hour-at-cordova-2/2026-03-16/
ATTACH;FMTTYPE=image/png:https://www.kesslercollection.com/casa-monica/wp-content/uploads/sites/6/2025/06/Disco-4.png
END:VEVENT
BEGIN:VEVENT
DTSTART;VALUE=DATE:20260317
DTEND;VALUE=DATE:20260318
DTSTAMP:20260425T192631
CREATED:20260217T194114Z
LAST-MODIFIED:20260217T194334Z
UID:10005395-1773705600-1773791999@www.kesslercollection.com
SUMMARY:St. Patrick's Day at Cordova
DESCRIPTION:Celebrate St. Patrick’s Day at Cordova with festive drink specials available all day at the bar. Enjoy classic Irish Coffee for $10 and pints of Guinness for $6 in a relaxed\, lively setting—perfect for toasting the holiday with friends.
URL:https://www.kesslercollection.com/casa-monica/event/st-patricks-day-at-cordova-bar/
LOCATION:Córdova\, 95 Cordova St.\, St. Augustine\, FL\, 32084\, United States
ATTACH;FMTTYPE=image/jpeg:https://www.kesslercollection.com/casa-monica/wp-content/uploads/sites/6/2024/01/CMRS-Dining-hero24-3.jpg
END:VEVENT
BEGIN:VEVENT
DTSTART;TZID=America/New_York:20260317T130000
DTEND;TZID=America/New_York:20260317T170000
DTSTAMP:20260425T192631
CREATED:20250612T195159Z
LAST-MODIFIED:20260403T193555Z
UID:10003726-1773752400-1773766800@www.kesslercollection.com
SUMMARY:Happy Hour at Cordova
DESCRIPTION:Step into Cordova for an elevated Happy Hour experience\, offered Monday through Thursday from 1:00 to 5:00 PM. Enjoy hand-selected wines\, signature drink specials\, and a complimentary tasting that turns your afternoon into a moment worth lingering over.
URL:https://www.kesslercollection.com/casa-monica/event/happy-hour-at-cordova-2/2026-03-17/
ATTACH;FMTTYPE=image/png:https://www.kesslercollection.com/casa-monica/wp-content/uploads/sites/6/2025/06/Disco-4.png
END:VEVENT
BEGIN:VEVENT
DTSTART;TZID=America/New_York:20260318T130000
DTEND;TZID=America/New_York:20260318T170000
DTSTAMP:20260425T192631
CREATED:20250612T195159Z
LAST-MODIFIED:20260403T193555Z
UID:10003727-1773838800-1773853200@www.kesslercollection.com
SUMMARY:Happy Hour at Cordova
DESCRIPTION:Step into Cordova for an elevated Happy Hour experience\, offered Monday through Thursday from 1:00 to 5:00 PM. Enjoy hand-selected wines\, signature drink specials\, and a complimentary tasting that turns your afternoon into a moment worth lingering over.
URL:https://www.kesslercollection.com/casa-monica/event/happy-hour-at-cordova-2/2026-03-18/
ATTACH;FMTTYPE=image/png:https://www.kesslercollection.com/casa-monica/wp-content/uploads/sites/6/2025/06/Disco-4.png
END:VEVENT
BEGIN:VEVENT
DTSTART;TZID=America/New_York:20260318T150000
DTEND;TZID=America/New_York:20260318T220000
DTSTAMP:20260425T192631
CREATED:20250420T045058Z
LAST-MODIFIED:20260122T221314Z
UID:10004708-1773846000-1773871200@www.kesslercollection.com
SUMMARY:Wine Down Wednesday
DESCRIPTION:Unwind from the midweek hustle with 50% off a selection of fine wines by the bottle and appetizers. Join us on Wednesdays from 3:00 PM – 10:00 PM to experience a curated wine selection perfect for pairing with our coastal chophouse menu.
URL:https://www.kesslercollection.com/casa-monica/event/wine-down-wednesday-3-2/2026-03-18/
LOCATION:Cordova\, 95 Cordova St\, St. Augustine\, FL\, 32084\, United States
ATTACH;FMTTYPE=image/png:https://www.kesslercollection.com/casa-monica/wp-content/uploads/sites/6/2025/06/Wine-Down-Wednesday.png
END:VEVENT
BEGIN:VEVENT
DTSTART;TZID=America/New_York:20260319T130000
DTEND;TZID=America/New_York:20260319T170000
DTSTAMP:20260425T192631
CREATED:20250612T195159Z
LAST-MODIFIED:20260403T193555Z
UID:10003728-1773925200-1773939600@www.kesslercollection.com
SUMMARY:Happy Hour at Cordova
DESCRIPTION:Step into Cordova for an elevated Happy Hour experience\, offered Monday through Thursday from 1:00 to 5:00 PM. Enjoy hand-selected wines\, signature drink specials\, and a complimentary tasting that turns your afternoon into a moment worth lingering over.
URL:https://www.kesslercollection.com/casa-monica/event/happy-hour-at-cordova-2/2026-03-19/
ATTACH;FMTTYPE=image/png:https://www.kesslercollection.com/casa-monica/wp-content/uploads/sites/6/2025/06/Disco-4.png
END:VEVENT
BEGIN:VEVENT
DTSTART;TZID=America/New_York:20260321T110000
DTEND;TZID=America/New_York:20260321T140000
DTSTAMP:20260425T192631
CREATED:20240916T172455Z
LAST-MODIFIED:20260303T195139Z
UID:10003102-1774090800-1774101600@www.kesslercollection.com
SUMMARY:Brunch at Cordova
DESCRIPTION:Brunch like never before at Cordova on Saturdays and Sundays from 11:00 AM – 2:00 PM. Indulge in a chef’s board\, choice of entrée\, and a dessert tower as the soothing tunes of live jazz entertainment create an enchanting atmosphere.
URL:https://www.kesslercollection.com/casa-monica/event/brunch-at-cordova-5/2026-03-21/
LOCATION:Cordova\, 95 Cordova St\, St. Augustine\, FL\, 32084\, United States
ATTACH;FMTTYPE=image/jpeg:https://www.kesslercollection.com/casa-monica/wp-content/uploads/sites/6/2024/09/CORDOVA-Spring24-2660.jpg
END:VEVENT
BEGIN:VEVENT
DTSTART;TZID=America/New_York:20260321T180000
DTEND;TZID=America/New_York:20260321T180000
DTSTAMP:20260425T192631
CREATED:20260130T173434Z
LAST-MODIFIED:20260130T174123Z
UID:10005135-1774116000-1774116000@www.kesslercollection.com
SUMMARY:Magic Hideaway
DESCRIPTION:Discover one of the most intimate magic shows in the world featuring interactive mind-bending illusions happening mere inches away from your seat. End your evening with a post-performance social and an opportunity for photos and autographs with the Master Magician Bill Abbott.
URL:https://www.kesslercollection.com/casa-monica/event/magic-hideaway-2-2-2/2026-03-21/
LOCATION:Casa Monica Resort & Spa\, 95 Cordova St.\, St. Augustine\, FL\, 32084\, United States
ATTACH;FMTTYPE=image/jpeg:https://www.kesslercollection.com/casa-monica/wp-content/uploads/sites/6/2024/07/Magic-HIdeaway.jpeg
END:VEVENT
BEGIN:VEVENT
DTSTART;TZID=America/New_York:20260322T110000
DTEND;TZID=America/New_York:20260322T140000
DTSTAMP:20260425T192631
CREATED:20240916T172455Z
LAST-MODIFIED:20260303T195139Z
UID:10003103-1774177200-1774188000@www.kesslercollection.com
SUMMARY:Brunch at Cordova
DESCRIPTION:Brunch like never before at Cordova on Saturdays and Sundays from 11:00 AM – 2:00 PM. Indulge in a chef’s board\, choice of entrée\, and a dessert tower as the soothing tunes of live jazz entertainment create an enchanting atmosphere.
URL:https://www.kesslercollection.com/casa-monica/event/brunch-at-cordova-5/2026-03-22/
LOCATION:Cordova\, 95 Cordova St\, St. Augustine\, FL\, 32084\, United States
ATTACH;FMTTYPE=image/jpeg:https://www.kesslercollection.com/casa-monica/wp-content/uploads/sites/6/2024/09/CORDOVA-Spring24-2660.jpg
END:VEVENT
BEGIN:VEVENT
DTSTART;TZID=America/New_York:20260322T170000
DTEND;TZID=America/New_York:20260322T220000
DTSTAMP:20260425T192631
CREATED:20250519T150551Z
LAST-MODIFIED:20260320T193212Z
UID:10002792-1774198800-1774216800@www.kesslercollection.com
SUMMARY:Sangria Sundays at Cordova
DESCRIPTION:Enjoy 50% off our signature Cordova Sangria every Sunday from 5:00 PM – 10:00 PM. Delightful and refreshing\, discover the perfect blend of flavors to sweeten up your weekend with Sangria Sundays at Cordova.
URL:https://www.kesslercollection.com/casa-monica/event/sangria-sundays-at-cordova-2-2/2026-03-22/
LOCATION:Cordova\, 95 Cordova St\, St. Augustine\, FL\, 32084\, United States
ATTACH;FMTTYPE=image/png:https://www.kesslercollection.com/casa-monica/wp-content/uploads/sites/6/2025/05/Sangria-Sunday.png
END:VEVENT
END:VCALENDAR