BEGIN:VCALENDAR
VERSION:2.0
PRODID:-//Casa Monica Resort &amp; Spa - ECPv6.15.20//NONSGML v1.0//EN
CALSCALE:GREGORIAN
METHOD:PUBLISH
X-WR-CALNAME:Casa Monica Resort &amp; Spa
X-ORIGINAL-URL:https://www.kesslercollection.com/casa-monica
X-WR-CALDESC:Events for Casa Monica Resort &amp; Spa
REFRESH-INTERVAL;VALUE=DURATION:PT1H
X-Robots-Tag:noindex
X-PUBLISHED-TTL:PT1H
BEGIN:VTIMEZONE
TZID:America/New_York
BEGIN:DAYLIGHT
TZOFFSETFROM:-0500
TZOFFSETTO:-0400
TZNAME:EDT
DTSTART:20240310T070000
END:DAYLIGHT
BEGIN:STANDARD
TZOFFSETFROM:-0400
TZOFFSETTO:-0500
TZNAME:EST
DTSTART:20241103T060000
END:STANDARD
BEGIN:DAYLIGHT
TZOFFSETFROM:-0500
TZOFFSETTO:-0400
TZNAME:EDT
DTSTART:20250309T070000
END:DAYLIGHT
BEGIN:STANDARD
TZOFFSETFROM:-0400
TZOFFSETTO:-0500
TZNAME:EST
DTSTART:20251102T060000
END:STANDARD
BEGIN:DAYLIGHT
TZOFFSETFROM:-0500
TZOFFSETTO:-0400
TZNAME:EDT
DTSTART:20260308T070000
END:DAYLIGHT
BEGIN:STANDARD
TZOFFSETFROM:-0400
TZOFFSETTO:-0500
TZNAME:EST
DTSTART:20261101T060000
END:STANDARD
END:VTIMEZONE
BEGIN:VEVENT
DTSTART;TZID=America/New_York:20251112T170000
DTEND;TZID=America/New_York:20251112T190000
DTSTAMP:20260421T150623
CREATED:20251015T144314Z
LAST-MODIFIED:20251113T150231Z
UID:10004654-1762966800-1762974000@www.kesslercollection.com
SUMMARY:Christmas Market
DESCRIPTION:Celebrate the season at Casa Monica Resort & Spa’s Christmas Market on Wednesday\, November 12\, from 5:00 PM to 7:00 PM. Enjoy an evening filled with holiday charm\, seasonal bites\, and a full bar available for purchase. Guests will also receive a complimentary holiday drink to toast the occasion\, available while supplies last. Kick off the holidays before the crowds arrive and shop local in a festive setting. Discounted valet parking will be offered for your convenience. \nVendors: \n\nTwo Sparrows Boutique\nPoseidon Spa\nFountain of Youth Med Spa\nDoggone Walking & Pet Sitting\nAncient Olive\nS.A.F.E. Pet Rescue\nDuddington’s Boutique\nMinorcan Datil Pepper Products\nSan Sebastian Winery\nSavannah Bee Company\nThe Honey Truck Company\nBohemian Art Gallery\nFlowers by Shirley\nVaultva Alice & Chains Permanent Jewelry\nSee American Tours & Photography\nArtsy Abode Boutique & Gift Shop\nFive 0 Six Boutique
URL:https://www.kesslercollection.com/casa-monica/event/christmas-market/
LOCATION:Casa Monica Resort & Spa\, 95 Cordova St.\, St. Augustine\, FL\, 32084\, United States
ATTACH;FMTTYPE=image/png:https://www.kesslercollection.com/casa-monica/wp-content/uploads/sites/6/2025/10/Christmas-Market.png
END:VEVENT
BEGIN:VEVENT
DTSTART;TZID=America/New_York:20251113T130000
DTEND;TZID=America/New_York:20251113T170000
DTSTAMP:20260421T150623
CREATED:20250612T195159Z
LAST-MODIFIED:20260403T193555Z
UID:10003656-1763038800-1763053200@www.kesslercollection.com
SUMMARY:Happy Hour at Cordova
DESCRIPTION:Step into Cordova for an elevated Happy Hour experience\, offered Monday through Thursday from 1:00 to 5:00 PM. Enjoy hand-selected wines\, signature drink specials\, and a complimentary tasting that turns your afternoon into a moment worth lingering over.
URL:https://www.kesslercollection.com/casa-monica/event/happy-hour-at-cordova-2/2025-11-13/
ATTACH;FMTTYPE=image/png:https://www.kesslercollection.com/casa-monica/wp-content/uploads/sites/6/2025/06/Disco-4.png
END:VEVENT
BEGIN:VEVENT
DTSTART;TZID=America/New_York:20251115T110000
DTEND;TZID=America/New_York:20251115T140000
DTSTAMP:20260421T150623
CREATED:20240916T172455Z
LAST-MODIFIED:20260303T195139Z
UID:10003066-1763204400-1763215200@www.kesslercollection.com
SUMMARY:Brunch at Cordova
DESCRIPTION:Brunch like never before at Cordova on Saturdays and Sundays from 11:00 AM – 2:00 PM. Indulge in a chef’s board\, choice of entrée\, and a dessert tower as the soothing tunes of live jazz entertainment create an enchanting atmosphere.
URL:https://www.kesslercollection.com/casa-monica/event/brunch-at-cordova-5/2025-11-15/
LOCATION:Cordova\, 95 Cordova St\, St. Augustine\, FL\, 32084\, United States
ATTACH;FMTTYPE=image/jpeg:https://www.kesslercollection.com/casa-monica/wp-content/uploads/sites/6/2024/09/CORDOVA-Spring24-2660.jpg
END:VEVENT
BEGIN:VEVENT
DTSTART;TZID=America/New_York:20251116T110000
DTEND;TZID=America/New_York:20251116T140000
DTSTAMP:20260421T150623
CREATED:20240916T172455Z
LAST-MODIFIED:20260303T195139Z
UID:10003067-1763290800-1763301600@www.kesslercollection.com
SUMMARY:Brunch at Cordova
DESCRIPTION:Brunch like never before at Cordova on Saturdays and Sundays from 11:00 AM – 2:00 PM. Indulge in a chef’s board\, choice of entrée\, and a dessert tower as the soothing tunes of live jazz entertainment create an enchanting atmosphere.
URL:https://www.kesslercollection.com/casa-monica/event/brunch-at-cordova-5/2025-11-16/
LOCATION:Cordova\, 95 Cordova St\, St. Augustine\, FL\, 32084\, United States
ATTACH;FMTTYPE=image/jpeg:https://www.kesslercollection.com/casa-monica/wp-content/uploads/sites/6/2024/09/CORDOVA-Spring24-2660.jpg
END:VEVENT
BEGIN:VEVENT
DTSTART;TZID=America/New_York:20251116T170000
DTEND;TZID=America/New_York:20251116T220000
DTSTAMP:20260421T150623
CREATED:20250519T150551Z
LAST-MODIFIED:20260320T193212Z
UID:10002774-1763312400-1763330400@www.kesslercollection.com
SUMMARY:Sangria Sundays at Cordova
DESCRIPTION:Enjoy 50% off our signature Cordova Sangria every Sunday from 5:00 PM – 10:00 PM. Delightful and refreshing\, discover the perfect blend of flavors to sweeten up your weekend with Sangria Sundays at Cordova.
URL:https://www.kesslercollection.com/casa-monica/event/sangria-sundays-at-cordova-2-2/2025-11-16/
LOCATION:Cordova\, 95 Cordova St\, St. Augustine\, FL\, 32084\, United States
ATTACH;FMTTYPE=image/png:https://www.kesslercollection.com/casa-monica/wp-content/uploads/sites/6/2025/05/Sangria-Sunday.png
END:VEVENT
BEGIN:VEVENT
DTSTART;TZID=America/New_York:20251117T130000
DTEND;TZID=America/New_York:20251117T170000
DTSTAMP:20260421T150623
CREATED:20250612T195159Z
LAST-MODIFIED:20260403T193555Z
UID:10003657-1763384400-1763398800@www.kesslercollection.com
SUMMARY:Happy Hour at Cordova
DESCRIPTION:Step into Cordova for an elevated Happy Hour experience\, offered Monday through Thursday from 1:00 to 5:00 PM. Enjoy hand-selected wines\, signature drink specials\, and a complimentary tasting that turns your afternoon into a moment worth lingering over.
URL:https://www.kesslercollection.com/casa-monica/event/happy-hour-at-cordova-2/2025-11-17/
ATTACH;FMTTYPE=image/png:https://www.kesslercollection.com/casa-monica/wp-content/uploads/sites/6/2025/06/Disco-4.png
END:VEVENT
BEGIN:VEVENT
DTSTART;TZID=America/New_York:20251118T130000
DTEND;TZID=America/New_York:20251118T170000
DTSTAMP:20260421T150623
CREATED:20250612T195159Z
LAST-MODIFIED:20260403T193555Z
UID:10003658-1763470800-1763485200@www.kesslercollection.com
SUMMARY:Happy Hour at Cordova
DESCRIPTION:Step into Cordova for an elevated Happy Hour experience\, offered Monday through Thursday from 1:00 to 5:00 PM. Enjoy hand-selected wines\, signature drink specials\, and a complimentary tasting that turns your afternoon into a moment worth lingering over.
URL:https://www.kesslercollection.com/casa-monica/event/happy-hour-at-cordova-2/2025-11-18/
ATTACH;FMTTYPE=image/png:https://www.kesslercollection.com/casa-monica/wp-content/uploads/sites/6/2025/06/Disco-4.png
END:VEVENT
BEGIN:VEVENT
DTSTART;TZID=America/New_York:20251119T130000
DTEND;TZID=America/New_York:20251119T170000
DTSTAMP:20260421T150623
CREATED:20250612T195159Z
LAST-MODIFIED:20260403T193555Z
UID:10003659-1763557200-1763571600@www.kesslercollection.com
SUMMARY:Happy Hour at Cordova
DESCRIPTION:Step into Cordova for an elevated Happy Hour experience\, offered Monday through Thursday from 1:00 to 5:00 PM. Enjoy hand-selected wines\, signature drink specials\, and a complimentary tasting that turns your afternoon into a moment worth lingering over.
URL:https://www.kesslercollection.com/casa-monica/event/happy-hour-at-cordova-2/2025-11-19/
ATTACH;FMTTYPE=image/png:https://www.kesslercollection.com/casa-monica/wp-content/uploads/sites/6/2025/06/Disco-4.png
END:VEVENT
BEGIN:VEVENT
DTSTART;TZID=America/New_York:20251119T150000
DTEND;TZID=America/New_York:20251119T220000
DTSTAMP:20260421T150623
CREATED:20250420T045058Z
LAST-MODIFIED:20260122T221314Z
UID:10004691-1763564400-1763589600@www.kesslercollection.com
SUMMARY:Wine Down Wednesday
DESCRIPTION:Unwind from the midweek hustle with 50% off a selection of fine wines by the bottle and appetizers. Join us on Wednesdays from 3:00 PM – 10:00 PM to experience a curated wine selection perfect for pairing with our coastal chophouse menu.
URL:https://www.kesslercollection.com/casa-monica/event/wine-down-wednesday-3-2/2025-11-19/
LOCATION:Cordova\, 95 Cordova St\, St. Augustine\, FL\, 32084\, United States
ATTACH;FMTTYPE=image/png:https://www.kesslercollection.com/casa-monica/wp-content/uploads/sites/6/2025/06/Wine-Down-Wednesday.png
END:VEVENT
BEGIN:VEVENT
DTSTART;TZID=America/New_York:20251120T130000
DTEND;TZID=America/New_York:20251120T170000
DTSTAMP:20260421T150623
CREATED:20250612T195159Z
LAST-MODIFIED:20260403T193555Z
UID:10003660-1763643600-1763658000@www.kesslercollection.com
SUMMARY:Happy Hour at Cordova
DESCRIPTION:Step into Cordova for an elevated Happy Hour experience\, offered Monday through Thursday from 1:00 to 5:00 PM. Enjoy hand-selected wines\, signature drink specials\, and a complimentary tasting that turns your afternoon into a moment worth lingering over.
URL:https://www.kesslercollection.com/casa-monica/event/happy-hour-at-cordova-2/2025-11-20/
ATTACH;FMTTYPE=image/png:https://www.kesslercollection.com/casa-monica/wp-content/uploads/sites/6/2025/06/Disco-4.png
END:VEVENT
BEGIN:VEVENT
DTSTART;TZID=America/New_York:20251122T110000
DTEND;TZID=America/New_York:20251122T140000
DTSTAMP:20260421T150623
CREATED:20240916T172455Z
LAST-MODIFIED:20260303T195139Z
UID:10003068-1763809200-1763820000@www.kesslercollection.com
SUMMARY:Brunch at Cordova
DESCRIPTION:Brunch like never before at Cordova on Saturdays and Sundays from 11:00 AM – 2:00 PM. Indulge in a chef’s board\, choice of entrée\, and a dessert tower as the soothing tunes of live jazz entertainment create an enchanting atmosphere.
URL:https://www.kesslercollection.com/casa-monica/event/brunch-at-cordova-5/2025-11-22/
LOCATION:Cordova\, 95 Cordova St\, St. Augustine\, FL\, 32084\, United States
ATTACH;FMTTYPE=image/jpeg:https://www.kesslercollection.com/casa-monica/wp-content/uploads/sites/6/2024/09/CORDOVA-Spring24-2660.jpg
END:VEVENT
BEGIN:VEVENT
DTSTART;TZID=America/New_York:20251123T110000
DTEND;TZID=America/New_York:20251123T140000
DTSTAMP:20260421T150623
CREATED:20240916T172455Z
LAST-MODIFIED:20260303T195139Z
UID:10003069-1763895600-1763906400@www.kesslercollection.com
SUMMARY:Brunch at Cordova
DESCRIPTION:Brunch like never before at Cordova on Saturdays and Sundays from 11:00 AM – 2:00 PM. Indulge in a chef’s board\, choice of entrée\, and a dessert tower as the soothing tunes of live jazz entertainment create an enchanting atmosphere.
URL:https://www.kesslercollection.com/casa-monica/event/brunch-at-cordova-5/2025-11-23/
LOCATION:Cordova\, 95 Cordova St\, St. Augustine\, FL\, 32084\, United States
ATTACH;FMTTYPE=image/jpeg:https://www.kesslercollection.com/casa-monica/wp-content/uploads/sites/6/2024/09/CORDOVA-Spring24-2660.jpg
END:VEVENT
BEGIN:VEVENT
DTSTART;TZID=America/New_York:20251123T170000
DTEND;TZID=America/New_York:20251123T220000
DTSTAMP:20260421T150623
CREATED:20250519T150551Z
LAST-MODIFIED:20260320T193212Z
UID:10002775-1763917200-1763935200@www.kesslercollection.com
SUMMARY:Sangria Sundays at Cordova
DESCRIPTION:Enjoy 50% off our signature Cordova Sangria every Sunday from 5:00 PM – 10:00 PM. Delightful and refreshing\, discover the perfect blend of flavors to sweeten up your weekend with Sangria Sundays at Cordova.
URL:https://www.kesslercollection.com/casa-monica/event/sangria-sundays-at-cordova-2-2/2025-11-23/
LOCATION:Cordova\, 95 Cordova St\, St. Augustine\, FL\, 32084\, United States
ATTACH;FMTTYPE=image/png:https://www.kesslercollection.com/casa-monica/wp-content/uploads/sites/6/2025/05/Sangria-Sunday.png
END:VEVENT
BEGIN:VEVENT
DTSTART;TZID=America/New_York:20251124T130000
DTEND;TZID=America/New_York:20251124T170000
DTSTAMP:20260421T150623
CREATED:20250612T195159Z
LAST-MODIFIED:20260403T193555Z
UID:10003661-1763989200-1764003600@www.kesslercollection.com
SUMMARY:Happy Hour at Cordova
DESCRIPTION:Step into Cordova for an elevated Happy Hour experience\, offered Monday through Thursday from 1:00 to 5:00 PM. Enjoy hand-selected wines\, signature drink specials\, and a complimentary tasting that turns your afternoon into a moment worth lingering over.
URL:https://www.kesslercollection.com/casa-monica/event/happy-hour-at-cordova-2/2025-11-24/
ATTACH;FMTTYPE=image/png:https://www.kesslercollection.com/casa-monica/wp-content/uploads/sites/6/2025/06/Disco-4.png
END:VEVENT
BEGIN:VEVENT
DTSTART;TZID=America/New_York:20251125T130000
DTEND;TZID=America/New_York:20251125T170000
DTSTAMP:20260421T150623
CREATED:20250612T195159Z
LAST-MODIFIED:20260403T193555Z
UID:10003662-1764075600-1764090000@www.kesslercollection.com
SUMMARY:Happy Hour at Cordova
DESCRIPTION:Step into Cordova for an elevated Happy Hour experience\, offered Monday through Thursday from 1:00 to 5:00 PM. Enjoy hand-selected wines\, signature drink specials\, and a complimentary tasting that turns your afternoon into a moment worth lingering over.
URL:https://www.kesslercollection.com/casa-monica/event/happy-hour-at-cordova-2/2025-11-25/
ATTACH;FMTTYPE=image/png:https://www.kesslercollection.com/casa-monica/wp-content/uploads/sites/6/2025/06/Disco-4.png
END:VEVENT
BEGIN:VEVENT
DTSTART;TZID=America/New_York:20251126T130000
DTEND;TZID=America/New_York:20251126T170000
DTSTAMP:20260421T150623
CREATED:20250612T195159Z
LAST-MODIFIED:20260403T193555Z
UID:10003663-1764162000-1764176400@www.kesslercollection.com
SUMMARY:Happy Hour at Cordova
DESCRIPTION:Step into Cordova for an elevated Happy Hour experience\, offered Monday through Thursday from 1:00 to 5:00 PM. Enjoy hand-selected wines\, signature drink specials\, and a complimentary tasting that turns your afternoon into a moment worth lingering over.
URL:https://www.kesslercollection.com/casa-monica/event/happy-hour-at-cordova-2/2025-11-26/
ATTACH;FMTTYPE=image/png:https://www.kesslercollection.com/casa-monica/wp-content/uploads/sites/6/2025/06/Disco-4.png
END:VEVENT
BEGIN:VEVENT
DTSTART;TZID=America/New_York:20251126T150000
DTEND;TZID=America/New_York:20251126T220000
DTSTAMP:20260421T150623
CREATED:20250420T045058Z
LAST-MODIFIED:20260122T221314Z
UID:10004692-1764169200-1764194400@www.kesslercollection.com
SUMMARY:Wine Down Wednesday
DESCRIPTION:Unwind from the midweek hustle with 50% off a selection of fine wines by the bottle and appetizers. Join us on Wednesdays from 3:00 PM – 10:00 PM to experience a curated wine selection perfect for pairing with our coastal chophouse menu.
URL:https://www.kesslercollection.com/casa-monica/event/wine-down-wednesday-3-2/2025-11-26/
LOCATION:Cordova\, 95 Cordova St\, St. Augustine\, FL\, 32084\, United States
ATTACH;FMTTYPE=image/png:https://www.kesslercollection.com/casa-monica/wp-content/uploads/sites/6/2025/06/Wine-Down-Wednesday.png
END:VEVENT
BEGIN:VEVENT
DTSTART;TZID=America/New_York:20251127T110000
DTEND;TZID=America/New_York:20251127T180000
DTSTAMP:20260421T150623
CREATED:20251015T200724Z
LAST-MODIFIED:20251106T220903Z
UID:10004655-1764241200-1764266400@www.kesslercollection.com
SUMMARY:Thanksgiving Grand Buffet at Cordova
DESCRIPTION:Join us for a festive Thanksgiving celebration in the heart of St. Augustine. Savor a lavish Grand Buffet in Cordova from 11:00 AM to 6:00 PM\, featuring live music throughout the day. Enjoy traditional Thanksgiving favorites alongside a fresh salad station\, seafood selections\, chef-carved specialties\, and a decadent dessert display. We look forward to welcoming you and your family for this special holiday tradition at Casa Monica. \n$95 per adult | $45 per child (ages 6–12). \nFor parties of eight or more\, please contact Ben Carlson at Ben.Carlson@kesslercollection.com.
URL:https://www.kesslercollection.com/casa-monica/event/thanksgiving-grand-buffet-at-cordova-2/
LOCATION:Cordova\, 95 Cordova St\, St. Augustine\, FL\, 32084\, United States
ATTACH;FMTTYPE=image/jpeg:https://www.kesslercollection.com/casa-monica/wp-content/uploads/sites/6/2025/10/Thanksgiving-Marketing_Event-Calendar_251022_Final.jpg
END:VEVENT
BEGIN:VEVENT
DTSTART;TZID=America/New_York:20251127T130000
DTEND;TZID=America/New_York:20251127T170000
DTSTAMP:20260421T150623
CREATED:20250612T195159Z
LAST-MODIFIED:20260403T193555Z
UID:10003664-1764248400-1764262800@www.kesslercollection.com
SUMMARY:Happy Hour at Cordova
DESCRIPTION:Step into Cordova for an elevated Happy Hour experience\, offered Monday through Thursday from 1:00 to 5:00 PM. Enjoy hand-selected wines\, signature drink specials\, and a complimentary tasting that turns your afternoon into a moment worth lingering over.
URL:https://www.kesslercollection.com/casa-monica/event/happy-hour-at-cordova-2/2025-11-27/
ATTACH;FMTTYPE=image/png:https://www.kesslercollection.com/casa-monica/wp-content/uploads/sites/6/2025/06/Disco-4.png
END:VEVENT
BEGIN:VEVENT
DTSTART;TZID=America/New_York:20251129T110000
DTEND;TZID=America/New_York:20251129T140000
DTSTAMP:20260421T150623
CREATED:20240916T172455Z
LAST-MODIFIED:20260303T195139Z
UID:10003070-1764414000-1764424800@www.kesslercollection.com
SUMMARY:Brunch at Cordova
DESCRIPTION:Brunch like never before at Cordova on Saturdays and Sundays from 11:00 AM – 2:00 PM. Indulge in a chef’s board\, choice of entrée\, and a dessert tower as the soothing tunes of live jazz entertainment create an enchanting atmosphere.
URL:https://www.kesslercollection.com/casa-monica/event/brunch-at-cordova-5/2025-11-29/
LOCATION:Cordova\, 95 Cordova St\, St. Augustine\, FL\, 32084\, United States
ATTACH;FMTTYPE=image/jpeg:https://www.kesslercollection.com/casa-monica/wp-content/uploads/sites/6/2024/09/CORDOVA-Spring24-2660.jpg
END:VEVENT
BEGIN:VEVENT
DTSTART;TZID=America/New_York:20251130T110000
DTEND;TZID=America/New_York:20251130T140000
DTSTAMP:20260421T150623
CREATED:20240916T172455Z
LAST-MODIFIED:20260303T195139Z
UID:10003071-1764500400-1764511200@www.kesslercollection.com
SUMMARY:Brunch at Cordova
DESCRIPTION:Brunch like never before at Cordova on Saturdays and Sundays from 11:00 AM – 2:00 PM. Indulge in a chef’s board\, choice of entrée\, and a dessert tower as the soothing tunes of live jazz entertainment create an enchanting atmosphere.
URL:https://www.kesslercollection.com/casa-monica/event/brunch-at-cordova-5/2025-11-30/
LOCATION:Cordova\, 95 Cordova St\, St. Augustine\, FL\, 32084\, United States
ATTACH;FMTTYPE=image/jpeg:https://www.kesslercollection.com/casa-monica/wp-content/uploads/sites/6/2024/09/CORDOVA-Spring24-2660.jpg
END:VEVENT
BEGIN:VEVENT
DTSTART;TZID=America/New_York:20251130T170000
DTEND;TZID=America/New_York:20251130T220000
DTSTAMP:20260421T150623
CREATED:20250519T150551Z
LAST-MODIFIED:20260320T193212Z
UID:10002776-1764522000-1764540000@www.kesslercollection.com
SUMMARY:Sangria Sundays at Cordova
DESCRIPTION:Enjoy 50% off our signature Cordova Sangria every Sunday from 5:00 PM – 10:00 PM. Delightful and refreshing\, discover the perfect blend of flavors to sweeten up your weekend with Sangria Sundays at Cordova.
URL:https://www.kesslercollection.com/casa-monica/event/sangria-sundays-at-cordova-2-2/2025-11-30/
LOCATION:Cordova\, 95 Cordova St\, St. Augustine\, FL\, 32084\, United States
ATTACH;FMTTYPE=image/png:https://www.kesslercollection.com/casa-monica/wp-content/uploads/sites/6/2025/05/Sangria-Sunday.png
END:VEVENT
BEGIN:VEVENT
DTSTART;TZID=America/New_York:20251201T130000
DTEND;TZID=America/New_York:20251201T170000
DTSTAMP:20260421T150623
CREATED:20250612T195159Z
LAST-MODIFIED:20260403T193555Z
UID:10003665-1764594000-1764608400@www.kesslercollection.com
SUMMARY:Happy Hour at Cordova
DESCRIPTION:Step into Cordova for an elevated Happy Hour experience\, offered Monday through Thursday from 1:00 to 5:00 PM. Enjoy hand-selected wines\, signature drink specials\, and a complimentary tasting that turns your afternoon into a moment worth lingering over.
URL:https://www.kesslercollection.com/casa-monica/event/happy-hour-at-cordova-2/2025-12-01/
ATTACH;FMTTYPE=image/png:https://www.kesslercollection.com/casa-monica/wp-content/uploads/sites/6/2025/06/Disco-4.png
END:VEVENT
BEGIN:VEVENT
DTSTART;TZID=America/New_York:20251202T130000
DTEND;TZID=America/New_York:20251202T170000
DTSTAMP:20260421T150623
CREATED:20250612T195159Z
LAST-MODIFIED:20260403T193555Z
UID:10003666-1764680400-1764694800@www.kesslercollection.com
SUMMARY:Happy Hour at Cordova
DESCRIPTION:Step into Cordova for an elevated Happy Hour experience\, offered Monday through Thursday from 1:00 to 5:00 PM. Enjoy hand-selected wines\, signature drink specials\, and a complimentary tasting that turns your afternoon into a moment worth lingering over.
URL:https://www.kesslercollection.com/casa-monica/event/happy-hour-at-cordova-2/2025-12-02/
ATTACH;FMTTYPE=image/png:https://www.kesslercollection.com/casa-monica/wp-content/uploads/sites/6/2025/06/Disco-4.png
END:VEVENT
BEGIN:VEVENT
DTSTART;TZID=America/New_York:20251203T130000
DTEND;TZID=America/New_York:20251203T170000
DTSTAMP:20260421T150623
CREATED:20250612T195159Z
LAST-MODIFIED:20260403T193555Z
UID:10003667-1764766800-1764781200@www.kesslercollection.com
SUMMARY:Happy Hour at Cordova
DESCRIPTION:Step into Cordova for an elevated Happy Hour experience\, offered Monday through Thursday from 1:00 to 5:00 PM. Enjoy hand-selected wines\, signature drink specials\, and a complimentary tasting that turns your afternoon into a moment worth lingering over.
URL:https://www.kesslercollection.com/casa-monica/event/happy-hour-at-cordova-2/2025-12-03/
ATTACH;FMTTYPE=image/png:https://www.kesslercollection.com/casa-monica/wp-content/uploads/sites/6/2025/06/Disco-4.png
END:VEVENT
BEGIN:VEVENT
DTSTART;TZID=America/New_York:20251203T150000
DTEND;TZID=America/New_York:20251203T220000
DTSTAMP:20260421T150623
CREATED:20250420T045058Z
LAST-MODIFIED:20260122T221314Z
UID:10004693-1764774000-1764799200@www.kesslercollection.com
SUMMARY:Wine Down Wednesday
DESCRIPTION:Unwind from the midweek hustle with 50% off a selection of fine wines by the bottle and appetizers. Join us on Wednesdays from 3:00 PM – 10:00 PM to experience a curated wine selection perfect for pairing with our coastal chophouse menu.
URL:https://www.kesslercollection.com/casa-monica/event/wine-down-wednesday-3-2/2025-12-03/
LOCATION:Cordova\, 95 Cordova St\, St. Augustine\, FL\, 32084\, United States
ATTACH;FMTTYPE=image/png:https://www.kesslercollection.com/casa-monica/wp-content/uploads/sites/6/2025/06/Wine-Down-Wednesday.png
END:VEVENT
BEGIN:VEVENT
DTSTART;TZID=America/New_York:20251204T130000
DTEND;TZID=America/New_York:20251204T170000
DTSTAMP:20260421T150623
CREATED:20250612T195159Z
LAST-MODIFIED:20260403T193555Z
UID:10003668-1764853200-1764867600@www.kesslercollection.com
SUMMARY:Happy Hour at Cordova
DESCRIPTION:Step into Cordova for an elevated Happy Hour experience\, offered Monday through Thursday from 1:00 to 5:00 PM. Enjoy hand-selected wines\, signature drink specials\, and a complimentary tasting that turns your afternoon into a moment worth lingering over.
URL:https://www.kesslercollection.com/casa-monica/event/happy-hour-at-cordova-2/2025-12-04/
ATTACH;FMTTYPE=image/png:https://www.kesslercollection.com/casa-monica/wp-content/uploads/sites/6/2025/06/Disco-4.png
END:VEVENT
BEGIN:VEVENT
DTSTART;TZID=America/New_York:20251206T110000
DTEND;TZID=America/New_York:20251206T140000
DTSTAMP:20260421T150623
CREATED:20240916T172455Z
LAST-MODIFIED:20260303T195139Z
UID:10003072-1765018800-1765029600@www.kesslercollection.com
SUMMARY:Brunch at Cordova
DESCRIPTION:Brunch like never before at Cordova on Saturdays and Sundays from 11:00 AM – 2:00 PM. Indulge in a chef’s board\, choice of entrée\, and a dessert tower as the soothing tunes of live jazz entertainment create an enchanting atmosphere.
URL:https://www.kesslercollection.com/casa-monica/event/brunch-at-cordova-5/2025-12-06/
LOCATION:Cordova\, 95 Cordova St\, St. Augustine\, FL\, 32084\, United States
ATTACH;FMTTYPE=image/jpeg:https://www.kesslercollection.com/casa-monica/wp-content/uploads/sites/6/2024/09/CORDOVA-Spring24-2660.jpg
END:VEVENT
BEGIN:VEVENT
DTSTART;TZID=America/New_York:20251207T110000
DTEND;TZID=America/New_York:20251207T140000
DTSTAMP:20260421T150623
CREATED:20240916T172455Z
LAST-MODIFIED:20260303T195139Z
UID:10003073-1765105200-1765116000@www.kesslercollection.com
SUMMARY:Brunch at Cordova
DESCRIPTION:Brunch like never before at Cordova on Saturdays and Sundays from 11:00 AM – 2:00 PM. Indulge in a chef’s board\, choice of entrée\, and a dessert tower as the soothing tunes of live jazz entertainment create an enchanting atmosphere.
URL:https://www.kesslercollection.com/casa-monica/event/brunch-at-cordova-5/2025-12-07/
LOCATION:Cordova\, 95 Cordova St\, St. Augustine\, FL\, 32084\, United States
ATTACH;FMTTYPE=image/jpeg:https://www.kesslercollection.com/casa-monica/wp-content/uploads/sites/6/2024/09/CORDOVA-Spring24-2660.jpg
END:VEVENT
BEGIN:VEVENT
DTSTART;TZID=America/New_York:20251207T170000
DTEND;TZID=America/New_York:20251207T220000
DTSTAMP:20260421T150623
CREATED:20250519T150551Z
LAST-MODIFIED:20260320T193212Z
UID:10002777-1765126800-1765144800@www.kesslercollection.com
SUMMARY:Sangria Sundays at Cordova
DESCRIPTION:Enjoy 50% off our signature Cordova Sangria every Sunday from 5:00 PM – 10:00 PM. Delightful and refreshing\, discover the perfect blend of flavors to sweeten up your weekend with Sangria Sundays at Cordova.
URL:https://www.kesslercollection.com/casa-monica/event/sangria-sundays-at-cordova-2-2/2025-12-07/
LOCATION:Cordova\, 95 Cordova St\, St. Augustine\, FL\, 32084\, United States
ATTACH;FMTTYPE=image/png:https://www.kesslercollection.com/casa-monica/wp-content/uploads/sites/6/2025/05/Sangria-Sunday.png
END:VEVENT
END:VCALENDAR