BEGIN:VCALENDAR
VERSION:2.0
PRODID:-//Casa Monica Resort &amp; Spa - ECPv6.15.20//NONSGML v1.0//EN
CALSCALE:GREGORIAN
METHOD:PUBLISH
X-ORIGINAL-URL:https://www.kesslercollection.com/casa-monica
X-WR-CALDESC:Events for Casa Monica Resort &amp; Spa
REFRESH-INTERVAL;VALUE=DURATION:PT1H
X-Robots-Tag:noindex
X-PUBLISHED-TTL:PT1H
BEGIN:VTIMEZONE
TZID:America/New_York
BEGIN:DAYLIGHT
TZOFFSETFROM:-0500
TZOFFSETTO:-0400
TZNAME:EDT
DTSTART:20250309T070000
END:DAYLIGHT
BEGIN:STANDARD
TZOFFSETFROM:-0400
TZOFFSETTO:-0500
TZNAME:EST
DTSTART:20251102T060000
END:STANDARD
BEGIN:DAYLIGHT
TZOFFSETFROM:-0500
TZOFFSETTO:-0400
TZNAME:EDT
DTSTART:20260308T070000
END:DAYLIGHT
BEGIN:STANDARD
TZOFFSETFROM:-0400
TZOFFSETTO:-0500
TZNAME:EST
DTSTART:20261101T060000
END:STANDARD
BEGIN:DAYLIGHT
TZOFFSETFROM:-0500
TZOFFSETTO:-0400
TZNAME:EDT
DTSTART:20270314T070000
END:DAYLIGHT
BEGIN:STANDARD
TZOFFSETFROM:-0400
TZOFFSETTO:-0500
TZNAME:EST
DTSTART:20271107T060000
END:STANDARD
END:VTIMEZONE
BEGIN:VEVENT
DTSTART;TZID=America/New_York:20260408T150000
DTEND;TZID=America/New_York:20260408T220000
DTSTAMP:20260423T230553
CREATED:20250420T045058Z
LAST-MODIFIED:20260122T221314Z
UID:10004711-1775660400-1775685600@www.kesslercollection.com
SUMMARY:Wine Down Wednesday
DESCRIPTION:Unwind from the midweek hustle with 50% off a selection of fine wines by the bottle and appetizers. Join us on Wednesdays from 3:00 PM – 10:00 PM to experience a curated wine selection perfect for pairing with our coastal chophouse menu.
URL:https://www.kesslercollection.com/casa-monica/event/wine-down-wednesday-3-2/2026-04-08/
LOCATION:Cordova\, 95 Cordova St\, St. Augustine\, FL\, 32084\, United States
ATTACH;FMTTYPE=image/png:https://www.kesslercollection.com/casa-monica/wp-content/uploads/sites/6/2025/06/Wine-Down-Wednesday.png
END:VEVENT
BEGIN:VEVENT
DTSTART;TZID=America/New_York:20260409T130000
DTEND;TZID=America/New_York:20260409T170000
DTSTAMP:20260423T230553
CREATED:20250612T195159Z
LAST-MODIFIED:20260403T193555Z
UID:10003740-1775739600-1775754000@www.kesslercollection.com
SUMMARY:Happy Hour at Cordova
DESCRIPTION:Step into Cordova for an elevated Happy Hour experience\, offered Monday through Thursday from 1:00 to 5:00 PM. Enjoy hand-selected wines\, signature drink specials\, and a complimentary tasting that turns your afternoon into a moment worth lingering over.
URL:https://www.kesslercollection.com/casa-monica/event/happy-hour-at-cordova-2/2026-04-09/
LOCATION:FL
ATTACH;FMTTYPE=image/png:https://www.kesslercollection.com/casa-monica/wp-content/uploads/sites/6/2025/06/Disco-4.png
END:VEVENT
BEGIN:VEVENT
DTSTART;TZID=America/New_York:20260411T110000
DTEND;TZID=America/New_York:20260411T140000
DTSTAMP:20260423T230553
CREATED:20240916T172455Z
LAST-MODIFIED:20260303T195139Z
UID:10003108-1775905200-1775916000@www.kesslercollection.com
SUMMARY:Brunch at Cordova
DESCRIPTION:Brunch like never before at Cordova on Saturdays and Sundays from 11:00 AM – 2:00 PM. Indulge in a chef’s board\, choice of entrée\, and a dessert tower as the soothing tunes of live jazz entertainment create an enchanting atmosphere.
URL:https://www.kesslercollection.com/casa-monica/event/brunch-at-cordova-5/2026-04-11/
LOCATION:Cordova\, 95 Cordova St\, St. Augustine\, FL\, 32084\, United States
ATTACH;FMTTYPE=image/jpeg:https://www.kesslercollection.com/casa-monica/wp-content/uploads/sites/6/2024/09/CORDOVA-Spring24-2660.jpg
END:VEVENT
BEGIN:VEVENT
DTSTART;TZID=America/New_York:20260411T180000
DTEND;TZID=America/New_York:20260411T180000
DTSTAMP:20260423T230553
CREATED:20260130T173434Z
LAST-MODIFIED:20260130T174123Z
UID:10005138-1775930400-1775930400@www.kesslercollection.com
SUMMARY:Magic Hideaway
DESCRIPTION:Discover one of the most intimate magic shows in the world featuring interactive mind-bending illusions happening mere inches away from your seat. End your evening with a post-performance social and an opportunity for photos and autographs with the Master Magician Bill Abbott.
URL:https://www.kesslercollection.com/casa-monica/event/magic-hideaway-2-2-2/2026-04-11/
LOCATION:Casa Monica Resort & Spa\, 95 Cordova St.\, St. Augustine\, FL\, 32084\, United States
ATTACH;FMTTYPE=image/jpeg:https://www.kesslercollection.com/casa-monica/wp-content/uploads/sites/6/2024/07/Magic-HIdeaway.jpeg
END:VEVENT
BEGIN:VEVENT
DTSTART;TZID=America/New_York:20260412T110000
DTEND;TZID=America/New_York:20260412T140000
DTSTAMP:20260423T230553
CREATED:20240916T172455Z
LAST-MODIFIED:20260303T195139Z
UID:10003109-1775991600-1776002400@www.kesslercollection.com
SUMMARY:Brunch at Cordova
DESCRIPTION:Brunch like never before at Cordova on Saturdays and Sundays from 11:00 AM – 2:00 PM. Indulge in a chef’s board\, choice of entrée\, and a dessert tower as the soothing tunes of live jazz entertainment create an enchanting atmosphere.
URL:https://www.kesslercollection.com/casa-monica/event/brunch-at-cordova-5/2026-04-12/
LOCATION:Cordova\, 95 Cordova St\, St. Augustine\, FL\, 32084\, United States
ATTACH;FMTTYPE=image/jpeg:https://www.kesslercollection.com/casa-monica/wp-content/uploads/sites/6/2024/09/CORDOVA-Spring24-2660.jpg
END:VEVENT
BEGIN:VEVENT
DTSTART;TZID=America/New_York:20260412T110000
DTEND;TZID=America/New_York:20260412T160000
DTSTAMP:20260423T230553
CREATED:20260402T184058Z
LAST-MODIFIED:20260402T184813Z
UID:10005498-1775991600-1776009600@www.kesslercollection.com
SUMMARY:Taste of St. Augustine
DESCRIPTION:Join Cordova at the Taste of St. Augustine on Sunday\, April 12 from 11:00 AM to 4:00 PM at the St. Augustine Amphitheatre for a day full of flavor\, fun\, and community celebration. Enjoy more than 20 local restaurants\, live music\, games\, and family-friendly entertainment. Don’t miss this vibrant event that blends culinary creativity with local charm.
URL:https://www.kesslercollection.com/casa-monica/event/taste-of-st-augustine-2/
LOCATION:FL
ATTACH;FMTTYPE=image/jpeg:https://www.kesslercollection.com/casa-monica/wp-content/uploads/sites/6/2024/01/CMRS-Dining-hero24-1.jpg
END:VEVENT
BEGIN:VEVENT
DTSTART;TZID=America/New_York:20260412T170000
DTEND;TZID=America/New_York:20260412T220000
DTSTAMP:20260423T230553
CREATED:20250519T150551Z
LAST-MODIFIED:20260320T193212Z
UID:10002795-1776013200-1776031200@www.kesslercollection.com
SUMMARY:Sangria Sundays at Cordova
DESCRIPTION:Enjoy 50% off our signature Cordova Sangria every Sunday from 5:00 PM – 10:00 PM. Delightful and refreshing\, discover the perfect blend of flavors to sweeten up your weekend with Sangria Sundays at Cordova.
URL:https://www.kesslercollection.com/casa-monica/event/sangria-sundays-at-cordova-2-2/2026-04-12/
LOCATION:Cordova\, 95 Cordova St\, St. Augustine\, FL\, 32084\, United States
ATTACH;FMTTYPE=image/png:https://www.kesslercollection.com/casa-monica/wp-content/uploads/sites/6/2025/05/Sangria-Sunday.png
END:VEVENT
BEGIN:VEVENT
DTSTART;TZID=America/New_York:20260413T130000
DTEND;TZID=America/New_York:20260413T170000
DTSTAMP:20260423T230553
CREATED:20250612T195159Z
LAST-MODIFIED:20260403T193555Z
UID:10003741-1776085200-1776099600@www.kesslercollection.com
SUMMARY:Happy Hour at Cordova
DESCRIPTION:Step into Cordova for an elevated Happy Hour experience\, offered Monday through Thursday from 1:00 to 5:00 PM. Enjoy hand-selected wines\, signature drink specials\, and a complimentary tasting that turns your afternoon into a moment worth lingering over.
URL:https://www.kesslercollection.com/casa-monica/event/happy-hour-at-cordova-2/2026-04-13/
LOCATION:FL
ATTACH;FMTTYPE=image/png:https://www.kesslercollection.com/casa-monica/wp-content/uploads/sites/6/2025/06/Disco-4.png
END:VEVENT
BEGIN:VEVENT
DTSTART;TZID=America/New_York:20260414T130000
DTEND;TZID=America/New_York:20260414T170000
DTSTAMP:20260423T230553
CREATED:20250612T195159Z
LAST-MODIFIED:20260403T193555Z
UID:10003742-1776171600-1776186000@www.kesslercollection.com
SUMMARY:Happy Hour at Cordova
DESCRIPTION:Step into Cordova for an elevated Happy Hour experience\, offered Monday through Thursday from 1:00 to 5:00 PM. Enjoy hand-selected wines\, signature drink specials\, and a complimentary tasting that turns your afternoon into a moment worth lingering over.
URL:https://www.kesslercollection.com/casa-monica/event/happy-hour-at-cordova-2/2026-04-14/
LOCATION:FL
ATTACH;FMTTYPE=image/png:https://www.kesslercollection.com/casa-monica/wp-content/uploads/sites/6/2025/06/Disco-4.png
END:VEVENT
BEGIN:VEVENT
DTSTART;TZID=America/New_York:20260415T130000
DTEND;TZID=America/New_York:20260415T170000
DTSTAMP:20260423T230553
CREATED:20250612T195159Z
LAST-MODIFIED:20260403T193555Z
UID:10003743-1776258000-1776272400@www.kesslercollection.com
SUMMARY:Happy Hour at Cordova
DESCRIPTION:Step into Cordova for an elevated Happy Hour experience\, offered Monday through Thursday from 1:00 to 5:00 PM. Enjoy hand-selected wines\, signature drink specials\, and a complimentary tasting that turns your afternoon into a moment worth lingering over.
URL:https://www.kesslercollection.com/casa-monica/event/happy-hour-at-cordova-2/2026-04-15/
LOCATION:FL
ATTACH;FMTTYPE=image/png:https://www.kesslercollection.com/casa-monica/wp-content/uploads/sites/6/2025/06/Disco-4.png
END:VEVENT
BEGIN:VEVENT
DTSTART;TZID=America/New_York:20260415T150000
DTEND;TZID=America/New_York:20260415T220000
DTSTAMP:20260423T230553
CREATED:20250420T045058Z
LAST-MODIFIED:20260122T221314Z
UID:10004712-1776265200-1776290400@www.kesslercollection.com
SUMMARY:Wine Down Wednesday
DESCRIPTION:Unwind from the midweek hustle with 50% off a selection of fine wines by the bottle and appetizers. Join us on Wednesdays from 3:00 PM – 10:00 PM to experience a curated wine selection perfect for pairing with our coastal chophouse menu.
URL:https://www.kesslercollection.com/casa-monica/event/wine-down-wednesday-3-2/2026-04-15/
LOCATION:Cordova\, 95 Cordova St\, St. Augustine\, FL\, 32084\, United States
ATTACH;FMTTYPE=image/png:https://www.kesslercollection.com/casa-monica/wp-content/uploads/sites/6/2025/06/Wine-Down-Wednesday.png
END:VEVENT
BEGIN:VEVENT
DTSTART;TZID=America/New_York:20260416T130000
DTEND;TZID=America/New_York:20260416T170000
DTSTAMP:20260423T230553
CREATED:20250612T195159Z
LAST-MODIFIED:20260403T193555Z
UID:10003744-1776344400-1776358800@www.kesslercollection.com
SUMMARY:Happy Hour at Cordova
DESCRIPTION:Step into Cordova for an elevated Happy Hour experience\, offered Monday through Thursday from 1:00 to 5:00 PM. Enjoy hand-selected wines\, signature drink specials\, and a complimentary tasting that turns your afternoon into a moment worth lingering over.
URL:https://www.kesslercollection.com/casa-monica/event/happy-hour-at-cordova-2/2026-04-16/
LOCATION:FL
ATTACH;FMTTYPE=image/png:https://www.kesslercollection.com/casa-monica/wp-content/uploads/sites/6/2025/06/Disco-4.png
END:VEVENT
BEGIN:VEVENT
DTSTART;TZID=America/New_York:20260418T110000
DTEND;TZID=America/New_York:20260418T140000
DTSTAMP:20260423T230553
CREATED:20240916T172455Z
LAST-MODIFIED:20260303T195139Z
UID:10003110-1776510000-1776520800@www.kesslercollection.com
SUMMARY:Brunch at Cordova
DESCRIPTION:Brunch like never before at Cordova on Saturdays and Sundays from 11:00 AM – 2:00 PM. Indulge in a chef’s board\, choice of entrée\, and a dessert tower as the soothing tunes of live jazz entertainment create an enchanting atmosphere.
URL:https://www.kesslercollection.com/casa-monica/event/brunch-at-cordova-5/2026-04-18/
LOCATION:Cordova\, 95 Cordova St\, St. Augustine\, FL\, 32084\, United States
ATTACH;FMTTYPE=image/jpeg:https://www.kesslercollection.com/casa-monica/wp-content/uploads/sites/6/2024/09/CORDOVA-Spring24-2660.jpg
END:VEVENT
BEGIN:VEVENT
DTSTART;TZID=America/New_York:20260418T180000
DTEND;TZID=America/New_York:20260418T180000
DTSTAMP:20260423T230553
CREATED:20260130T173434Z
LAST-MODIFIED:20260130T174123Z
UID:10005139-1776535200-1776535200@www.kesslercollection.com
SUMMARY:Magic Hideaway
DESCRIPTION:Discover one of the most intimate magic shows in the world featuring interactive mind-bending illusions happening mere inches away from your seat. End your evening with a post-performance social and an opportunity for photos and autographs with the Master Magician Bill Abbott.
URL:https://www.kesslercollection.com/casa-monica/event/magic-hideaway-2-2-2/2026-04-18/
LOCATION:Casa Monica Resort & Spa\, 95 Cordova St.\, St. Augustine\, FL\, 32084\, United States
ATTACH;FMTTYPE=image/jpeg:https://www.kesslercollection.com/casa-monica/wp-content/uploads/sites/6/2024/07/Magic-HIdeaway.jpeg
END:VEVENT
BEGIN:VEVENT
DTSTART;TZID=America/New_York:20260419T110000
DTEND;TZID=America/New_York:20260419T140000
DTSTAMP:20260423T230553
CREATED:20240916T172455Z
LAST-MODIFIED:20260303T195139Z
UID:10003111-1776596400-1776607200@www.kesslercollection.com
SUMMARY:Brunch at Cordova
DESCRIPTION:Brunch like never before at Cordova on Saturdays and Sundays from 11:00 AM – 2:00 PM. Indulge in a chef’s board\, choice of entrée\, and a dessert tower as the soothing tunes of live jazz entertainment create an enchanting atmosphere.
URL:https://www.kesslercollection.com/casa-monica/event/brunch-at-cordova-5/2026-04-19/
LOCATION:Cordova\, 95 Cordova St\, St. Augustine\, FL\, 32084\, United States
ATTACH;FMTTYPE=image/jpeg:https://www.kesslercollection.com/casa-monica/wp-content/uploads/sites/6/2024/09/CORDOVA-Spring24-2660.jpg
END:VEVENT
BEGIN:VEVENT
DTSTART;TZID=America/New_York:20260419T170000
DTEND;TZID=America/New_York:20260419T220000
DTSTAMP:20260423T230553
CREATED:20250519T150551Z
LAST-MODIFIED:20260320T193212Z
UID:10002796-1776618000-1776636000@www.kesslercollection.com
SUMMARY:Sangria Sundays at Cordova
DESCRIPTION:Enjoy 50% off our signature Cordova Sangria every Sunday from 5:00 PM – 10:00 PM. Delightful and refreshing\, discover the perfect blend of flavors to sweeten up your weekend with Sangria Sundays at Cordova.
URL:https://www.kesslercollection.com/casa-monica/event/sangria-sundays-at-cordova-2-2/2026-04-19/
LOCATION:Cordova\, 95 Cordova St\, St. Augustine\, FL\, 32084\, United States
ATTACH;FMTTYPE=image/png:https://www.kesslercollection.com/casa-monica/wp-content/uploads/sites/6/2025/05/Sangria-Sunday.png
END:VEVENT
BEGIN:VEVENT
DTSTART;TZID=America/New_York:20260420T130000
DTEND;TZID=America/New_York:20260420T170000
DTSTAMP:20260423T230553
CREATED:20250612T195159Z
LAST-MODIFIED:20260403T193555Z
UID:10003745-1776690000-1776704400@www.kesslercollection.com
SUMMARY:Happy Hour at Cordova
DESCRIPTION:Step into Cordova for an elevated Happy Hour experience\, offered Monday through Thursday from 1:00 to 5:00 PM. Enjoy hand-selected wines\, signature drink specials\, and a complimentary tasting that turns your afternoon into a moment worth lingering over.
URL:https://www.kesslercollection.com/casa-monica/event/happy-hour-at-cordova-2/2026-04-20/
LOCATION:FL
ATTACH;FMTTYPE=image/png:https://www.kesslercollection.com/casa-monica/wp-content/uploads/sites/6/2025/06/Disco-4.png
END:VEVENT
BEGIN:VEVENT
DTSTART;TZID=America/New_York:20260421T130000
DTEND;TZID=America/New_York:20260421T170000
DTSTAMP:20260423T230553
CREATED:20250612T195159Z
LAST-MODIFIED:20260403T193555Z
UID:10003746-1776776400-1776790800@www.kesslercollection.com
SUMMARY:Happy Hour at Cordova
DESCRIPTION:Step into Cordova for an elevated Happy Hour experience\, offered Monday through Thursday from 1:00 to 5:00 PM. Enjoy hand-selected wines\, signature drink specials\, and a complimentary tasting that turns your afternoon into a moment worth lingering over.
URL:https://www.kesslercollection.com/casa-monica/event/happy-hour-at-cordova-2/2026-04-21/
LOCATION:FL
ATTACH;FMTTYPE=image/png:https://www.kesslercollection.com/casa-monica/wp-content/uploads/sites/6/2025/06/Disco-4.png
END:VEVENT
BEGIN:VEVENT
DTSTART;TZID=America/New_York:20260422T130000
DTEND;TZID=America/New_York:20260422T170000
DTSTAMP:20260423T230553
CREATED:20250612T195159Z
LAST-MODIFIED:20260403T193555Z
UID:10003747-1776862800-1776877200@www.kesslercollection.com
SUMMARY:Happy Hour at Cordova
DESCRIPTION:Step into Cordova for an elevated Happy Hour experience\, offered Monday through Thursday from 1:00 to 5:00 PM. Enjoy hand-selected wines\, signature drink specials\, and a complimentary tasting that turns your afternoon into a moment worth lingering over.
URL:https://www.kesslercollection.com/casa-monica/event/happy-hour-at-cordova-2/2026-04-22/
LOCATION:FL
ATTACH;FMTTYPE=image/png:https://www.kesslercollection.com/casa-monica/wp-content/uploads/sites/6/2025/06/Disco-4.png
END:VEVENT
BEGIN:VEVENT
DTSTART;TZID=America/New_York:20260422T150000
DTEND;TZID=America/New_York:20260422T220000
DTSTAMP:20260423T230553
CREATED:20250420T045058Z
LAST-MODIFIED:20260122T221314Z
UID:10004713-1776870000-1776895200@www.kesslercollection.com
SUMMARY:Wine Down Wednesday
DESCRIPTION:Unwind from the midweek hustle with 50% off a selection of fine wines by the bottle and appetizers. Join us on Wednesdays from 3:00 PM – 10:00 PM to experience a curated wine selection perfect for pairing with our coastal chophouse menu.
URL:https://www.kesslercollection.com/casa-monica/event/wine-down-wednesday-3-2/2026-04-22/
LOCATION:Cordova\, 95 Cordova St\, St. Augustine\, FL\, 32084\, United States
ATTACH;FMTTYPE=image/png:https://www.kesslercollection.com/casa-monica/wp-content/uploads/sites/6/2025/06/Wine-Down-Wednesday.png
END:VEVENT
BEGIN:VEVENT
DTSTART;TZID=America/New_York:20260423T130000
DTEND;TZID=America/New_York:20260423T170000
DTSTAMP:20260423T230553
CREATED:20250612T195159Z
LAST-MODIFIED:20260403T193555Z
UID:10003748-1776949200-1776963600@www.kesslercollection.com
SUMMARY:Happy Hour at Cordova
DESCRIPTION:Step into Cordova for an elevated Happy Hour experience\, offered Monday through Thursday from 1:00 to 5:00 PM. Enjoy hand-selected wines\, signature drink specials\, and a complimentary tasting that turns your afternoon into a moment worth lingering over.
URL:https://www.kesslercollection.com/casa-monica/event/happy-hour-at-cordova-2/2026-04-23/
LOCATION:FL
ATTACH;FMTTYPE=image/png:https://www.kesslercollection.com/casa-monica/wp-content/uploads/sites/6/2025/06/Disco-4.png
END:VEVENT
BEGIN:VEVENT
DTSTART;TZID=America/New_York:20260425T110000
DTEND;TZID=America/New_York:20260425T140000
DTSTAMP:20260423T230553
CREATED:20240916T172455Z
LAST-MODIFIED:20260303T195139Z
UID:10003112-1777114800-1777125600@www.kesslercollection.com
SUMMARY:Brunch at Cordova
DESCRIPTION:Brunch like never before at Cordova on Saturdays and Sundays from 11:00 AM – 2:00 PM. Indulge in a chef’s board\, choice of entrée\, and a dessert tower as the soothing tunes of live jazz entertainment create an enchanting atmosphere.
URL:https://www.kesslercollection.com/casa-monica/event/brunch-at-cordova-5/2026-04-25/
LOCATION:Cordova\, 95 Cordova St\, St. Augustine\, FL\, 32084\, United States
ATTACH;FMTTYPE=image/jpeg:https://www.kesslercollection.com/casa-monica/wp-content/uploads/sites/6/2024/09/CORDOVA-Spring24-2660.jpg
END:VEVENT
BEGIN:VEVENT
DTSTART;TZID=America/New_York:20260425T180000
DTEND;TZID=America/New_York:20260425T180000
DTSTAMP:20260423T230553
CREATED:20260130T173434Z
LAST-MODIFIED:20260130T174123Z
UID:10005140-1777140000-1777140000@www.kesslercollection.com
SUMMARY:Magic Hideaway
DESCRIPTION:Discover one of the most intimate magic shows in the world featuring interactive mind-bending illusions happening mere inches away from your seat. End your evening with a post-performance social and an opportunity for photos and autographs with the Master Magician Bill Abbott.
URL:https://www.kesslercollection.com/casa-monica/event/magic-hideaway-2-2-2/2026-04-25/
LOCATION:Casa Monica Resort & Spa\, 95 Cordova St.\, St. Augustine\, FL\, 32084\, United States
ATTACH;FMTTYPE=image/jpeg:https://www.kesslercollection.com/casa-monica/wp-content/uploads/sites/6/2024/07/Magic-HIdeaway.jpeg
END:VEVENT
BEGIN:VEVENT
DTSTART;TZID=America/New_York:20260426T110000
DTEND;TZID=America/New_York:20260426T140000
DTSTAMP:20260423T230553
CREATED:20240916T172455Z
LAST-MODIFIED:20260303T195139Z
UID:10003113-1777201200-1777212000@www.kesslercollection.com
SUMMARY:Brunch at Cordova
DESCRIPTION:Brunch like never before at Cordova on Saturdays and Sundays from 11:00 AM – 2:00 PM. Indulge in a chef’s board\, choice of entrée\, and a dessert tower as the soothing tunes of live jazz entertainment create an enchanting atmosphere.
URL:https://www.kesslercollection.com/casa-monica/event/brunch-at-cordova-5/2026-04-26/
LOCATION:Cordova\, 95 Cordova St\, St. Augustine\, FL\, 32084\, United States
ATTACH;FMTTYPE=image/jpeg:https://www.kesslercollection.com/casa-monica/wp-content/uploads/sites/6/2024/09/CORDOVA-Spring24-2660.jpg
END:VEVENT
BEGIN:VEVENT
DTSTART;TZID=America/New_York:20260426T170000
DTEND;TZID=America/New_York:20260426T220000
DTSTAMP:20260423T230553
CREATED:20250519T150551Z
LAST-MODIFIED:20260320T193212Z
UID:10002797-1777222800-1777240800@www.kesslercollection.com
SUMMARY:Sangria Sundays at Cordova
DESCRIPTION:Enjoy 50% off our signature Cordova Sangria every Sunday from 5:00 PM – 10:00 PM. Delightful and refreshing\, discover the perfect blend of flavors to sweeten up your weekend with Sangria Sundays at Cordova.
URL:https://www.kesslercollection.com/casa-monica/event/sangria-sundays-at-cordova-2-2/2026-04-26/
LOCATION:Cordova\, 95 Cordova St\, St. Augustine\, FL\, 32084\, United States
ATTACH;FMTTYPE=image/png:https://www.kesslercollection.com/casa-monica/wp-content/uploads/sites/6/2025/05/Sangria-Sunday.png
END:VEVENT
BEGIN:VEVENT
DTSTART;TZID=America/New_York:20260427T130000
DTEND;TZID=America/New_York:20260427T170000
DTSTAMP:20260423T230553
CREATED:20250612T195159Z
LAST-MODIFIED:20260403T193555Z
UID:10003749-1777294800-1777309200@www.kesslercollection.com
SUMMARY:Happy Hour at Cordova
DESCRIPTION:Step into Cordova for an elevated Happy Hour experience\, offered Monday through Thursday from 1:00 to 5:00 PM. Enjoy hand-selected wines\, signature drink specials\, and a complimentary tasting that turns your afternoon into a moment worth lingering over.
URL:https://www.kesslercollection.com/casa-monica/event/happy-hour-at-cordova-2/2026-04-27/
LOCATION:FL
ATTACH;FMTTYPE=image/png:https://www.kesslercollection.com/casa-monica/wp-content/uploads/sites/6/2025/06/Disco-4.png
END:VEVENT
BEGIN:VEVENT
DTSTART;TZID=America/New_York:20260428T130000
DTEND;TZID=America/New_York:20260428T170000
DTSTAMP:20260423T230553
CREATED:20250612T195159Z
LAST-MODIFIED:20260403T193555Z
UID:10003750-1777381200-1777395600@www.kesslercollection.com
SUMMARY:Happy Hour at Cordova
DESCRIPTION:Step into Cordova for an elevated Happy Hour experience\, offered Monday through Thursday from 1:00 to 5:00 PM. Enjoy hand-selected wines\, signature drink specials\, and a complimentary tasting that turns your afternoon into a moment worth lingering over.
URL:https://www.kesslercollection.com/casa-monica/event/happy-hour-at-cordova-2/2026-04-28/
LOCATION:FL
ATTACH;FMTTYPE=image/png:https://www.kesslercollection.com/casa-monica/wp-content/uploads/sites/6/2025/06/Disco-4.png
END:VEVENT
BEGIN:VEVENT
DTSTART;TZID=America/New_York:20260429T130000
DTEND;TZID=America/New_York:20260429T170000
DTSTAMP:20260423T230553
CREATED:20250612T195159Z
LAST-MODIFIED:20260403T193555Z
UID:10003751-1777467600-1777482000@www.kesslercollection.com
SUMMARY:Happy Hour at Cordova
DESCRIPTION:Step into Cordova for an elevated Happy Hour experience\, offered Monday through Thursday from 1:00 to 5:00 PM. Enjoy hand-selected wines\, signature drink specials\, and a complimentary tasting that turns your afternoon into a moment worth lingering over.
URL:https://www.kesslercollection.com/casa-monica/event/happy-hour-at-cordova-2/2026-04-29/
LOCATION:FL
ATTACH;FMTTYPE=image/png:https://www.kesslercollection.com/casa-monica/wp-content/uploads/sites/6/2025/06/Disco-4.png
END:VEVENT
BEGIN:VEVENT
DTSTART;TZID=America/New_York:20260429T150000
DTEND;TZID=America/New_York:20260429T220000
DTSTAMP:20260423T230553
CREATED:20250420T045058Z
LAST-MODIFIED:20260122T221314Z
UID:10004714-1777474800-1777500000@www.kesslercollection.com
SUMMARY:Wine Down Wednesday
DESCRIPTION:Unwind from the midweek hustle with 50% off a selection of fine wines by the bottle and appetizers. Join us on Wednesdays from 3:00 PM – 10:00 PM to experience a curated wine selection perfect for pairing with our coastal chophouse menu.
URL:https://www.kesslercollection.com/casa-monica/event/wine-down-wednesday-3-2/2026-04-29/
LOCATION:Cordova\, 95 Cordova St\, St. Augustine\, FL\, 32084\, United States
ATTACH;FMTTYPE=image/png:https://www.kesslercollection.com/casa-monica/wp-content/uploads/sites/6/2025/06/Wine-Down-Wednesday.png
END:VEVENT
BEGIN:VEVENT
DTSTART;TZID=America/New_York:20260430T130000
DTEND;TZID=America/New_York:20260430T170000
DTSTAMP:20260423T230553
CREATED:20250612T195159Z
LAST-MODIFIED:20260403T193555Z
UID:10003752-1777554000-1777568400@www.kesslercollection.com
SUMMARY:Happy Hour at Cordova
DESCRIPTION:Step into Cordova for an elevated Happy Hour experience\, offered Monday through Thursday from 1:00 to 5:00 PM. Enjoy hand-selected wines\, signature drink specials\, and a complimentary tasting that turns your afternoon into a moment worth lingering over.
URL:https://www.kesslercollection.com/casa-monica/event/happy-hour-at-cordova-2/2026-04-30/
LOCATION:FL
ATTACH;FMTTYPE=image/png:https://www.kesslercollection.com/casa-monica/wp-content/uploads/sites/6/2025/06/Disco-4.png
END:VEVENT
END:VCALENDAR