BEGIN:VCALENDAR
VERSION:2.0
PRODID:-//Casa Monica Resort &amp; Spa - ECPv6.15.20//NONSGML v1.0//EN
CALSCALE:GREGORIAN
METHOD:PUBLISH
X-WR-CALNAME:Casa Monica Resort &amp; Spa
X-ORIGINAL-URL:https://www.kesslercollection.com/casa-monica
X-WR-CALDESC:Events for Casa Monica Resort &amp; Spa
REFRESH-INTERVAL;VALUE=DURATION:PT1H
X-Robots-Tag:noindex
X-PUBLISHED-TTL:PT1H
BEGIN:VTIMEZONE
TZID:America/New_York
BEGIN:DAYLIGHT
TZOFFSETFROM:-0500
TZOFFSETTO:-0400
TZNAME:EDT
DTSTART:20250309T070000
END:DAYLIGHT
BEGIN:STANDARD
TZOFFSETFROM:-0400
TZOFFSETTO:-0500
TZNAME:EST
DTSTART:20251102T060000
END:STANDARD
BEGIN:DAYLIGHT
TZOFFSETFROM:-0500
TZOFFSETTO:-0400
TZNAME:EDT
DTSTART:20260308T070000
END:DAYLIGHT
BEGIN:STANDARD
TZOFFSETFROM:-0400
TZOFFSETTO:-0500
TZNAME:EST
DTSTART:20261101T060000
END:STANDARD
BEGIN:DAYLIGHT
TZOFFSETFROM:-0500
TZOFFSETTO:-0400
TZNAME:EDT
DTSTART:20270314T070000
END:DAYLIGHT
BEGIN:STANDARD
TZOFFSETFROM:-0400
TZOFFSETTO:-0500
TZNAME:EST
DTSTART:20271107T060000
END:STANDARD
END:VTIMEZONE
BEGIN:VEVENT
DTSTART;TZID=America/New_York:20261011T110000
DTEND;TZID=America/New_York:20261011T140000
DTSTAMP:20260423T192332
CREATED:20240916T172455Z
LAST-MODIFIED:20260303T195139Z
UID:10003161-1791716400-1791727200@www.kesslercollection.com
SUMMARY:Brunch at Cordova
DESCRIPTION:Brunch like never before at Cordova on Saturdays and Sundays from 11:00 AM – 2:00 PM. Indulge in a chef’s board\, choice of entrée\, and a dessert tower as the soothing tunes of live jazz entertainment create an enchanting atmosphere.
URL:https://www.kesslercollection.com/casa-monica/event/brunch-at-cordova-5/2026-10-11/
LOCATION:Cordova\, 95 Cordova St\, St. Augustine\, FL\, 32084\, United States
ATTACH;FMTTYPE=image/jpeg:https://www.kesslercollection.com/casa-monica/wp-content/uploads/sites/6/2024/09/CORDOVA-Spring24-2660.jpg
END:VEVENT
BEGIN:VEVENT
DTSTART;TZID=America/New_York:20261011T170000
DTEND;TZID=America/New_York:20261011T220000
DTSTAMP:20260423T192332
CREATED:20250519T150551Z
LAST-MODIFIED:20260320T193212Z
UID:10002821-1791738000-1791756000@www.kesslercollection.com
SUMMARY:Sangria Sundays at Cordova
DESCRIPTION:Enjoy 50% off our signature Cordova Sangria every Sunday from 5:00 PM – 10:00 PM. Delightful and refreshing\, discover the perfect blend of flavors to sweeten up your weekend with Sangria Sundays at Cordova.
URL:https://www.kesslercollection.com/casa-monica/event/sangria-sundays-at-cordova-2-2/2026-10-11/
LOCATION:Cordova\, 95 Cordova St\, St. Augustine\, FL\, 32084\, United States
ATTACH;FMTTYPE=image/png:https://www.kesslercollection.com/casa-monica/wp-content/uploads/sites/6/2025/05/Sangria-Sunday.png
END:VEVENT
BEGIN:VEVENT
DTSTART;TZID=America/New_York:20261012T130000
DTEND;TZID=America/New_York:20261012T170000
DTSTAMP:20260423T192332
CREATED:20250612T195159Z
LAST-MODIFIED:20260403T193555Z
UID:10003845-1791810000-1791824400@www.kesslercollection.com
SUMMARY:Happy Hour at Cordova
DESCRIPTION:Step into Cordova for an elevated Happy Hour experience\, offered Monday through Thursday from 1:00 to 5:00 PM. Enjoy hand-selected wines\, signature drink specials\, and a complimentary tasting that turns your afternoon into a moment worth lingering over.
URL:https://www.kesslercollection.com/casa-monica/event/happy-hour-at-cordova-2/2026-10-12/
LOCATION:FL
ATTACH;FMTTYPE=image/png:https://www.kesslercollection.com/casa-monica/wp-content/uploads/sites/6/2025/06/Disco-4.png
END:VEVENT
BEGIN:VEVENT
DTSTART;TZID=America/New_York:20261013T130000
DTEND;TZID=America/New_York:20261013T170000
DTSTAMP:20260423T192332
CREATED:20250612T195159Z
LAST-MODIFIED:20260403T193555Z
UID:10003846-1791896400-1791910800@www.kesslercollection.com
SUMMARY:Happy Hour at Cordova
DESCRIPTION:Step into Cordova for an elevated Happy Hour experience\, offered Monday through Thursday from 1:00 to 5:00 PM. Enjoy hand-selected wines\, signature drink specials\, and a complimentary tasting that turns your afternoon into a moment worth lingering over.
URL:https://www.kesslercollection.com/casa-monica/event/happy-hour-at-cordova-2/2026-10-13/
LOCATION:FL
ATTACH;FMTTYPE=image/png:https://www.kesslercollection.com/casa-monica/wp-content/uploads/sites/6/2025/06/Disco-4.png
END:VEVENT
BEGIN:VEVENT
DTSTART;TZID=America/New_York:20261014T130000
DTEND;TZID=America/New_York:20261014T170000
DTSTAMP:20260423T192332
CREATED:20250612T195159Z
LAST-MODIFIED:20260403T193555Z
UID:10003847-1791982800-1791997200@www.kesslercollection.com
SUMMARY:Happy Hour at Cordova
DESCRIPTION:Step into Cordova for an elevated Happy Hour experience\, offered Monday through Thursday from 1:00 to 5:00 PM. Enjoy hand-selected wines\, signature drink specials\, and a complimentary tasting that turns your afternoon into a moment worth lingering over.
URL:https://www.kesslercollection.com/casa-monica/event/happy-hour-at-cordova-2/2026-10-14/
LOCATION:FL
ATTACH;FMTTYPE=image/png:https://www.kesslercollection.com/casa-monica/wp-content/uploads/sites/6/2025/06/Disco-4.png
END:VEVENT
BEGIN:VEVENT
DTSTART;TZID=America/New_York:20261014T150000
DTEND;TZID=America/New_York:20261014T220000
DTSTAMP:20260423T192332
CREATED:20250420T045058Z
LAST-MODIFIED:20260122T221314Z
UID:10004738-1791990000-1792015200@www.kesslercollection.com
SUMMARY:Wine Down Wednesday
DESCRIPTION:Unwind from the midweek hustle with 50% off a selection of fine wines by the bottle and appetizers. Join us on Wednesdays from 3:00 PM – 10:00 PM to experience a curated wine selection perfect for pairing with our coastal chophouse menu.
URL:https://www.kesslercollection.com/casa-monica/event/wine-down-wednesday-3-2/2026-10-14/
LOCATION:Cordova\, 95 Cordova St\, St. Augustine\, FL\, 32084\, United States
ATTACH;FMTTYPE=image/png:https://www.kesslercollection.com/casa-monica/wp-content/uploads/sites/6/2025/06/Wine-Down-Wednesday.png
END:VEVENT
BEGIN:VEVENT
DTSTART;TZID=America/New_York:20261015T130000
DTEND;TZID=America/New_York:20261015T170000
DTSTAMP:20260423T192332
CREATED:20250612T195159Z
LAST-MODIFIED:20260403T193555Z
UID:10003848-1792069200-1792083600@www.kesslercollection.com
SUMMARY:Happy Hour at Cordova
DESCRIPTION:Step into Cordova for an elevated Happy Hour experience\, offered Monday through Thursday from 1:00 to 5:00 PM. Enjoy hand-selected wines\, signature drink specials\, and a complimentary tasting that turns your afternoon into a moment worth lingering over.
URL:https://www.kesslercollection.com/casa-monica/event/happy-hour-at-cordova-2/2026-10-15/
LOCATION:FL
ATTACH;FMTTYPE=image/png:https://www.kesslercollection.com/casa-monica/wp-content/uploads/sites/6/2025/06/Disco-4.png
END:VEVENT
BEGIN:VEVENT
DTSTART;TZID=America/New_York:20261017T110000
DTEND;TZID=America/New_York:20261017T140000
DTSTAMP:20260423T192332
CREATED:20240916T172455Z
LAST-MODIFIED:20260303T195139Z
UID:10003162-1792234800-1792245600@www.kesslercollection.com
SUMMARY:Brunch at Cordova
DESCRIPTION:Brunch like never before at Cordova on Saturdays and Sundays from 11:00 AM – 2:00 PM. Indulge in a chef’s board\, choice of entrée\, and a dessert tower as the soothing tunes of live jazz entertainment create an enchanting atmosphere.
URL:https://www.kesslercollection.com/casa-monica/event/brunch-at-cordova-5/2026-10-17/
LOCATION:Cordova\, 95 Cordova St\, St. Augustine\, FL\, 32084\, United States
ATTACH;FMTTYPE=image/jpeg:https://www.kesslercollection.com/casa-monica/wp-content/uploads/sites/6/2024/09/CORDOVA-Spring24-2660.jpg
END:VEVENT
BEGIN:VEVENT
DTSTART;TZID=America/New_York:20261017T180000
DTEND;TZID=America/New_York:20261017T180000
DTSTAMP:20260423T192332
CREATED:20260130T173434Z
LAST-MODIFIED:20260130T174123Z
UID:10005165-1792260000-1792260000@www.kesslercollection.com
SUMMARY:Magic Hideaway
DESCRIPTION:Discover one of the most intimate magic shows in the world featuring interactive mind-bending illusions happening mere inches away from your seat. End your evening with a post-performance social and an opportunity for photos and autographs with the Master Magician Bill Abbott.
URL:https://www.kesslercollection.com/casa-monica/event/magic-hideaway-2-2-2/2026-10-17/
LOCATION:Casa Monica Resort & Spa\, 95 Cordova St.\, St. Augustine\, FL\, 32084\, United States
ATTACH;FMTTYPE=image/jpeg:https://www.kesslercollection.com/casa-monica/wp-content/uploads/sites/6/2024/07/Magic-HIdeaway.jpeg
END:VEVENT
BEGIN:VEVENT
DTSTART;TZID=America/New_York:20261018T110000
DTEND;TZID=America/New_York:20261018T140000
DTSTAMP:20260423T192332
CREATED:20240916T172455Z
LAST-MODIFIED:20260303T195139Z
UID:10003163-1792321200-1792332000@www.kesslercollection.com
SUMMARY:Brunch at Cordova
DESCRIPTION:Brunch like never before at Cordova on Saturdays and Sundays from 11:00 AM – 2:00 PM. Indulge in a chef’s board\, choice of entrée\, and a dessert tower as the soothing tunes of live jazz entertainment create an enchanting atmosphere.
URL:https://www.kesslercollection.com/casa-monica/event/brunch-at-cordova-5/2026-10-18/
LOCATION:Cordova\, 95 Cordova St\, St. Augustine\, FL\, 32084\, United States
ATTACH;FMTTYPE=image/jpeg:https://www.kesslercollection.com/casa-monica/wp-content/uploads/sites/6/2024/09/CORDOVA-Spring24-2660.jpg
END:VEVENT
BEGIN:VEVENT
DTSTART;TZID=America/New_York:20261018T170000
DTEND;TZID=America/New_York:20261018T220000
DTSTAMP:20260423T192332
CREATED:20250519T150551Z
LAST-MODIFIED:20260320T193212Z
UID:10002822-1792342800-1792360800@www.kesslercollection.com
SUMMARY:Sangria Sundays at Cordova
DESCRIPTION:Enjoy 50% off our signature Cordova Sangria every Sunday from 5:00 PM – 10:00 PM. Delightful and refreshing\, discover the perfect blend of flavors to sweeten up your weekend with Sangria Sundays at Cordova.
URL:https://www.kesslercollection.com/casa-monica/event/sangria-sundays-at-cordova-2-2/2026-10-18/
LOCATION:Cordova\, 95 Cordova St\, St. Augustine\, FL\, 32084\, United States
ATTACH;FMTTYPE=image/png:https://www.kesslercollection.com/casa-monica/wp-content/uploads/sites/6/2025/05/Sangria-Sunday.png
END:VEVENT
BEGIN:VEVENT
DTSTART;TZID=America/New_York:20261019T130000
DTEND;TZID=America/New_York:20261019T170000
DTSTAMP:20260423T192332
CREATED:20250612T195159Z
LAST-MODIFIED:20260403T193555Z
UID:10003849-1792414800-1792429200@www.kesslercollection.com
SUMMARY:Happy Hour at Cordova
DESCRIPTION:Step into Cordova for an elevated Happy Hour experience\, offered Monday through Thursday from 1:00 to 5:00 PM. Enjoy hand-selected wines\, signature drink specials\, and a complimentary tasting that turns your afternoon into a moment worth lingering over.
URL:https://www.kesslercollection.com/casa-monica/event/happy-hour-at-cordova-2/2026-10-19/
LOCATION:FL
ATTACH;FMTTYPE=image/png:https://www.kesslercollection.com/casa-monica/wp-content/uploads/sites/6/2025/06/Disco-4.png
END:VEVENT
BEGIN:VEVENT
DTSTART;TZID=America/New_York:20261020T130000
DTEND;TZID=America/New_York:20261020T170000
DTSTAMP:20260423T192332
CREATED:20250612T195159Z
LAST-MODIFIED:20260403T193555Z
UID:10003850-1792501200-1792515600@www.kesslercollection.com
SUMMARY:Happy Hour at Cordova
DESCRIPTION:Step into Cordova for an elevated Happy Hour experience\, offered Monday through Thursday from 1:00 to 5:00 PM. Enjoy hand-selected wines\, signature drink specials\, and a complimentary tasting that turns your afternoon into a moment worth lingering over.
URL:https://www.kesslercollection.com/casa-monica/event/happy-hour-at-cordova-2/2026-10-20/
LOCATION:FL
ATTACH;FMTTYPE=image/png:https://www.kesslercollection.com/casa-monica/wp-content/uploads/sites/6/2025/06/Disco-4.png
END:VEVENT
BEGIN:VEVENT
DTSTART;TZID=America/New_York:20261021T130000
DTEND;TZID=America/New_York:20261021T170000
DTSTAMP:20260423T192332
CREATED:20250612T195159Z
LAST-MODIFIED:20260403T193555Z
UID:10003851-1792587600-1792602000@www.kesslercollection.com
SUMMARY:Happy Hour at Cordova
DESCRIPTION:Step into Cordova for an elevated Happy Hour experience\, offered Monday through Thursday from 1:00 to 5:00 PM. Enjoy hand-selected wines\, signature drink specials\, and a complimentary tasting that turns your afternoon into a moment worth lingering over.
URL:https://www.kesslercollection.com/casa-monica/event/happy-hour-at-cordova-2/2026-10-21/
LOCATION:FL
ATTACH;FMTTYPE=image/png:https://www.kesslercollection.com/casa-monica/wp-content/uploads/sites/6/2025/06/Disco-4.png
END:VEVENT
BEGIN:VEVENT
DTSTART;TZID=America/New_York:20261021T150000
DTEND;TZID=America/New_York:20261021T220000
DTSTAMP:20260423T192332
CREATED:20250420T045058Z
LAST-MODIFIED:20260122T221314Z
UID:10004739-1792594800-1792620000@www.kesslercollection.com
SUMMARY:Wine Down Wednesday
DESCRIPTION:Unwind from the midweek hustle with 50% off a selection of fine wines by the bottle and appetizers. Join us on Wednesdays from 3:00 PM – 10:00 PM to experience a curated wine selection perfect for pairing with our coastal chophouse menu.
URL:https://www.kesslercollection.com/casa-monica/event/wine-down-wednesday-3-2/2026-10-21/
LOCATION:Cordova\, 95 Cordova St\, St. Augustine\, FL\, 32084\, United States
ATTACH;FMTTYPE=image/png:https://www.kesslercollection.com/casa-monica/wp-content/uploads/sites/6/2025/06/Wine-Down-Wednesday.png
END:VEVENT
BEGIN:VEVENT
DTSTART;TZID=America/New_York:20261022T130000
DTEND;TZID=America/New_York:20261022T170000
DTSTAMP:20260423T192332
CREATED:20250612T195159Z
LAST-MODIFIED:20260403T193555Z
UID:10003852-1792674000-1792688400@www.kesslercollection.com
SUMMARY:Happy Hour at Cordova
DESCRIPTION:Step into Cordova for an elevated Happy Hour experience\, offered Monday through Thursday from 1:00 to 5:00 PM. Enjoy hand-selected wines\, signature drink specials\, and a complimentary tasting that turns your afternoon into a moment worth lingering over.
URL:https://www.kesslercollection.com/casa-monica/event/happy-hour-at-cordova-2/2026-10-22/
LOCATION:FL
ATTACH;FMTTYPE=image/png:https://www.kesslercollection.com/casa-monica/wp-content/uploads/sites/6/2025/06/Disco-4.png
END:VEVENT
BEGIN:VEVENT
DTSTART;TZID=America/New_York:20261024T110000
DTEND;TZID=America/New_York:20261024T140000
DTSTAMP:20260423T192332
CREATED:20240916T172455Z
LAST-MODIFIED:20260303T195139Z
UID:10003164-1792839600-1792850400@www.kesslercollection.com
SUMMARY:Brunch at Cordova
DESCRIPTION:Brunch like never before at Cordova on Saturdays and Sundays from 11:00 AM – 2:00 PM. Indulge in a chef’s board\, choice of entrée\, and a dessert tower as the soothing tunes of live jazz entertainment create an enchanting atmosphere.
URL:https://www.kesslercollection.com/casa-monica/event/brunch-at-cordova-5/2026-10-24/
LOCATION:Cordova\, 95 Cordova St\, St. Augustine\, FL\, 32084\, United States
ATTACH;FMTTYPE=image/jpeg:https://www.kesslercollection.com/casa-monica/wp-content/uploads/sites/6/2024/09/CORDOVA-Spring24-2660.jpg
END:VEVENT
BEGIN:VEVENT
DTSTART;TZID=America/New_York:20261024T180000
DTEND;TZID=America/New_York:20261024T180000
DTSTAMP:20260423T192332
CREATED:20260130T173434Z
LAST-MODIFIED:20260130T174123Z
UID:10005166-1792864800-1792864800@www.kesslercollection.com
SUMMARY:Magic Hideaway
DESCRIPTION:Discover one of the most intimate magic shows in the world featuring interactive mind-bending illusions happening mere inches away from your seat. End your evening with a post-performance social and an opportunity for photos and autographs with the Master Magician Bill Abbott.
URL:https://www.kesslercollection.com/casa-monica/event/magic-hideaway-2-2-2/2026-10-24/
LOCATION:Casa Monica Resort & Spa\, 95 Cordova St.\, St. Augustine\, FL\, 32084\, United States
ATTACH;FMTTYPE=image/jpeg:https://www.kesslercollection.com/casa-monica/wp-content/uploads/sites/6/2024/07/Magic-HIdeaway.jpeg
END:VEVENT
BEGIN:VEVENT
DTSTART;TZID=America/New_York:20261025T110000
DTEND;TZID=America/New_York:20261025T140000
DTSTAMP:20260423T192332
CREATED:20240916T172455Z
LAST-MODIFIED:20260303T195139Z
UID:10003165-1792926000-1792936800@www.kesslercollection.com
SUMMARY:Brunch at Cordova
DESCRIPTION:Brunch like never before at Cordova on Saturdays and Sundays from 11:00 AM – 2:00 PM. Indulge in a chef’s board\, choice of entrée\, and a dessert tower as the soothing tunes of live jazz entertainment create an enchanting atmosphere.
URL:https://www.kesslercollection.com/casa-monica/event/brunch-at-cordova-5/2026-10-25/
LOCATION:Cordova\, 95 Cordova St\, St. Augustine\, FL\, 32084\, United States
ATTACH;FMTTYPE=image/jpeg:https://www.kesslercollection.com/casa-monica/wp-content/uploads/sites/6/2024/09/CORDOVA-Spring24-2660.jpg
END:VEVENT
BEGIN:VEVENT
DTSTART;TZID=America/New_York:20261025T170000
DTEND;TZID=America/New_York:20261025T220000
DTSTAMP:20260423T192332
CREATED:20250519T150551Z
LAST-MODIFIED:20260320T193212Z
UID:10002823-1792947600-1792965600@www.kesslercollection.com
SUMMARY:Sangria Sundays at Cordova
DESCRIPTION:Enjoy 50% off our signature Cordova Sangria every Sunday from 5:00 PM – 10:00 PM. Delightful and refreshing\, discover the perfect blend of flavors to sweeten up your weekend with Sangria Sundays at Cordova.
URL:https://www.kesslercollection.com/casa-monica/event/sangria-sundays-at-cordova-2-2/2026-10-25/
LOCATION:Cordova\, 95 Cordova St\, St. Augustine\, FL\, 32084\, United States
ATTACH;FMTTYPE=image/png:https://www.kesslercollection.com/casa-monica/wp-content/uploads/sites/6/2025/05/Sangria-Sunday.png
END:VEVENT
BEGIN:VEVENT
DTSTART;TZID=America/New_York:20261026T130000
DTEND;TZID=America/New_York:20261026T170000
DTSTAMP:20260423T192332
CREATED:20250612T195159Z
LAST-MODIFIED:20260403T193555Z
UID:10003853-1793019600-1793034000@www.kesslercollection.com
SUMMARY:Happy Hour at Cordova
DESCRIPTION:Step into Cordova for an elevated Happy Hour experience\, offered Monday through Thursday from 1:00 to 5:00 PM. Enjoy hand-selected wines\, signature drink specials\, and a complimentary tasting that turns your afternoon into a moment worth lingering over.
URL:https://www.kesslercollection.com/casa-monica/event/happy-hour-at-cordova-2/2026-10-26/
LOCATION:FL
ATTACH;FMTTYPE=image/png:https://www.kesslercollection.com/casa-monica/wp-content/uploads/sites/6/2025/06/Disco-4.png
END:VEVENT
BEGIN:VEVENT
DTSTART;TZID=America/New_York:20261027T130000
DTEND;TZID=America/New_York:20261027T170000
DTSTAMP:20260423T192332
CREATED:20250612T195159Z
LAST-MODIFIED:20260403T193555Z
UID:10003854-1793106000-1793120400@www.kesslercollection.com
SUMMARY:Happy Hour at Cordova
DESCRIPTION:Step into Cordova for an elevated Happy Hour experience\, offered Monday through Thursday from 1:00 to 5:00 PM. Enjoy hand-selected wines\, signature drink specials\, and a complimentary tasting that turns your afternoon into a moment worth lingering over.
URL:https://www.kesslercollection.com/casa-monica/event/happy-hour-at-cordova-2/2026-10-27/
LOCATION:FL
ATTACH;FMTTYPE=image/png:https://www.kesslercollection.com/casa-monica/wp-content/uploads/sites/6/2025/06/Disco-4.png
END:VEVENT
BEGIN:VEVENT
DTSTART;TZID=America/New_York:20261028T130000
DTEND;TZID=America/New_York:20261028T170000
DTSTAMP:20260423T192332
CREATED:20250612T195159Z
LAST-MODIFIED:20260403T193555Z
UID:10003855-1793192400-1793206800@www.kesslercollection.com
SUMMARY:Happy Hour at Cordova
DESCRIPTION:Step into Cordova for an elevated Happy Hour experience\, offered Monday through Thursday from 1:00 to 5:00 PM. Enjoy hand-selected wines\, signature drink specials\, and a complimentary tasting that turns your afternoon into a moment worth lingering over.
URL:https://www.kesslercollection.com/casa-monica/event/happy-hour-at-cordova-2/2026-10-28/
LOCATION:FL
ATTACH;FMTTYPE=image/png:https://www.kesslercollection.com/casa-monica/wp-content/uploads/sites/6/2025/06/Disco-4.png
END:VEVENT
BEGIN:VEVENT
DTSTART;TZID=America/New_York:20261028T150000
DTEND;TZID=America/New_York:20261028T220000
DTSTAMP:20260423T192332
CREATED:20250420T045058Z
LAST-MODIFIED:20260122T221314Z
UID:10004740-1793199600-1793224800@www.kesslercollection.com
SUMMARY:Wine Down Wednesday
DESCRIPTION:Unwind from the midweek hustle with 50% off a selection of fine wines by the bottle and appetizers. Join us on Wednesdays from 3:00 PM – 10:00 PM to experience a curated wine selection perfect for pairing with our coastal chophouse menu.
URL:https://www.kesslercollection.com/casa-monica/event/wine-down-wednesday-3-2/2026-10-28/
LOCATION:Cordova\, 95 Cordova St\, St. Augustine\, FL\, 32084\, United States
ATTACH;FMTTYPE=image/png:https://www.kesslercollection.com/casa-monica/wp-content/uploads/sites/6/2025/06/Wine-Down-Wednesday.png
END:VEVENT
BEGIN:VEVENT
DTSTART;TZID=America/New_York:20261029T130000
DTEND;TZID=America/New_York:20261029T170000
DTSTAMP:20260423T192332
CREATED:20250612T195159Z
LAST-MODIFIED:20260403T193555Z
UID:10003856-1793278800-1793293200@www.kesslercollection.com
SUMMARY:Happy Hour at Cordova
DESCRIPTION:Step into Cordova for an elevated Happy Hour experience\, offered Monday through Thursday from 1:00 to 5:00 PM. Enjoy hand-selected wines\, signature drink specials\, and a complimentary tasting that turns your afternoon into a moment worth lingering over.
URL:https://www.kesslercollection.com/casa-monica/event/happy-hour-at-cordova-2/2026-10-29/
LOCATION:FL
ATTACH;FMTTYPE=image/png:https://www.kesslercollection.com/casa-monica/wp-content/uploads/sites/6/2025/06/Disco-4.png
END:VEVENT
BEGIN:VEVENT
DTSTART;TZID=America/New_York:20261031T110000
DTEND;TZID=America/New_York:20261031T140000
DTSTAMP:20260423T192332
CREATED:20240916T172455Z
LAST-MODIFIED:20260303T195139Z
UID:10003166-1793444400-1793455200@www.kesslercollection.com
SUMMARY:Brunch at Cordova
DESCRIPTION:Brunch like never before at Cordova on Saturdays and Sundays from 11:00 AM – 2:00 PM. Indulge in a chef’s board\, choice of entrée\, and a dessert tower as the soothing tunes of live jazz entertainment create an enchanting atmosphere.
URL:https://www.kesslercollection.com/casa-monica/event/brunch-at-cordova-5/2026-10-31/
LOCATION:Cordova\, 95 Cordova St\, St. Augustine\, FL\, 32084\, United States
ATTACH;FMTTYPE=image/jpeg:https://www.kesslercollection.com/casa-monica/wp-content/uploads/sites/6/2024/09/CORDOVA-Spring24-2660.jpg
END:VEVENT
BEGIN:VEVENT
DTSTART;TZID=America/New_York:20261031T180000
DTEND;TZID=America/New_York:20261031T180000
DTSTAMP:20260423T192332
CREATED:20260130T173434Z
LAST-MODIFIED:20260130T174123Z
UID:10005167-1793469600-1793469600@www.kesslercollection.com
SUMMARY:Magic Hideaway
DESCRIPTION:Discover one of the most intimate magic shows in the world featuring interactive mind-bending illusions happening mere inches away from your seat. End your evening with a post-performance social and an opportunity for photos and autographs with the Master Magician Bill Abbott.
URL:https://www.kesslercollection.com/casa-monica/event/magic-hideaway-2-2-2/2026-10-31/
LOCATION:Casa Monica Resort & Spa\, 95 Cordova St.\, St. Augustine\, FL\, 32084\, United States
ATTACH;FMTTYPE=image/jpeg:https://www.kesslercollection.com/casa-monica/wp-content/uploads/sites/6/2024/07/Magic-HIdeaway.jpeg
END:VEVENT
BEGIN:VEVENT
DTSTART;TZID=America/New_York:20261101T110000
DTEND;TZID=America/New_York:20261101T140000
DTSTAMP:20260423T192332
CREATED:20240916T172455Z
LAST-MODIFIED:20260303T195139Z
UID:10003167-1793530800-1793541600@www.kesslercollection.com
SUMMARY:Brunch at Cordova
DESCRIPTION:Brunch like never before at Cordova on Saturdays and Sundays from 11:00 AM – 2:00 PM. Indulge in a chef’s board\, choice of entrée\, and a dessert tower as the soothing tunes of live jazz entertainment create an enchanting atmosphere.
URL:https://www.kesslercollection.com/casa-monica/event/brunch-at-cordova-5/2026-11-01/
LOCATION:Cordova\, 95 Cordova St\, St. Augustine\, FL\, 32084\, United States
ATTACH;FMTTYPE=image/jpeg:https://www.kesslercollection.com/casa-monica/wp-content/uploads/sites/6/2024/09/CORDOVA-Spring24-2660.jpg
END:VEVENT
BEGIN:VEVENT
DTSTART;TZID=America/New_York:20261101T170000
DTEND;TZID=America/New_York:20261101T220000
DTSTAMP:20260423T192332
CREATED:20250519T150551Z
LAST-MODIFIED:20260320T193212Z
UID:10002824-1793552400-1793570400@www.kesslercollection.com
SUMMARY:Sangria Sundays at Cordova
DESCRIPTION:Enjoy 50% off our signature Cordova Sangria every Sunday from 5:00 PM – 10:00 PM. Delightful and refreshing\, discover the perfect blend of flavors to sweeten up your weekend with Sangria Sundays at Cordova.
URL:https://www.kesslercollection.com/casa-monica/event/sangria-sundays-at-cordova-2-2/2026-11-01/
LOCATION:Cordova\, 95 Cordova St\, St. Augustine\, FL\, 32084\, United States
ATTACH;FMTTYPE=image/png:https://www.kesslercollection.com/casa-monica/wp-content/uploads/sites/6/2025/05/Sangria-Sunday.png
END:VEVENT
BEGIN:VEVENT
DTSTART;TZID=America/New_York:20261102T130000
DTEND;TZID=America/New_York:20261102T170000
DTSTAMP:20260423T192332
CREATED:20250612T195159Z
LAST-MODIFIED:20260403T193555Z
UID:10003857-1793624400-1793638800@www.kesslercollection.com
SUMMARY:Happy Hour at Cordova
DESCRIPTION:Step into Cordova for an elevated Happy Hour experience\, offered Monday through Thursday from 1:00 to 5:00 PM. Enjoy hand-selected wines\, signature drink specials\, and a complimentary tasting that turns your afternoon into a moment worth lingering over.
URL:https://www.kesslercollection.com/casa-monica/event/happy-hour-at-cordova-2/2026-11-02/
LOCATION:FL
ATTACH;FMTTYPE=image/png:https://www.kesslercollection.com/casa-monica/wp-content/uploads/sites/6/2025/06/Disco-4.png
END:VEVENT
END:VCALENDAR