BEGIN:VCALENDAR
VERSION:2.0
PRODID:-//Casa Monica Resort &amp; Spa - ECPv6.15.20//NONSGML v1.0//EN
CALSCALE:GREGORIAN
METHOD:PUBLISH
X-ORIGINAL-URL:https://www.kesslercollection.com/casa-monica
X-WR-CALDESC:Events for Casa Monica Resort &amp; Spa
REFRESH-INTERVAL;VALUE=DURATION:PT1H
X-Robots-Tag:noindex
X-PUBLISHED-TTL:PT1H
BEGIN:VTIMEZONE
TZID:America/New_York
BEGIN:DAYLIGHT
TZOFFSETFROM:-0500
TZOFFSETTO:-0400
TZNAME:EDT
DTSTART:20230312T070000
END:DAYLIGHT
BEGIN:STANDARD
TZOFFSETFROM:-0400
TZOFFSETTO:-0500
TZNAME:EST
DTSTART:20231105T060000
END:STANDARD
BEGIN:DAYLIGHT
TZOFFSETFROM:-0500
TZOFFSETTO:-0400
TZNAME:EDT
DTSTART:20240310T070000
END:DAYLIGHT
BEGIN:STANDARD
TZOFFSETFROM:-0400
TZOFFSETTO:-0500
TZNAME:EST
DTSTART:20241103T060000
END:STANDARD
BEGIN:DAYLIGHT
TZOFFSETFROM:-0500
TZOFFSETTO:-0400
TZNAME:EDT
DTSTART:20250309T070000
END:DAYLIGHT
BEGIN:STANDARD
TZOFFSETFROM:-0400
TZOFFSETTO:-0500
TZNAME:EST
DTSTART:20251102T060000
END:STANDARD
END:VTIMEZONE
BEGIN:VEVENT
DTSTART;TZID=America/New_York:20241113T170000
DTEND;TZID=America/New_York:20241113T220000
DTSTAMP:20260425T062805
CREATED:20240319T200507Z
LAST-MODIFIED:20241121T171551Z
UID:10002034-1731517200-1731535200@www.kesslercollection.com
SUMMARY:Wine Down Wednesday
DESCRIPTION:Unwind from the midweek hustle with 50% off a selection of fine wines by the bottle. Join us on Wednesdays from 5:00 PM – 10:00 PM to experience a curated wine selection perfect for pairing with our coastal chophouse menu.
URL:https://www.kesslercollection.com/casa-monica/event/wine-down-wednesday-3/2024-11-13/
LOCATION:Cordova\, 95 Cordova St\, St. Augustine\, FL\, 32084\, United States
ATTACH;FMTTYPE=image/png:https://www.kesslercollection.com/casa-monica/wp-content/uploads/sites/6/2023/10/Event-calendar-2023-10-24T112204.445.png
END:VEVENT
BEGIN:VEVENT
DTSTART;TZID=America/New_York:20241116T110000
DTEND;TZID=America/New_York:20241116T140000
DTSTAMP:20260425T062805
CREATED:20231102T142457Z
LAST-MODIFIED:20241118T135506Z
UID:10001895-1731754800-1731765600@www.kesslercollection.com
SUMMARY:Brunch at Cordova
DESCRIPTION:Brunch like never before at Cordova on Saturdays and Sundays from 11:00 AM – 2:00 PM. Indulge in a chef’s board\, choice of entrée\, and a dessert tower as the soothing tunes of live jazz entertainment create an enchanting atmosphere.
URL:https://www.kesslercollection.com/casa-monica/event/brunch-at-cordova/2024-11-16/
LOCATION:Cordova\, 95 Cordova St\, St. Augustine\, FL\, 32084\, United States
ATTACH;FMTTYPE=image/jpeg:https://www.kesslercollection.com/casa-monica/wp-content/uploads/sites/6/2023/11/CORDOVA-Spring24-1833.jpg
END:VEVENT
BEGIN:VEVENT
DTSTART;TZID=America/New_York:20241117T110000
DTEND;TZID=America/New_York:20241117T140000
DTSTAMP:20260425T062805
CREATED:20231102T142457Z
LAST-MODIFIED:20241118T135506Z
UID:10001529-1731841200-1731852000@www.kesslercollection.com
SUMMARY:Brunch at Cordova
DESCRIPTION:Brunch like never before at Cordova on Saturdays and Sundays from 11:00 AM – 2:00 PM. Indulge in a chef’s board\, choice of entrée\, and a dessert tower as the soothing tunes of live jazz entertainment create an enchanting atmosphere.
URL:https://www.kesslercollection.com/casa-monica/event/brunch-at-cordova/2024-11-17/
LOCATION:Cordova\, 95 Cordova St\, St. Augustine\, FL\, 32084\, United States
ATTACH;FMTTYPE=image/jpeg:https://www.kesslercollection.com/casa-monica/wp-content/uploads/sites/6/2023/11/CORDOVA-Spring24-1833.jpg
END:VEVENT
BEGIN:VEVENT
DTSTART;TZID=America/New_York:20241117T170000
DTEND;TZID=America/New_York:20241117T220000
DTSTAMP:20260425T062805
CREATED:20240808T155804Z
LAST-MODIFIED:20250519T150141Z
UID:10002039-1731862800-1731880800@www.kesslercollection.com
SUMMARY:Sangria Sundays at Cordova
DESCRIPTION:Enjoy 50% off our signature Cordova Sangria every Sunday from 5:00 PM – 10:00 PM. Delightful and refreshing\, discover the perfect blend of flavors to sweeten up your weekend with Sangria Sundays at Cordova.
URL:https://www.kesslercollection.com/casa-monica/event/sangria-sundays-at-cordova/2024-11-17/
LOCATION:Cordova\, 95 Cordova St\, St. Augustine\, FL\, 32084\, United States
ATTACH;FMTTYPE=image/png:https://www.kesslercollection.com/casa-monica/wp-content/uploads/sites/6/2024/08/Disco-16-2.png
END:VEVENT
BEGIN:VEVENT
DTSTART;TZID=America/New_York:20241123T110000
DTEND;TZID=America/New_York:20241123T140000
DTSTAMP:20260425T062805
CREATED:20231102T142457Z
LAST-MODIFIED:20241118T135506Z
UID:10001896-1732359600-1732370400@www.kesslercollection.com
SUMMARY:Brunch at Cordova
DESCRIPTION:Brunch like never before at Cordova on Saturdays and Sundays from 11:00 AM – 2:00 PM. Indulge in a chef’s board\, choice of entrée\, and a dessert tower as the soothing tunes of live jazz entertainment create an enchanting atmosphere.
URL:https://www.kesslercollection.com/casa-monica/event/brunch-at-cordova/2024-11-23/
LOCATION:Cordova\, 95 Cordova St\, St. Augustine\, FL\, 32084\, United States
ATTACH;FMTTYPE=image/jpeg:https://www.kesslercollection.com/casa-monica/wp-content/uploads/sites/6/2023/11/CORDOVA-Spring24-1833.jpg
END:VEVENT
BEGIN:VEVENT
DTSTART;TZID=America/New_York:20241124T110000
DTEND;TZID=America/New_York:20241124T140000
DTSTAMP:20260425T062805
CREATED:20231102T142457Z
LAST-MODIFIED:20241118T135506Z
UID:10001530-1732446000-1732456800@www.kesslercollection.com
SUMMARY:Brunch at Cordova
DESCRIPTION:Brunch like never before at Cordova on Saturdays and Sundays from 11:00 AM – 2:00 PM. Indulge in a chef’s board\, choice of entrée\, and a dessert tower as the soothing tunes of live jazz entertainment create an enchanting atmosphere.
URL:https://www.kesslercollection.com/casa-monica/event/brunch-at-cordova/2024-11-24/
LOCATION:Cordova\, 95 Cordova St\, St. Augustine\, FL\, 32084\, United States
ATTACH;FMTTYPE=image/jpeg:https://www.kesslercollection.com/casa-monica/wp-content/uploads/sites/6/2023/11/CORDOVA-Spring24-1833.jpg
END:VEVENT
BEGIN:VEVENT
DTSTART;TZID=America/New_York:20241124T170000
DTEND;TZID=America/New_York:20241124T220000
DTSTAMP:20260425T062805
CREATED:20240808T155804Z
LAST-MODIFIED:20250519T150141Z
UID:10002040-1732467600-1732485600@www.kesslercollection.com
SUMMARY:Sangria Sundays at Cordova
DESCRIPTION:Enjoy 50% off our signature Cordova Sangria every Sunday from 5:00 PM – 10:00 PM. Delightful and refreshing\, discover the perfect blend of flavors to sweeten up your weekend with Sangria Sundays at Cordova.
URL:https://www.kesslercollection.com/casa-monica/event/sangria-sundays-at-cordova/2024-11-24/
LOCATION:Cordova\, 95 Cordova St\, St. Augustine\, FL\, 32084\, United States
ATTACH;FMTTYPE=image/png:https://www.kesslercollection.com/casa-monica/wp-content/uploads/sites/6/2024/08/Disco-16-2.png
END:VEVENT
BEGIN:VEVENT
DTSTART;TZID=America/New_York:20241128T110000
DTEND;TZID=America/New_York:20241128T190000
DTSTAMP:20260425T062805
CREATED:20241025T203333Z
LAST-MODIFIED:20241025T203334Z
UID:10002049-1732791600-1732820400@www.kesslercollection.com
SUMMARY:Thanksgiving Grand Buffet at Cordova
DESCRIPTION:Share the tradition with Cordova and join us for a delicious Thanksgiving meal on November 28th. Savor a Thanksgiving inspired Grand Buffet and enjoy live music as you celebrate with loved ones in an inspiring setting. \n$95 per adult. $45 per child ages 6-12.
URL:https://www.kesslercollection.com/casa-monica/event/thanksgiving-grand-buffet-at-cordova/
LOCATION:Cordova\, 95 Cordova St\, St. Augustine\, FL\, 32084\, United States
ATTACH;FMTTYPE=image/png:https://www.kesslercollection.com/casa-monica/wp-content/uploads/sites/6/2024/10/Thanksgiving_-Turkey.png
END:VEVENT
BEGIN:VEVENT
DTSTART;TZID=America/New_York:20241130T110000
DTEND;TZID=America/New_York:20241130T140000
DTSTAMP:20260425T062805
CREATED:20231102T142457Z
LAST-MODIFIED:20241118T135506Z
UID:10001897-1732964400-1732975200@www.kesslercollection.com
SUMMARY:Brunch at Cordova
DESCRIPTION:Brunch like never before at Cordova on Saturdays and Sundays from 11:00 AM – 2:00 PM. Indulge in a chef’s board\, choice of entrée\, and a dessert tower as the soothing tunes of live jazz entertainment create an enchanting atmosphere.
URL:https://www.kesslercollection.com/casa-monica/event/brunch-at-cordova/2024-11-30/
LOCATION:Cordova\, 95 Cordova St\, St. Augustine\, FL\, 32084\, United States
ATTACH;FMTTYPE=image/jpeg:https://www.kesslercollection.com/casa-monica/wp-content/uploads/sites/6/2023/11/CORDOVA-Spring24-1833.jpg
END:VEVENT
BEGIN:VEVENT
DTSTART;TZID=America/New_York:20241201T110000
DTEND;TZID=America/New_York:20241201T140000
DTSTAMP:20260425T062805
CREATED:20231102T142457Z
LAST-MODIFIED:20241118T135506Z
UID:10001531-1733050800-1733061600@www.kesslercollection.com
SUMMARY:Brunch at Cordova
DESCRIPTION:Brunch like never before at Cordova on Saturdays and Sundays from 11:00 AM – 2:00 PM. Indulge in a chef’s board\, choice of entrée\, and a dessert tower as the soothing tunes of live jazz entertainment create an enchanting atmosphere.
URL:https://www.kesslercollection.com/casa-monica/event/brunch-at-cordova/2024-12-01/
LOCATION:Cordova\, 95 Cordova St\, St. Augustine\, FL\, 32084\, United States
ATTACH;FMTTYPE=image/jpeg:https://www.kesslercollection.com/casa-monica/wp-content/uploads/sites/6/2023/11/CORDOVA-Spring24-1833.jpg
END:VEVENT
BEGIN:VEVENT
DTSTART;TZID=America/New_York:20241201T170000
DTEND;TZID=America/New_York:20241201T220000
DTSTAMP:20260425T062805
CREATED:20240808T155804Z
LAST-MODIFIED:20250519T150141Z
UID:10002041-1733072400-1733090400@www.kesslercollection.com
SUMMARY:Sangria Sundays at Cordova
DESCRIPTION:Enjoy 50% off our signature Cordova Sangria every Sunday from 5:00 PM – 10:00 PM. Delightful and refreshing\, discover the perfect blend of flavors to sweeten up your weekend with Sangria Sundays at Cordova.
URL:https://www.kesslercollection.com/casa-monica/event/sangria-sundays-at-cordova/2024-12-01/
LOCATION:Cordova\, 95 Cordova St\, St. Augustine\, FL\, 32084\, United States
ATTACH;FMTTYPE=image/png:https://www.kesslercollection.com/casa-monica/wp-content/uploads/sites/6/2024/08/Disco-16-2.png
END:VEVENT
BEGIN:VEVENT
DTSTART;TZID=America/New_York:20241206T173000
DTEND;TZID=America/New_York:20241206T203000
DTSTAMP:20260425T062805
CREATED:20241118T140117Z
LAST-MODIFIED:20241118T140117Z
UID:10002060-1733506200-1733517000@www.kesslercollection.com
SUMMARY:First Friday Art Walk
DESCRIPTION:On the first Friday of every month\, more than 25 art galleries open their doors and welcome visitors to browse local art exhibits within easy walking distance. Visit our Grand Bohemian Gallery from 5:30 PM – 8:30 PM to explore an eclectic mix of artworks from local and international artists\, while celebrating St. Augustine’s local art scene. Discover Mixed Media Artist Renee Schwadron Lewis and her creative as she walks thru the powerful theme of women and a universally connected sisterhood.
URL:https://www.kesslercollection.com/casa-monica/event/first-friday-art-walk-3/
LOCATION:Grand Bohemian Gallery\, 49 King St\, St. Augustine\, FL\, 32084\, United States
ATTACH;FMTTYPE=image/jpeg:https://www.kesslercollection.com/casa-monica/wp-content/uploads/sites/6/2024/11/AK_JAXAK_Lifestyle_InteriorsExteriors-29-2-scaled.jpg
END:VEVENT
BEGIN:VEVENT
DTSTART;TZID=America/New_York:20241207T110000
DTEND;TZID=America/New_York:20241207T140000
DTSTAMP:20260425T062805
CREATED:20231102T142457Z
LAST-MODIFIED:20241118T135506Z
UID:10001898-1733569200-1733580000@www.kesslercollection.com
SUMMARY:Brunch at Cordova
DESCRIPTION:Brunch like never before at Cordova on Saturdays and Sundays from 11:00 AM – 2:00 PM. Indulge in a chef’s board\, choice of entrée\, and a dessert tower as the soothing tunes of live jazz entertainment create an enchanting atmosphere.
URL:https://www.kesslercollection.com/casa-monica/event/brunch-at-cordova/2024-12-07/
LOCATION:Cordova\, 95 Cordova St\, St. Augustine\, FL\, 32084\, United States
ATTACH;FMTTYPE=image/jpeg:https://www.kesslercollection.com/casa-monica/wp-content/uploads/sites/6/2023/11/CORDOVA-Spring24-1833.jpg
END:VEVENT
BEGIN:VEVENT
DTSTART;TZID=America/New_York:20241208T110000
DTEND;TZID=America/New_York:20241208T140000
DTSTAMP:20260425T062805
CREATED:20231102T142457Z
LAST-MODIFIED:20241118T135506Z
UID:10001591-1733655600-1733666400@www.kesslercollection.com
SUMMARY:Brunch at Cordova
DESCRIPTION:Brunch like never before at Cordova on Saturdays and Sundays from 11:00 AM – 2:00 PM. Indulge in a chef’s board\, choice of entrée\, and a dessert tower as the soothing tunes of live jazz entertainment create an enchanting atmosphere.
URL:https://www.kesslercollection.com/casa-monica/event/brunch-at-cordova/2024-12-08/
LOCATION:Cordova\, 95 Cordova St\, St. Augustine\, FL\, 32084\, United States
ATTACH;FMTTYPE=image/jpeg:https://www.kesslercollection.com/casa-monica/wp-content/uploads/sites/6/2023/11/CORDOVA-Spring24-1833.jpg
END:VEVENT
BEGIN:VEVENT
DTSTART;TZID=America/New_York:20241208T170000
DTEND;TZID=America/New_York:20241208T220000
DTSTAMP:20260425T062805
CREATED:20240808T155804Z
LAST-MODIFIED:20250519T150141Z
UID:10002055-1733677200-1733695200@www.kesslercollection.com
SUMMARY:Sangria Sundays at Cordova
DESCRIPTION:Enjoy 50% off our signature Cordova Sangria every Sunday from 5:00 PM – 10:00 PM. Delightful and refreshing\, discover the perfect blend of flavors to sweeten up your weekend with Sangria Sundays at Cordova.
URL:https://www.kesslercollection.com/casa-monica/event/sangria-sundays-at-cordova/2024-12-08/
LOCATION:Cordova\, 95 Cordova St\, St. Augustine\, FL\, 32084\, United States
ATTACH;FMTTYPE=image/png:https://www.kesslercollection.com/casa-monica/wp-content/uploads/sites/6/2024/08/Disco-16-2.png
END:VEVENT
BEGIN:VEVENT
DTSTART;TZID=America/New_York:20241212T070000
DTEND;TZID=America/New_York:20241212T190000
DTSTAMP:20260425T062805
CREATED:20241118T152956Z
LAST-MODIFIED:20241118T152956Z
UID:10002069-1733986800-1734030000@www.kesslercollection.com
SUMMARY:Last Minute Gifting at Starbucks
DESCRIPTION:Visit our on property Starbucks from December 12th – 25th to receive 30% off seasonal merchandise and all Holiday packaged coffee. Stock up on festive gifts or your favorite brews to make the season extra special.
URL:https://www.kesslercollection.com/casa-monica/event/last-minute-gifting-at-starbucks/2024-12-12/
LOCATION:Starbucks\, 95 Cordova St.\, St. Augustine\, FL\, 32084\, United States
ATTACH;FMTTYPE=image/jpeg:https://www.kesslercollection.com/casa-monica/wp-content/uploads/sites/6/2024/11/AdobeStock_647573488_Editorial_Use_Only-1-scaled.jpeg
END:VEVENT
BEGIN:VEVENT
DTSTART;TZID=America/New_York:20241213T070000
DTEND;TZID=America/New_York:20241213T190000
DTSTAMP:20260425T062805
CREATED:20241118T152956Z
LAST-MODIFIED:20241118T152956Z
UID:10002070-1734073200-1734116400@www.kesslercollection.com
SUMMARY:Last Minute Gifting at Starbucks
DESCRIPTION:Visit our on property Starbucks from December 12th – 25th to receive 30% off seasonal merchandise and all Holiday packaged coffee. Stock up on festive gifts or your favorite brews to make the season extra special.
URL:https://www.kesslercollection.com/casa-monica/event/last-minute-gifting-at-starbucks/2024-12-13/
LOCATION:Starbucks\, 95 Cordova St.\, St. Augustine\, FL\, 32084\, United States
ATTACH;FMTTYPE=image/jpeg:https://www.kesslercollection.com/casa-monica/wp-content/uploads/sites/6/2024/11/AdobeStock_647573488_Editorial_Use_Only-1-scaled.jpeg
END:VEVENT
BEGIN:VEVENT
DTSTART;TZID=America/New_York:20241214T070000
DTEND;TZID=America/New_York:20241214T190000
DTSTAMP:20260425T062805
CREATED:20241118T152956Z
LAST-MODIFIED:20241118T152956Z
UID:10002071-1734159600-1734202800@www.kesslercollection.com
SUMMARY:Last Minute Gifting at Starbucks
DESCRIPTION:Visit our on property Starbucks from December 12th – 25th to receive 30% off seasonal merchandise and all Holiday packaged coffee. Stock up on festive gifts or your favorite brews to make the season extra special.
URL:https://www.kesslercollection.com/casa-monica/event/last-minute-gifting-at-starbucks/2024-12-14/
LOCATION:Starbucks\, 95 Cordova St.\, St. Augustine\, FL\, 32084\, United States
ATTACH;FMTTYPE=image/jpeg:https://www.kesslercollection.com/casa-monica/wp-content/uploads/sites/6/2024/11/AdobeStock_647573488_Editorial_Use_Only-1-scaled.jpeg
END:VEVENT
BEGIN:VEVENT
DTSTART;TZID=America/New_York:20241214T110000
DTEND;TZID=America/New_York:20241214T140000
DTSTAMP:20260425T062805
CREATED:20231102T142457Z
LAST-MODIFIED:20241118T135506Z
UID:10001899-1734174000-1734184800@www.kesslercollection.com
SUMMARY:Brunch at Cordova
DESCRIPTION:Brunch like never before at Cordova on Saturdays and Sundays from 11:00 AM – 2:00 PM. Indulge in a chef’s board\, choice of entrée\, and a dessert tower as the soothing tunes of live jazz entertainment create an enchanting atmosphere.
URL:https://www.kesslercollection.com/casa-monica/event/brunch-at-cordova/2024-12-14/
LOCATION:Cordova\, 95 Cordova St\, St. Augustine\, FL\, 32084\, United States
ATTACH;FMTTYPE=image/jpeg:https://www.kesslercollection.com/casa-monica/wp-content/uploads/sites/6/2023/11/CORDOVA-Spring24-1833.jpg
END:VEVENT
BEGIN:VEVENT
DTSTART;TZID=America/New_York:20241215T070000
DTEND;TZID=America/New_York:20241215T190000
DTSTAMP:20260425T062805
CREATED:20241118T152956Z
LAST-MODIFIED:20241118T152956Z
UID:10002072-1734246000-1734289200@www.kesslercollection.com
SUMMARY:Last Minute Gifting at Starbucks
DESCRIPTION:Visit our on property Starbucks from December 12th – 25th to receive 30% off seasonal merchandise and all Holiday packaged coffee. Stock up on festive gifts or your favorite brews to make the season extra special.
URL:https://www.kesslercollection.com/casa-monica/event/last-minute-gifting-at-starbucks/2024-12-15/
LOCATION:Starbucks\, 95 Cordova St.\, St. Augustine\, FL\, 32084\, United States
ATTACH;FMTTYPE=image/jpeg:https://www.kesslercollection.com/casa-monica/wp-content/uploads/sites/6/2024/11/AdobeStock_647573488_Editorial_Use_Only-1-scaled.jpeg
END:VEVENT
BEGIN:VEVENT
DTSTART;TZID=America/New_York:20241215T110000
DTEND;TZID=America/New_York:20241215T140000
DTSTAMP:20260425T062805
CREATED:20231102T142457Z
LAST-MODIFIED:20241118T135506Z
UID:10001592-1734260400-1734271200@www.kesslercollection.com
SUMMARY:Brunch at Cordova
DESCRIPTION:Brunch like never before at Cordova on Saturdays and Sundays from 11:00 AM – 2:00 PM. Indulge in a chef’s board\, choice of entrée\, and a dessert tower as the soothing tunes of live jazz entertainment create an enchanting atmosphere.
URL:https://www.kesslercollection.com/casa-monica/event/brunch-at-cordova/2024-12-15/
LOCATION:Cordova\, 95 Cordova St\, St. Augustine\, FL\, 32084\, United States
ATTACH;FMTTYPE=image/jpeg:https://www.kesslercollection.com/casa-monica/wp-content/uploads/sites/6/2023/11/CORDOVA-Spring24-1833.jpg
END:VEVENT
BEGIN:VEVENT
DTSTART;TZID=America/New_York:20241215T170000
DTEND;TZID=America/New_York:20241215T220000
DTSTAMP:20260425T062805
CREATED:20240808T155804Z
LAST-MODIFIED:20250519T150141Z
UID:10002056-1734282000-1734300000@www.kesslercollection.com
SUMMARY:Sangria Sundays at Cordova
DESCRIPTION:Enjoy 50% off our signature Cordova Sangria every Sunday from 5:00 PM – 10:00 PM. Delightful and refreshing\, discover the perfect blend of flavors to sweeten up your weekend with Sangria Sundays at Cordova.
URL:https://www.kesslercollection.com/casa-monica/event/sangria-sundays-at-cordova/2024-12-15/
LOCATION:Cordova\, 95 Cordova St\, St. Augustine\, FL\, 32084\, United States
ATTACH;FMTTYPE=image/png:https://www.kesslercollection.com/casa-monica/wp-content/uploads/sites/6/2024/08/Disco-16-2.png
END:VEVENT
BEGIN:VEVENT
DTSTART;TZID=America/New_York:20241216T070000
DTEND;TZID=America/New_York:20241216T190000
DTSTAMP:20260425T062805
CREATED:20241118T152956Z
LAST-MODIFIED:20241118T152956Z
UID:10002073-1734332400-1734375600@www.kesslercollection.com
SUMMARY:Last Minute Gifting at Starbucks
DESCRIPTION:Visit our on property Starbucks from December 12th – 25th to receive 30% off seasonal merchandise and all Holiday packaged coffee. Stock up on festive gifts or your favorite brews to make the season extra special.
URL:https://www.kesslercollection.com/casa-monica/event/last-minute-gifting-at-starbucks/2024-12-16/
LOCATION:Starbucks\, 95 Cordova St.\, St. Augustine\, FL\, 32084\, United States
ATTACH;FMTTYPE=image/jpeg:https://www.kesslercollection.com/casa-monica/wp-content/uploads/sites/6/2024/11/AdobeStock_647573488_Editorial_Use_Only-1-scaled.jpeg
END:VEVENT
BEGIN:VEVENT
DTSTART;TZID=America/New_York:20241217T070000
DTEND;TZID=America/New_York:20241217T190000
DTSTAMP:20260425T062805
CREATED:20241118T152956Z
LAST-MODIFIED:20241118T152956Z
UID:10002074-1734418800-1734462000@www.kesslercollection.com
SUMMARY:Last Minute Gifting at Starbucks
DESCRIPTION:Visit our on property Starbucks from December 12th – 25th to receive 30% off seasonal merchandise and all Holiday packaged coffee. Stock up on festive gifts or your favorite brews to make the season extra special.
URL:https://www.kesslercollection.com/casa-monica/event/last-minute-gifting-at-starbucks/2024-12-17/
LOCATION:Starbucks\, 95 Cordova St.\, St. Augustine\, FL\, 32084\, United States
ATTACH;FMTTYPE=image/jpeg:https://www.kesslercollection.com/casa-monica/wp-content/uploads/sites/6/2024/11/AdobeStock_647573488_Editorial_Use_Only-1-scaled.jpeg
END:VEVENT
BEGIN:VEVENT
DTSTART;TZID=America/New_York:20241218T070000
DTEND;TZID=America/New_York:20241218T190000
DTSTAMP:20260425T062805
CREATED:20241118T152956Z
LAST-MODIFIED:20241118T152956Z
UID:10002075-1734505200-1734548400@www.kesslercollection.com
SUMMARY:Last Minute Gifting at Starbucks
DESCRIPTION:Visit our on property Starbucks from December 12th – 25th to receive 30% off seasonal merchandise and all Holiday packaged coffee. Stock up on festive gifts or your favorite brews to make the season extra special.
URL:https://www.kesslercollection.com/casa-monica/event/last-minute-gifting-at-starbucks/2024-12-18/
LOCATION:Starbucks\, 95 Cordova St.\, St. Augustine\, FL\, 32084\, United States
ATTACH;FMTTYPE=image/jpeg:https://www.kesslercollection.com/casa-monica/wp-content/uploads/sites/6/2024/11/AdobeStock_647573488_Editorial_Use_Only-1-scaled.jpeg
END:VEVENT
BEGIN:VEVENT
DTSTART;TZID=America/New_York:20241219T070000
DTEND;TZID=America/New_York:20241219T190000
DTSTAMP:20260425T062805
CREATED:20241118T152956Z
LAST-MODIFIED:20241118T152956Z
UID:10002076-1734591600-1734634800@www.kesslercollection.com
SUMMARY:Last Minute Gifting at Starbucks
DESCRIPTION:Visit our on property Starbucks from December 12th – 25th to receive 30% off seasonal merchandise and all Holiday packaged coffee. Stock up on festive gifts or your favorite brews to make the season extra special.
URL:https://www.kesslercollection.com/casa-monica/event/last-minute-gifting-at-starbucks/2024-12-19/
LOCATION:Starbucks\, 95 Cordova St.\, St. Augustine\, FL\, 32084\, United States
ATTACH;FMTTYPE=image/jpeg:https://www.kesslercollection.com/casa-monica/wp-content/uploads/sites/6/2024/11/AdobeStock_647573488_Editorial_Use_Only-1-scaled.jpeg
END:VEVENT
BEGIN:VEVENT
DTSTART;TZID=America/New_York:20241220T070000
DTEND;TZID=America/New_York:20241220T190000
DTSTAMP:20260425T062805
CREATED:20241118T152956Z
LAST-MODIFIED:20241118T152956Z
UID:10002077-1734678000-1734721200@www.kesslercollection.com
SUMMARY:Last Minute Gifting at Starbucks
DESCRIPTION:Visit our on property Starbucks from December 12th – 25th to receive 30% off seasonal merchandise and all Holiday packaged coffee. Stock up on festive gifts or your favorite brews to make the season extra special.
URL:https://www.kesslercollection.com/casa-monica/event/last-minute-gifting-at-starbucks/2024-12-20/
LOCATION:Starbucks\, 95 Cordova St.\, St. Augustine\, FL\, 32084\, United States
ATTACH;FMTTYPE=image/jpeg:https://www.kesslercollection.com/casa-monica/wp-content/uploads/sites/6/2024/11/AdobeStock_647573488_Editorial_Use_Only-1-scaled.jpeg
END:VEVENT
BEGIN:VEVENT
DTSTART;TZID=America/New_York:20241221T070000
DTEND;TZID=America/New_York:20241221T190000
DTSTAMP:20260425T062805
CREATED:20241118T152956Z
LAST-MODIFIED:20241118T152956Z
UID:10002078-1734764400-1734807600@www.kesslercollection.com
SUMMARY:Last Minute Gifting at Starbucks
DESCRIPTION:Visit our on property Starbucks from December 12th – 25th to receive 30% off seasonal merchandise and all Holiday packaged coffee. Stock up on festive gifts or your favorite brews to make the season extra special.
URL:https://www.kesslercollection.com/casa-monica/event/last-minute-gifting-at-starbucks/2024-12-21/
LOCATION:Starbucks\, 95 Cordova St.\, St. Augustine\, FL\, 32084\, United States
ATTACH;FMTTYPE=image/jpeg:https://www.kesslercollection.com/casa-monica/wp-content/uploads/sites/6/2024/11/AdobeStock_647573488_Editorial_Use_Only-1-scaled.jpeg
END:VEVENT
BEGIN:VEVENT
DTSTART;TZID=America/New_York:20241221T110000
DTEND;TZID=America/New_York:20241221T140000
DTSTAMP:20260425T062805
CREATED:20231102T142457Z
LAST-MODIFIED:20241118T135506Z
UID:10001900-1734778800-1734789600@www.kesslercollection.com
SUMMARY:Brunch at Cordova
DESCRIPTION:Brunch like never before at Cordova on Saturdays and Sundays from 11:00 AM – 2:00 PM. Indulge in a chef’s board\, choice of entrée\, and a dessert tower as the soothing tunes of live jazz entertainment create an enchanting atmosphere.
URL:https://www.kesslercollection.com/casa-monica/event/brunch-at-cordova/2024-12-21/
LOCATION:Cordova\, 95 Cordova St\, St. Augustine\, FL\, 32084\, United States
ATTACH;FMTTYPE=image/jpeg:https://www.kesslercollection.com/casa-monica/wp-content/uploads/sites/6/2023/11/CORDOVA-Spring24-1833.jpg
END:VEVENT
BEGIN:VEVENT
DTSTART;TZID=America/New_York:20241222T070000
DTEND;TZID=America/New_York:20241222T190000
DTSTAMP:20260425T062805
CREATED:20241118T152956Z
LAST-MODIFIED:20241118T152956Z
UID:10002079-1734850800-1734894000@www.kesslercollection.com
SUMMARY:Last Minute Gifting at Starbucks
DESCRIPTION:Visit our on property Starbucks from December 12th – 25th to receive 30% off seasonal merchandise and all Holiday packaged coffee. Stock up on festive gifts or your favorite brews to make the season extra special.
URL:https://www.kesslercollection.com/casa-monica/event/last-minute-gifting-at-starbucks/2024-12-22/
LOCATION:Starbucks\, 95 Cordova St.\, St. Augustine\, FL\, 32084\, United States
ATTACH;FMTTYPE=image/jpeg:https://www.kesslercollection.com/casa-monica/wp-content/uploads/sites/6/2024/11/AdobeStock_647573488_Editorial_Use_Only-1-scaled.jpeg
END:VEVENT
END:VCALENDAR