BEGIN:VCALENDAR
VERSION:2.0
PRODID:-//Bohemian Hotel Savannah Riverfront - ECPv6.15.20//NONSGML v1.0//EN
CALSCALE:GREGORIAN
METHOD:PUBLISH
X-WR-CALNAME:Bohemian Hotel Savannah Riverfront
X-ORIGINAL-URL:https://www.kesslercollection.com/bohemian-savannah
X-WR-CALDESC:Events for Bohemian Hotel Savannah Riverfront
REFRESH-INTERVAL;VALUE=DURATION:PT1H
X-Robots-Tag:noindex
X-PUBLISHED-TTL:PT1H
BEGIN:VTIMEZONE
TZID:America/New_York
BEGIN:DAYLIGHT
TZOFFSETFROM:-0500
TZOFFSETTO:-0400
TZNAME:EDT
DTSTART:20230312T070000
END:DAYLIGHT
BEGIN:STANDARD
TZOFFSETFROM:-0400
TZOFFSETTO:-0500
TZNAME:EST
DTSTART:20231105T060000
END:STANDARD
BEGIN:DAYLIGHT
TZOFFSETFROM:-0500
TZOFFSETTO:-0400
TZNAME:EDT
DTSTART:20240310T070000
END:DAYLIGHT
BEGIN:STANDARD
TZOFFSETFROM:-0400
TZOFFSETTO:-0500
TZNAME:EST
DTSTART:20241103T060000
END:STANDARD
BEGIN:DAYLIGHT
TZOFFSETFROM:-0500
TZOFFSETTO:-0400
TZNAME:EDT
DTSTART:20250309T070000
END:DAYLIGHT
BEGIN:STANDARD
TZOFFSETFROM:-0400
TZOFFSETTO:-0500
TZNAME:EST
DTSTART:20251102T060000
END:STANDARD
END:VTIMEZONE
BEGIN:VEVENT
DTSTART;TZID=America/New_York:20240827T160000
DTEND;TZID=America/New_York:20240827T180000
DTSTAMP:20260421T141355
CREATED:20240325T173416Z
LAST-MODIFIED:20240815T204026Z
UID:10001904-1724774400-1724781600@www.kesslercollection.com
SUMMARY:Happy Hour at Coastal 15
DESCRIPTION:Immerse yourself in an inviting atmosphere on Savannah’s renowned River Street and visit Coastal 15 for Happy Hour every Monday – Friday from 4:00 PM – 6:00 PM. Experience an authentic coastal ambiance and indulge in exclusively priced draft beers\, rosé\, and cava.
URL:https://www.kesslercollection.com/bohemian-savannah/event/happy-hour-at-coastal-15/2024-08-27/
LOCATION:Coastal 15\, 102 W Bay St.\, Savannah\, GA\, 31401\, United States
ATTACH;FMTTYPE=image/jpeg:https://www.kesslercollection.com/bohemian-savannah/wp-content/uploads/sites/5/2024/03/coastal15-07-2-scaled.jpg
END:VEVENT
BEGIN:VEVENT
DTSTART;TZID=America/New_York:20240827T103000
DTEND;TZID=America/New_York:20240827T160000
DTSTAMP:20260421T141355
CREATED:20240815T205609Z
LAST-MODIFIED:20240816T133923Z
UID:10001940-1724754600-1724774400@www.kesslercollection.com
SUMMARY:Brunch at Coastal 15
DESCRIPTION:Now offered daily from 10:30 AM – 4:00 PM\, indulge in a delightful array of signature brunch dishes including our Coastal Benedict\, Blueberry Pancakes\, and more.
URL:https://www.kesslercollection.com/bohemian-savannah/event/brunch-at-coastal-15/2024-08-27/
LOCATION:Coastal 15\, 102 W Bay St.\, Savannah\, GA\, 31401\, United States
ATTACH;FMTTYPE=image/png:https://www.kesslercollection.com/bohemian-savannah/wp-content/uploads/sites/5/2024/08/Disco-19.png
END:VEVENT
BEGIN:VEVENT
DTSTART;TZID=America/New_York:20240826T160000
DTEND;TZID=America/New_York:20240826T180000
DTSTAMP:20260421T141355
CREATED:20240325T173416Z
LAST-MODIFIED:20240815T204026Z
UID:10001903-1724688000-1724695200@www.kesslercollection.com
SUMMARY:Happy Hour at Coastal 15
DESCRIPTION:Immerse yourself in an inviting atmosphere on Savannah’s renowned River Street and visit Coastal 15 for Happy Hour every Monday – Friday from 4:00 PM – 6:00 PM. Experience an authentic coastal ambiance and indulge in exclusively priced draft beers\, rosé\, and cava.
URL:https://www.kesslercollection.com/bohemian-savannah/event/happy-hour-at-coastal-15/2024-08-26/
LOCATION:Coastal 15\, 102 W Bay St.\, Savannah\, GA\, 31401\, United States
ATTACH;FMTTYPE=image/jpeg:https://www.kesslercollection.com/bohemian-savannah/wp-content/uploads/sites/5/2024/03/coastal15-07-2-scaled.jpg
END:VEVENT
BEGIN:VEVENT
DTSTART;TZID=America/New_York:20240826T103000
DTEND;TZID=America/New_York:20240826T160000
DTSTAMP:20260421T141355
CREATED:20240815T205609Z
LAST-MODIFIED:20240816T133923Z
UID:10001939-1724668200-1724688000@www.kesslercollection.com
SUMMARY:Brunch at Coastal 15
DESCRIPTION:Now offered daily from 10:30 AM – 4:00 PM\, indulge in a delightful array of signature brunch dishes including our Coastal Benedict\, Blueberry Pancakes\, and more.
URL:https://www.kesslercollection.com/bohemian-savannah/event/brunch-at-coastal-15/2024-08-26/
LOCATION:Coastal 15\, 102 W Bay St.\, Savannah\, GA\, 31401\, United States
ATTACH;FMTTYPE=image/png:https://www.kesslercollection.com/bohemian-savannah/wp-content/uploads/sites/5/2024/08/Disco-19.png
END:VEVENT
BEGIN:VEVENT
DTSTART;TZID=America/New_York:20240825T103000
DTEND;TZID=America/New_York:20240825T160000
DTSTAMP:20260421T141355
CREATED:20240815T205609Z
LAST-MODIFIED:20240816T133923Z
UID:10001938-1724581800-1724601600@www.kesslercollection.com
SUMMARY:Brunch at Coastal 15
DESCRIPTION:Now offered daily from 10:30 AM – 4:00 PM\, indulge in a delightful array of signature brunch dishes including our Coastal Benedict\, Blueberry Pancakes\, and more.
URL:https://www.kesslercollection.com/bohemian-savannah/event/brunch-at-coastal-15/2024-08-25/
LOCATION:Coastal 15\, 102 W Bay St.\, Savannah\, GA\, 31401\, United States
ATTACH;FMTTYPE=image/png:https://www.kesslercollection.com/bohemian-savannah/wp-content/uploads/sites/5/2024/08/Disco-19.png
END:VEVENT
BEGIN:VEVENT
DTSTART;TZID=America/New_York:20240824T120000
DTEND;TZID=America/New_York:20240824T150000
DTSTAMP:20260421T141355
CREATED:20240816T135444Z
LAST-MODIFIED:20240816T135502Z
UID:10002037-1724500800-1724511600@www.kesslercollection.com
SUMMARY:Brunch with Live Music
DESCRIPTION:Join us at Coastal 15 every Saturday from 12:00 PM – 3:00 PM to indulge in brunch favorites while enjoying the soothing sound of live guitar music.
URL:https://www.kesslercollection.com/bohemian-savannah/event/brunch-with-live-music/2024-08-24/
LOCATION:Coastal 15\, 102 W Bay St.\, Savannah\, GA\, 31401\, United States
ATTACH;FMTTYPE=image/png:https://www.kesslercollection.com/bohemian-savannah/wp-content/uploads/sites/5/2024/08/Disco-20.png
END:VEVENT
BEGIN:VEVENT
DTSTART;TZID=America/New_York:20240824T103000
DTEND;TZID=America/New_York:20240824T160000
DTSTAMP:20260421T141355
CREATED:20240815T205609Z
LAST-MODIFIED:20240816T133923Z
UID:10001937-1724495400-1724515200@www.kesslercollection.com
SUMMARY:Brunch at Coastal 15
DESCRIPTION:Now offered daily from 10:30 AM – 4:00 PM\, indulge in a delightful array of signature brunch dishes including our Coastal Benedict\, Blueberry Pancakes\, and more.
URL:https://www.kesslercollection.com/bohemian-savannah/event/brunch-at-coastal-15/2024-08-24/
LOCATION:Coastal 15\, 102 W Bay St.\, Savannah\, GA\, 31401\, United States
ATTACH;FMTTYPE=image/png:https://www.kesslercollection.com/bohemian-savannah/wp-content/uploads/sites/5/2024/08/Disco-19.png
END:VEVENT
BEGIN:VEVENT
DTSTART;TZID=America/New_York:20240823T160000
DTEND;TZID=America/New_York:20240823T180000
DTSTAMP:20260421T141355
CREATED:20240325T173416Z
LAST-MODIFIED:20240815T204026Z
UID:10001902-1724428800-1724436000@www.kesslercollection.com
SUMMARY:Happy Hour at Coastal 15
DESCRIPTION:Immerse yourself in an inviting atmosphere on Savannah’s renowned River Street and visit Coastal 15 for Happy Hour every Monday – Friday from 4:00 PM – 6:00 PM. Experience an authentic coastal ambiance and indulge in exclusively priced draft beers\, rosé\, and cava.
URL:https://www.kesslercollection.com/bohemian-savannah/event/happy-hour-at-coastal-15/2024-08-23/
LOCATION:Coastal 15\, 102 W Bay St.\, Savannah\, GA\, 31401\, United States
ATTACH;FMTTYPE=image/jpeg:https://www.kesslercollection.com/bohemian-savannah/wp-content/uploads/sites/5/2024/03/coastal15-07-2-scaled.jpg
END:VEVENT
BEGIN:VEVENT
DTSTART;TZID=America/New_York:20240823T103000
DTEND;TZID=America/New_York:20240823T160000
DTSTAMP:20260421T141355
CREATED:20240815T205609Z
LAST-MODIFIED:20240816T133923Z
UID:10001936-1724409000-1724428800@www.kesslercollection.com
SUMMARY:Brunch at Coastal 15
DESCRIPTION:Now offered daily from 10:30 AM – 4:00 PM\, indulge in a delightful array of signature brunch dishes including our Coastal Benedict\, Blueberry Pancakes\, and more.
URL:https://www.kesslercollection.com/bohemian-savannah/event/brunch-at-coastal-15/2024-08-23/
LOCATION:Coastal 15\, 102 W Bay St.\, Savannah\, GA\, 31401\, United States
ATTACH;FMTTYPE=image/png:https://www.kesslercollection.com/bohemian-savannah/wp-content/uploads/sites/5/2024/08/Disco-19.png
END:VEVENT
BEGIN:VEVENT
DTSTART;TZID=America/New_York:20240822T160000
DTEND;TZID=America/New_York:20240822T180000
DTSTAMP:20260421T141355
CREATED:20240325T173416Z
LAST-MODIFIED:20240815T204026Z
UID:10001901-1724342400-1724349600@www.kesslercollection.com
SUMMARY:Happy Hour at Coastal 15
DESCRIPTION:Immerse yourself in an inviting atmosphere on Savannah’s renowned River Street and visit Coastal 15 for Happy Hour every Monday – Friday from 4:00 PM – 6:00 PM. Experience an authentic coastal ambiance and indulge in exclusively priced draft beers\, rosé\, and cava.
URL:https://www.kesslercollection.com/bohemian-savannah/event/happy-hour-at-coastal-15/2024-08-22/
LOCATION:Coastal 15\, 102 W Bay St.\, Savannah\, GA\, 31401\, United States
ATTACH;FMTTYPE=image/jpeg:https://www.kesslercollection.com/bohemian-savannah/wp-content/uploads/sites/5/2024/03/coastal15-07-2-scaled.jpg
END:VEVENT
BEGIN:VEVENT
DTSTART;TZID=America/New_York:20240822T103000
DTEND;TZID=America/New_York:20240822T160000
DTSTAMP:20260421T141355
CREATED:20240815T205609Z
LAST-MODIFIED:20240816T133923Z
UID:10001935-1724322600-1724342400@www.kesslercollection.com
SUMMARY:Brunch at Coastal 15
DESCRIPTION:Now offered daily from 10:30 AM – 4:00 PM\, indulge in a delightful array of signature brunch dishes including our Coastal Benedict\, Blueberry Pancakes\, and more.
URL:https://www.kesslercollection.com/bohemian-savannah/event/brunch-at-coastal-15/2024-08-22/
LOCATION:Coastal 15\, 102 W Bay St.\, Savannah\, GA\, 31401\, United States
ATTACH;FMTTYPE=image/png:https://www.kesslercollection.com/bohemian-savannah/wp-content/uploads/sites/5/2024/08/Disco-19.png
END:VEVENT
BEGIN:VEVENT
DTSTART;TZID=America/New_York:20240821T160000
DTEND;TZID=America/New_York:20240821T180000
DTSTAMP:20260421T141355
CREATED:20240325T173416Z
LAST-MODIFIED:20240815T204026Z
UID:10001900-1724256000-1724263200@www.kesslercollection.com
SUMMARY:Happy Hour at Coastal 15
DESCRIPTION:Immerse yourself in an inviting atmosphere on Savannah’s renowned River Street and visit Coastal 15 for Happy Hour every Monday – Friday from 4:00 PM – 6:00 PM. Experience an authentic coastal ambiance and indulge in exclusively priced draft beers\, rosé\, and cava.
URL:https://www.kesslercollection.com/bohemian-savannah/event/happy-hour-at-coastal-15/2024-08-21/
LOCATION:Coastal 15\, 102 W Bay St.\, Savannah\, GA\, 31401\, United States
ATTACH;FMTTYPE=image/jpeg:https://www.kesslercollection.com/bohemian-savannah/wp-content/uploads/sites/5/2024/03/coastal15-07-2-scaled.jpg
END:VEVENT
BEGIN:VEVENT
DTSTART;TZID=America/New_York:20240821T103000
DTEND;TZID=America/New_York:20240821T160000
DTSTAMP:20260421T141355
CREATED:20240815T205609Z
LAST-MODIFIED:20240816T133923Z
UID:10001934-1724236200-1724256000@www.kesslercollection.com
SUMMARY:Brunch at Coastal 15
DESCRIPTION:Now offered daily from 10:30 AM – 4:00 PM\, indulge in a delightful array of signature brunch dishes including our Coastal Benedict\, Blueberry Pancakes\, and more.
URL:https://www.kesslercollection.com/bohemian-savannah/event/brunch-at-coastal-15/2024-08-21/
LOCATION:Coastal 15\, 102 W Bay St.\, Savannah\, GA\, 31401\, United States
ATTACH;FMTTYPE=image/png:https://www.kesslercollection.com/bohemian-savannah/wp-content/uploads/sites/5/2024/08/Disco-19.png
END:VEVENT
BEGIN:VEVENT
DTSTART;TZID=America/New_York:20240820T160000
DTEND;TZID=America/New_York:20240820T180000
DTSTAMP:20260421T141355
CREATED:20240325T173416Z
LAST-MODIFIED:20240815T204026Z
UID:10001899-1724169600-1724176800@www.kesslercollection.com
SUMMARY:Happy Hour at Coastal 15
DESCRIPTION:Immerse yourself in an inviting atmosphere on Savannah’s renowned River Street and visit Coastal 15 for Happy Hour every Monday – Friday from 4:00 PM – 6:00 PM. Experience an authentic coastal ambiance and indulge in exclusively priced draft beers\, rosé\, and cava.
URL:https://www.kesslercollection.com/bohemian-savannah/event/happy-hour-at-coastal-15/2024-08-20/
LOCATION:Coastal 15\, 102 W Bay St.\, Savannah\, GA\, 31401\, United States
ATTACH;FMTTYPE=image/jpeg:https://www.kesslercollection.com/bohemian-savannah/wp-content/uploads/sites/5/2024/03/coastal15-07-2-scaled.jpg
END:VEVENT
BEGIN:VEVENT
DTSTART;TZID=America/New_York:20240820T103000
DTEND;TZID=America/New_York:20240820T160000
DTSTAMP:20260421T141355
CREATED:20240815T205609Z
LAST-MODIFIED:20240816T133923Z
UID:10001933-1724149800-1724169600@www.kesslercollection.com
SUMMARY:Brunch at Coastal 15
DESCRIPTION:Now offered daily from 10:30 AM – 4:00 PM\, indulge in a delightful array of signature brunch dishes including our Coastal Benedict\, Blueberry Pancakes\, and more.
URL:https://www.kesslercollection.com/bohemian-savannah/event/brunch-at-coastal-15/2024-08-20/
LOCATION:Coastal 15\, 102 W Bay St.\, Savannah\, GA\, 31401\, United States
ATTACH;FMTTYPE=image/png:https://www.kesslercollection.com/bohemian-savannah/wp-content/uploads/sites/5/2024/08/Disco-19.png
END:VEVENT
BEGIN:VEVENT
DTSTART;TZID=America/New_York:20240819T160000
DTEND;TZID=America/New_York:20240819T180000
DTSTAMP:20260421T141355
CREATED:20240325T173416Z
LAST-MODIFIED:20240815T204026Z
UID:10001898-1724083200-1724090400@www.kesslercollection.com
SUMMARY:Happy Hour at Coastal 15
DESCRIPTION:Immerse yourself in an inviting atmosphere on Savannah’s renowned River Street and visit Coastal 15 for Happy Hour every Monday – Friday from 4:00 PM – 6:00 PM. Experience an authentic coastal ambiance and indulge in exclusively priced draft beers\, rosé\, and cava.
URL:https://www.kesslercollection.com/bohemian-savannah/event/happy-hour-at-coastal-15/2024-08-19/
LOCATION:Coastal 15\, 102 W Bay St.\, Savannah\, GA\, 31401\, United States
ATTACH;FMTTYPE=image/jpeg:https://www.kesslercollection.com/bohemian-savannah/wp-content/uploads/sites/5/2024/03/coastal15-07-2-scaled.jpg
END:VEVENT
BEGIN:VEVENT
DTSTART;TZID=America/New_York:20240819T103000
DTEND;TZID=America/New_York:20240819T160000
DTSTAMP:20260421T141355
CREATED:20240815T205609Z
LAST-MODIFIED:20240816T133923Z
UID:10001932-1724063400-1724083200@www.kesslercollection.com
SUMMARY:Brunch at Coastal 15
DESCRIPTION:Now offered daily from 10:30 AM – 4:00 PM\, indulge in a delightful array of signature brunch dishes including our Coastal Benedict\, Blueberry Pancakes\, and more.
URL:https://www.kesslercollection.com/bohemian-savannah/event/brunch-at-coastal-15/2024-08-19/
LOCATION:Coastal 15\, 102 W Bay St.\, Savannah\, GA\, 31401\, United States
ATTACH;FMTTYPE=image/png:https://www.kesslercollection.com/bohemian-savannah/wp-content/uploads/sites/5/2024/08/Disco-19.png
END:VEVENT
BEGIN:VEVENT
DTSTART;TZID=America/New_York:20240818T103000
DTEND;TZID=America/New_York:20240818T160000
DTSTAMP:20260421T141355
CREATED:20240815T205609Z
LAST-MODIFIED:20240816T133923Z
UID:10001931-1723977000-1723996800@www.kesslercollection.com
SUMMARY:Brunch at Coastal 15
DESCRIPTION:Now offered daily from 10:30 AM – 4:00 PM\, indulge in a delightful array of signature brunch dishes including our Coastal Benedict\, Blueberry Pancakes\, and more.
URL:https://www.kesslercollection.com/bohemian-savannah/event/brunch-at-coastal-15/2024-08-18/
LOCATION:Coastal 15\, 102 W Bay St.\, Savannah\, GA\, 31401\, United States
ATTACH;FMTTYPE=image/png:https://www.kesslercollection.com/bohemian-savannah/wp-content/uploads/sites/5/2024/08/Disco-19.png
END:VEVENT
BEGIN:VEVENT
DTSTART;TZID=America/New_York:20240817T120000
DTEND;TZID=America/New_York:20240817T150000
DTSTAMP:20260421T141355
CREATED:20240816T135444Z
LAST-MODIFIED:20240816T135502Z
UID:10002036-1723896000-1723906800@www.kesslercollection.com
SUMMARY:Brunch with Live Music
DESCRIPTION:Join us at Coastal 15 every Saturday from 12:00 PM – 3:00 PM to indulge in brunch favorites while enjoying the soothing sound of live guitar music.
URL:https://www.kesslercollection.com/bohemian-savannah/event/brunch-with-live-music/2024-08-17/
LOCATION:Coastal 15\, 102 W Bay St.\, Savannah\, GA\, 31401\, United States
ATTACH;FMTTYPE=image/png:https://www.kesslercollection.com/bohemian-savannah/wp-content/uploads/sites/5/2024/08/Disco-20.png
END:VEVENT
BEGIN:VEVENT
DTSTART;TZID=America/New_York:20240817T103000
DTEND;TZID=America/New_York:20240817T160000
DTSTAMP:20260421T141355
CREATED:20240815T205609Z
LAST-MODIFIED:20240816T133923Z
UID:10001930-1723890600-1723910400@www.kesslercollection.com
SUMMARY:Brunch at Coastal 15
DESCRIPTION:Now offered daily from 10:30 AM – 4:00 PM\, indulge in a delightful array of signature brunch dishes including our Coastal Benedict\, Blueberry Pancakes\, and more.
URL:https://www.kesslercollection.com/bohemian-savannah/event/brunch-at-coastal-15/2024-08-17/
LOCATION:Coastal 15\, 102 W Bay St.\, Savannah\, GA\, 31401\, United States
ATTACH;FMTTYPE=image/png:https://www.kesslercollection.com/bohemian-savannah/wp-content/uploads/sites/5/2024/08/Disco-19.png
END:VEVENT
BEGIN:VEVENT
DTSTART;TZID=America/New_York:20240816T160000
DTEND;TZID=America/New_York:20240816T180000
DTSTAMP:20260421T141355
CREATED:20240325T173416Z
LAST-MODIFIED:20240815T204026Z
UID:10001897-1723824000-1723831200@www.kesslercollection.com
SUMMARY:Happy Hour at Coastal 15
DESCRIPTION:Immerse yourself in an inviting atmosphere on Savannah’s renowned River Street and visit Coastal 15 for Happy Hour every Monday – Friday from 4:00 PM – 6:00 PM. Experience an authentic coastal ambiance and indulge in exclusively priced draft beers\, rosé\, and cava.
URL:https://www.kesslercollection.com/bohemian-savannah/event/happy-hour-at-coastal-15/2024-08-16/
LOCATION:Coastal 15\, 102 W Bay St.\, Savannah\, GA\, 31401\, United States
ATTACH;FMTTYPE=image/jpeg:https://www.kesslercollection.com/bohemian-savannah/wp-content/uploads/sites/5/2024/03/coastal15-07-2-scaled.jpg
END:VEVENT
BEGIN:VEVENT
DTSTART;TZID=America/New_York:20240816T103000
DTEND;TZID=America/New_York:20240816T160000
DTSTAMP:20260421T141355
CREATED:20240815T205609Z
LAST-MODIFIED:20240816T133923Z
UID:10001929-1723804200-1723824000@www.kesslercollection.com
SUMMARY:Brunch at Coastal 15
DESCRIPTION:Now offered daily from 10:30 AM – 4:00 PM\, indulge in a delightful array of signature brunch dishes including our Coastal Benedict\, Blueberry Pancakes\, and more.
URL:https://www.kesslercollection.com/bohemian-savannah/event/brunch-at-coastal-15/2024-08-16/
LOCATION:Coastal 15\, 102 W Bay St.\, Savannah\, GA\, 31401\, United States
ATTACH;FMTTYPE=image/png:https://www.kesslercollection.com/bohemian-savannah/wp-content/uploads/sites/5/2024/08/Disco-19.png
END:VEVENT
BEGIN:VEVENT
DTSTART;TZID=America/New_York:20240815T160000
DTEND;TZID=America/New_York:20240815T180000
DTSTAMP:20260421T141355
CREATED:20240325T173416Z
LAST-MODIFIED:20240815T204026Z
UID:10001896-1723737600-1723744800@www.kesslercollection.com
SUMMARY:Happy Hour at Coastal 15
DESCRIPTION:Immerse yourself in an inviting atmosphere on Savannah’s renowned River Street and visit Coastal 15 for Happy Hour every Monday – Friday from 4:00 PM – 6:00 PM. Experience an authentic coastal ambiance and indulge in exclusively priced draft beers\, rosé\, and cava.
URL:https://www.kesslercollection.com/bohemian-savannah/event/happy-hour-at-coastal-15/2024-08-15/
LOCATION:Coastal 15\, 102 W Bay St.\, Savannah\, GA\, 31401\, United States
ATTACH;FMTTYPE=image/jpeg:https://www.kesslercollection.com/bohemian-savannah/wp-content/uploads/sites/5/2024/03/coastal15-07-2-scaled.jpg
END:VEVENT
BEGIN:VEVENT
DTSTART;TZID=America/New_York:20240815T103000
DTEND;TZID=America/New_York:20240815T160000
DTSTAMP:20260421T141355
CREATED:20240815T205609Z
LAST-MODIFIED:20240816T133923Z
UID:10001928-1723717800-1723737600@www.kesslercollection.com
SUMMARY:Brunch at Coastal 15
DESCRIPTION:Now offered daily from 10:30 AM – 4:00 PM\, indulge in a delightful array of signature brunch dishes including our Coastal Benedict\, Blueberry Pancakes\, and more.
URL:https://www.kesslercollection.com/bohemian-savannah/event/brunch-at-coastal-15/2024-08-15/
LOCATION:Coastal 15\, 102 W Bay St.\, Savannah\, GA\, 31401\, United States
ATTACH;FMTTYPE=image/png:https://www.kesslercollection.com/bohemian-savannah/wp-content/uploads/sites/5/2024/08/Disco-19.png
END:VEVENT
BEGIN:VEVENT
DTSTART;TZID=America/New_York:20240814T160000
DTEND;TZID=America/New_York:20240814T180000
DTSTAMP:20260421T141355
CREATED:20240325T173416Z
LAST-MODIFIED:20240815T204026Z
UID:10001895-1723651200-1723658400@www.kesslercollection.com
SUMMARY:Happy Hour at Coastal 15
DESCRIPTION:Immerse yourself in an inviting atmosphere on Savannah’s renowned River Street and visit Coastal 15 for Happy Hour every Monday – Friday from 4:00 PM – 6:00 PM. Experience an authentic coastal ambiance and indulge in exclusively priced draft beers\, rosé\, and cava.
URL:https://www.kesslercollection.com/bohemian-savannah/event/happy-hour-at-coastal-15/2024-08-14/
LOCATION:Coastal 15\, 102 W Bay St.\, Savannah\, GA\, 31401\, United States
ATTACH;FMTTYPE=image/jpeg:https://www.kesslercollection.com/bohemian-savannah/wp-content/uploads/sites/5/2024/03/coastal15-07-2-scaled.jpg
END:VEVENT
BEGIN:VEVENT
DTSTART;TZID=America/New_York:20240813T160000
DTEND;TZID=America/New_York:20240813T180000
DTSTAMP:20260421T141355
CREATED:20240325T173416Z
LAST-MODIFIED:20240815T204026Z
UID:10001894-1723564800-1723572000@www.kesslercollection.com
SUMMARY:Happy Hour at Coastal 15
DESCRIPTION:Immerse yourself in an inviting atmosphere on Savannah’s renowned River Street and visit Coastal 15 for Happy Hour every Monday – Friday from 4:00 PM – 6:00 PM. Experience an authentic coastal ambiance and indulge in exclusively priced draft beers\, rosé\, and cava.
URL:https://www.kesslercollection.com/bohemian-savannah/event/happy-hour-at-coastal-15/2024-08-13/
LOCATION:Coastal 15\, 102 W Bay St.\, Savannah\, GA\, 31401\, United States
ATTACH;FMTTYPE=image/jpeg:https://www.kesslercollection.com/bohemian-savannah/wp-content/uploads/sites/5/2024/03/coastal15-07-2-scaled.jpg
END:VEVENT
BEGIN:VEVENT
DTSTART;TZID=America/New_York:20240812T160000
DTEND;TZID=America/New_York:20240812T180000
DTSTAMP:20260421T141355
CREATED:20240325T173416Z
LAST-MODIFIED:20240815T204026Z
UID:10001893-1723478400-1723485600@www.kesslercollection.com
SUMMARY:Happy Hour at Coastal 15
DESCRIPTION:Immerse yourself in an inviting atmosphere on Savannah’s renowned River Street and visit Coastal 15 for Happy Hour every Monday – Friday from 4:00 PM – 6:00 PM. Experience an authentic coastal ambiance and indulge in exclusively priced draft beers\, rosé\, and cava.
URL:https://www.kesslercollection.com/bohemian-savannah/event/happy-hour-at-coastal-15/2024-08-12/
LOCATION:Coastal 15\, 102 W Bay St.\, Savannah\, GA\, 31401\, United States
ATTACH;FMTTYPE=image/jpeg:https://www.kesslercollection.com/bohemian-savannah/wp-content/uploads/sites/5/2024/03/coastal15-07-2-scaled.jpg
END:VEVENT
BEGIN:VEVENT
DTSTART;TZID=America/New_York:20240809T160000
DTEND;TZID=America/New_York:20240809T180000
DTSTAMP:20260421T141355
CREATED:20240325T173416Z
LAST-MODIFIED:20240815T204026Z
UID:10001892-1723219200-1723226400@www.kesslercollection.com
SUMMARY:Happy Hour at Coastal 15
DESCRIPTION:Immerse yourself in an inviting atmosphere on Savannah’s renowned River Street and visit Coastal 15 for Happy Hour every Monday – Friday from 4:00 PM – 6:00 PM. Experience an authentic coastal ambiance and indulge in exclusively priced draft beers\, rosé\, and cava.
URL:https://www.kesslercollection.com/bohemian-savannah/event/happy-hour-at-coastal-15/2024-08-09/
LOCATION:Coastal 15\, 102 W Bay St.\, Savannah\, GA\, 31401\, United States
ATTACH;FMTTYPE=image/jpeg:https://www.kesslercollection.com/bohemian-savannah/wp-content/uploads/sites/5/2024/03/coastal15-07-2-scaled.jpg
END:VEVENT
BEGIN:VEVENT
DTSTART;TZID=America/New_York:20240808T160000
DTEND;TZID=America/New_York:20240808T180000
DTSTAMP:20260421T141355
CREATED:20240325T173416Z
LAST-MODIFIED:20240815T204026Z
UID:10001891-1723132800-1723140000@www.kesslercollection.com
SUMMARY:Happy Hour at Coastal 15
DESCRIPTION:Immerse yourself in an inviting atmosphere on Savannah’s renowned River Street and visit Coastal 15 for Happy Hour every Monday – Friday from 4:00 PM – 6:00 PM. Experience an authentic coastal ambiance and indulge in exclusively priced draft beers\, rosé\, and cava.
URL:https://www.kesslercollection.com/bohemian-savannah/event/happy-hour-at-coastal-15/2024-08-08/
LOCATION:Coastal 15\, 102 W Bay St.\, Savannah\, GA\, 31401\, United States
ATTACH;FMTTYPE=image/jpeg:https://www.kesslercollection.com/bohemian-savannah/wp-content/uploads/sites/5/2024/03/coastal15-07-2-scaled.jpg
END:VEVENT
BEGIN:VEVENT
DTSTART;TZID=America/New_York:20240807T160000
DTEND;TZID=America/New_York:20240807T180000
DTSTAMP:20260421T141355
CREATED:20240325T173416Z
LAST-MODIFIED:20240815T204026Z
UID:10001890-1723046400-1723053600@www.kesslercollection.com
SUMMARY:Happy Hour at Coastal 15
DESCRIPTION:Immerse yourself in an inviting atmosphere on Savannah’s renowned River Street and visit Coastal 15 for Happy Hour every Monday – Friday from 4:00 PM – 6:00 PM. Experience an authentic coastal ambiance and indulge in exclusively priced draft beers\, rosé\, and cava.
URL:https://www.kesslercollection.com/bohemian-savannah/event/happy-hour-at-coastal-15/2024-08-07/
LOCATION:Coastal 15\, 102 W Bay St.\, Savannah\, GA\, 31401\, United States
ATTACH;FMTTYPE=image/jpeg:https://www.kesslercollection.com/bohemian-savannah/wp-content/uploads/sites/5/2024/03/coastal15-07-2-scaled.jpg
END:VEVENT
END:VCALENDAR