BEGIN:VCALENDAR
VERSION:2.0
PRODID:-//Bohemian Hotel Savannah Riverfront - ECPv6.15.20//NONSGML v1.0//EN
CALSCALE:GREGORIAN
METHOD:PUBLISH
X-WR-CALNAME:Bohemian Hotel Savannah Riverfront
X-ORIGINAL-URL:https://www.kesslercollection.com/bohemian-savannah
X-WR-CALDESC:Events for Bohemian Hotel Savannah Riverfront
REFRESH-INTERVAL;VALUE=DURATION:PT1H
X-Robots-Tag:noindex
X-PUBLISHED-TTL:PT1H
BEGIN:VTIMEZONE
TZID:America/New_York
BEGIN:DAYLIGHT
TZOFFSETFROM:-0500
TZOFFSETTO:-0400
TZNAME:EDT
DTSTART:20250309T070000
END:DAYLIGHT
BEGIN:STANDARD
TZOFFSETFROM:-0400
TZOFFSETTO:-0500
TZNAME:EST
DTSTART:20251102T060000
END:STANDARD
BEGIN:DAYLIGHT
TZOFFSETFROM:-0500
TZOFFSETTO:-0400
TZNAME:EDT
DTSTART:20260308T070000
END:DAYLIGHT
BEGIN:STANDARD
TZOFFSETFROM:-0400
TZOFFSETTO:-0500
TZNAME:EST
DTSTART:20261101T060000
END:STANDARD
BEGIN:DAYLIGHT
TZOFFSETFROM:-0500
TZOFFSETTO:-0400
TZNAME:EDT
DTSTART:20270314T070000
END:DAYLIGHT
BEGIN:STANDARD
TZOFFSETFROM:-0400
TZOFFSETTO:-0500
TZNAME:EST
DTSTART:20271107T060000
END:STANDARD
BEGIN:DAYLIGHT
TZOFFSETFROM:-0500
TZOFFSETTO:-0400
TZNAME:EDT
DTSTART:20280312T070000
END:DAYLIGHT
BEGIN:STANDARD
TZOFFSETFROM:-0400
TZOFFSETTO:-0500
TZNAME:EST
DTSTART:20281105T060000
END:STANDARD
BEGIN:DAYLIGHT
TZOFFSETFROM:-0500
TZOFFSETTO:-0400
TZNAME:EDT
DTSTART:20290311T070000
END:DAYLIGHT
BEGIN:STANDARD
TZOFFSETFROM:-0400
TZOFFSETTO:-0500
TZNAME:EST
DTSTART:20291104T060000
END:STANDARD
END:VTIMEZONE
BEGIN:VEVENT
DTSTART;TZID=America/New_York:20260914T140000
DTEND;TZID=America/New_York:20280516T160000
DTSTAMP:20260425T203325
CREATED:20250204T154718Z
LAST-MODIFIED:20260218T214147Z
UID:10002891-1789394400-1842105600@www.kesslercollection.com
SUMMARY:Happy Hour at Coastal 15
DESCRIPTION:Savor the coastal charm at Coastal 15 during Happy Hour\, Monday – Friday from 2:00 PM – 5:00 PM. Unwind with specially priced bites\, wine by the glass\, and refreshing draft beer.
URL:https://www.kesslercollection.com/bohemian-savannah/event/happy-hour-at-coastal-15-2/2026-09-14/
LOCATION:Coastal 15\, 102 W Bay St.\, Savannah\, GA\, 31401\, United States
ATTACH;FMTTYPE=image/jpeg:https://www.kesslercollection.com/bohemian-savannah/wp-content/uploads/sites/5/2024/05/BHSR-Coastal15-24-2.jpg
END:VEVENT
BEGIN:VEVENT
DTSTART;TZID=America/New_York:20260915T140000
DTEND;TZID=America/New_York:20280517T160000
DTSTAMP:20260425T203325
CREATED:20250204T154718Z
LAST-MODIFIED:20260218T214147Z
UID:10002892-1789480800-1842192000@www.kesslercollection.com
SUMMARY:Happy Hour at Coastal 15
DESCRIPTION:Savor the coastal charm at Coastal 15 during Happy Hour\, Monday – Friday from 2:00 PM – 5:00 PM. Unwind with specially priced bites\, wine by the glass\, and refreshing draft beer.
URL:https://www.kesslercollection.com/bohemian-savannah/event/happy-hour-at-coastal-15-2/2026-09-15/
LOCATION:Coastal 15\, 102 W Bay St.\, Savannah\, GA\, 31401\, United States
ATTACH;FMTTYPE=image/jpeg:https://www.kesslercollection.com/bohemian-savannah/wp-content/uploads/sites/5/2024/05/BHSR-Coastal15-24-2.jpg
END:VEVENT
BEGIN:VEVENT
DTSTART;TZID=America/New_York:20260916T140000
DTEND;TZID=America/New_York:20280518T160000
DTSTAMP:20260425T203325
CREATED:20250204T154718Z
LAST-MODIFIED:20260218T214147Z
UID:10002893-1789567200-1842278400@www.kesslercollection.com
SUMMARY:Happy Hour at Coastal 15
DESCRIPTION:Savor the coastal charm at Coastal 15 during Happy Hour\, Monday – Friday from 2:00 PM – 5:00 PM. Unwind with specially priced bites\, wine by the glass\, and refreshing draft beer.
URL:https://www.kesslercollection.com/bohemian-savannah/event/happy-hour-at-coastal-15-2/2026-09-16/
LOCATION:Coastal 15\, 102 W Bay St.\, Savannah\, GA\, 31401\, United States
ATTACH;FMTTYPE=image/jpeg:https://www.kesslercollection.com/bohemian-savannah/wp-content/uploads/sites/5/2024/05/BHSR-Coastal15-24-2.jpg
END:VEVENT
BEGIN:VEVENT
DTSTART;TZID=America/New_York:20260917T140000
DTEND;TZID=America/New_York:20280519T160000
DTSTAMP:20260425T203325
CREATED:20250204T154718Z
LAST-MODIFIED:20260218T214147Z
UID:10002894-1789653600-1842364800@www.kesslercollection.com
SUMMARY:Happy Hour at Coastal 15
DESCRIPTION:Savor the coastal charm at Coastal 15 during Happy Hour\, Monday – Friday from 2:00 PM – 5:00 PM. Unwind with specially priced bites\, wine by the glass\, and refreshing draft beer.
URL:https://www.kesslercollection.com/bohemian-savannah/event/happy-hour-at-coastal-15-2/2026-09-17/
LOCATION:Coastal 15\, 102 W Bay St.\, Savannah\, GA\, 31401\, United States
ATTACH;FMTTYPE=image/jpeg:https://www.kesslercollection.com/bohemian-savannah/wp-content/uploads/sites/5/2024/05/BHSR-Coastal15-24-2.jpg
END:VEVENT
BEGIN:VEVENT
DTSTART;TZID=America/New_York:20260918T140000
DTEND;TZID=America/New_York:20280520T160000
DTSTAMP:20260425T203325
CREATED:20250204T154718Z
LAST-MODIFIED:20260218T214147Z
UID:10002895-1789740000-1842451200@www.kesslercollection.com
SUMMARY:Happy Hour at Coastal 15
DESCRIPTION:Savor the coastal charm at Coastal 15 during Happy Hour\, Monday – Friday from 2:00 PM – 5:00 PM. Unwind with specially priced bites\, wine by the glass\, and refreshing draft beer.
URL:https://www.kesslercollection.com/bohemian-savannah/event/happy-hour-at-coastal-15-2/2026-09-18/
LOCATION:Coastal 15\, 102 W Bay St.\, Savannah\, GA\, 31401\, United States
ATTACH;FMTTYPE=image/jpeg:https://www.kesslercollection.com/bohemian-savannah/wp-content/uploads/sites/5/2024/05/BHSR-Coastal15-24-2.jpg
END:VEVENT
BEGIN:VEVENT
DTSTART;TZID=America/New_York:20260921T140000
DTEND;TZID=America/New_York:20280523T160000
DTSTAMP:20260425T203325
CREATED:20250204T154718Z
LAST-MODIFIED:20260218T214147Z
UID:10002896-1789999200-1842710400@www.kesslercollection.com
SUMMARY:Happy Hour at Coastal 15
DESCRIPTION:Savor the coastal charm at Coastal 15 during Happy Hour\, Monday – Friday from 2:00 PM – 5:00 PM. Unwind with specially priced bites\, wine by the glass\, and refreshing draft beer.
URL:https://www.kesslercollection.com/bohemian-savannah/event/happy-hour-at-coastal-15-2/2026-09-21/
LOCATION:Coastal 15\, 102 W Bay St.\, Savannah\, GA\, 31401\, United States
ATTACH;FMTTYPE=image/jpeg:https://www.kesslercollection.com/bohemian-savannah/wp-content/uploads/sites/5/2024/05/BHSR-Coastal15-24-2.jpg
END:VEVENT
BEGIN:VEVENT
DTSTART;TZID=America/New_York:20260922T140000
DTEND;TZID=America/New_York:20280524T160000
DTSTAMP:20260425T203325
CREATED:20250204T154718Z
LAST-MODIFIED:20260218T214147Z
UID:10002897-1790085600-1842796800@www.kesslercollection.com
SUMMARY:Happy Hour at Coastal 15
DESCRIPTION:Savor the coastal charm at Coastal 15 during Happy Hour\, Monday – Friday from 2:00 PM – 5:00 PM. Unwind with specially priced bites\, wine by the glass\, and refreshing draft beer.
URL:https://www.kesslercollection.com/bohemian-savannah/event/happy-hour-at-coastal-15-2/2026-09-22/
LOCATION:Coastal 15\, 102 W Bay St.\, Savannah\, GA\, 31401\, United States
ATTACH;FMTTYPE=image/jpeg:https://www.kesslercollection.com/bohemian-savannah/wp-content/uploads/sites/5/2024/05/BHSR-Coastal15-24-2.jpg
END:VEVENT
BEGIN:VEVENT
DTSTART;TZID=America/New_York:20260923T140000
DTEND;TZID=America/New_York:20280525T160000
DTSTAMP:20260425T203325
CREATED:20250204T154718Z
LAST-MODIFIED:20260218T214147Z
UID:10002898-1790172000-1842883200@www.kesslercollection.com
SUMMARY:Happy Hour at Coastal 15
DESCRIPTION:Savor the coastal charm at Coastal 15 during Happy Hour\, Monday – Friday from 2:00 PM – 5:00 PM. Unwind with specially priced bites\, wine by the glass\, and refreshing draft beer.
URL:https://www.kesslercollection.com/bohemian-savannah/event/happy-hour-at-coastal-15-2/2026-09-23/
LOCATION:Coastal 15\, 102 W Bay St.\, Savannah\, GA\, 31401\, United States
ATTACH;FMTTYPE=image/jpeg:https://www.kesslercollection.com/bohemian-savannah/wp-content/uploads/sites/5/2024/05/BHSR-Coastal15-24-2.jpg
END:VEVENT
BEGIN:VEVENT
DTSTART;TZID=America/New_York:20260924T140000
DTEND;TZID=America/New_York:20280526T160000
DTSTAMP:20260425T203325
CREATED:20250204T154718Z
LAST-MODIFIED:20260218T214147Z
UID:10002899-1790258400-1842969600@www.kesslercollection.com
SUMMARY:Happy Hour at Coastal 15
DESCRIPTION:Savor the coastal charm at Coastal 15 during Happy Hour\, Monday – Friday from 2:00 PM – 5:00 PM. Unwind with specially priced bites\, wine by the glass\, and refreshing draft beer.
URL:https://www.kesslercollection.com/bohemian-savannah/event/happy-hour-at-coastal-15-2/2026-09-24/
LOCATION:Coastal 15\, 102 W Bay St.\, Savannah\, GA\, 31401\, United States
ATTACH;FMTTYPE=image/jpeg:https://www.kesslercollection.com/bohemian-savannah/wp-content/uploads/sites/5/2024/05/BHSR-Coastal15-24-2.jpg
END:VEVENT
BEGIN:VEVENT
DTSTART;TZID=America/New_York:20260925T140000
DTEND;TZID=America/New_York:20280527T160000
DTSTAMP:20260425T203326
CREATED:20250204T154718Z
LAST-MODIFIED:20260218T214147Z
UID:10002900-1790344800-1843056000@www.kesslercollection.com
SUMMARY:Happy Hour at Coastal 15
DESCRIPTION:Savor the coastal charm at Coastal 15 during Happy Hour\, Monday – Friday from 2:00 PM – 5:00 PM. Unwind with specially priced bites\, wine by the glass\, and refreshing draft beer.
URL:https://www.kesslercollection.com/bohemian-savannah/event/happy-hour-at-coastal-15-2/2026-09-25/
LOCATION:Coastal 15\, 102 W Bay St.\, Savannah\, GA\, 31401\, United States
ATTACH;FMTTYPE=image/jpeg:https://www.kesslercollection.com/bohemian-savannah/wp-content/uploads/sites/5/2024/05/BHSR-Coastal15-24-2.jpg
END:VEVENT
BEGIN:VEVENT
DTSTART;TZID=America/New_York:20260928T140000
DTEND;TZID=America/New_York:20280530T160000
DTSTAMP:20260425T203326
CREATED:20250204T154718Z
LAST-MODIFIED:20260218T214147Z
UID:10002901-1790604000-1843315200@www.kesslercollection.com
SUMMARY:Happy Hour at Coastal 15
DESCRIPTION:Savor the coastal charm at Coastal 15 during Happy Hour\, Monday – Friday from 2:00 PM – 5:00 PM. Unwind with specially priced bites\, wine by the glass\, and refreshing draft beer.
URL:https://www.kesslercollection.com/bohemian-savannah/event/happy-hour-at-coastal-15-2/2026-09-28/
LOCATION:Coastal 15\, 102 W Bay St.\, Savannah\, GA\, 31401\, United States
ATTACH;FMTTYPE=image/jpeg:https://www.kesslercollection.com/bohemian-savannah/wp-content/uploads/sites/5/2024/05/BHSR-Coastal15-24-2.jpg
END:VEVENT
BEGIN:VEVENT
DTSTART;TZID=America/New_York:20260929T140000
DTEND;TZID=America/New_York:20280531T160000
DTSTAMP:20260425T203326
CREATED:20250204T154718Z
LAST-MODIFIED:20260218T214147Z
UID:10002902-1790690400-1843401600@www.kesslercollection.com
SUMMARY:Happy Hour at Coastal 15
DESCRIPTION:Savor the coastal charm at Coastal 15 during Happy Hour\, Monday – Friday from 2:00 PM – 5:00 PM. Unwind with specially priced bites\, wine by the glass\, and refreshing draft beer.
URL:https://www.kesslercollection.com/bohemian-savannah/event/happy-hour-at-coastal-15-2/2026-09-29/
LOCATION:Coastal 15\, 102 W Bay St.\, Savannah\, GA\, 31401\, United States
ATTACH;FMTTYPE=image/jpeg:https://www.kesslercollection.com/bohemian-savannah/wp-content/uploads/sites/5/2024/05/BHSR-Coastal15-24-2.jpg
END:VEVENT
BEGIN:VEVENT
DTSTART;TZID=America/New_York:20260930T140000
DTEND;TZID=America/New_York:20280601T160000
DTSTAMP:20260425T203326
CREATED:20250204T154718Z
LAST-MODIFIED:20260218T214147Z
UID:10002903-1790776800-1843488000@www.kesslercollection.com
SUMMARY:Happy Hour at Coastal 15
DESCRIPTION:Savor the coastal charm at Coastal 15 during Happy Hour\, Monday – Friday from 2:00 PM – 5:00 PM. Unwind with specially priced bites\, wine by the glass\, and refreshing draft beer.
URL:https://www.kesslercollection.com/bohemian-savannah/event/happy-hour-at-coastal-15-2/2026-09-30/
LOCATION:Coastal 15\, 102 W Bay St.\, Savannah\, GA\, 31401\, United States
ATTACH;FMTTYPE=image/jpeg:https://www.kesslercollection.com/bohemian-savannah/wp-content/uploads/sites/5/2024/05/BHSR-Coastal15-24-2.jpg
END:VEVENT
BEGIN:VEVENT
DTSTART;TZID=America/New_York:20261001T140000
DTEND;TZID=America/New_York:20280602T160000
DTSTAMP:20260425T203326
CREATED:20250204T154718Z
LAST-MODIFIED:20260218T214147Z
UID:10002904-1790863200-1843574400@www.kesslercollection.com
SUMMARY:Happy Hour at Coastal 15
DESCRIPTION:Savor the coastal charm at Coastal 15 during Happy Hour\, Monday – Friday from 2:00 PM – 5:00 PM. Unwind with specially priced bites\, wine by the glass\, and refreshing draft beer.
URL:https://www.kesslercollection.com/bohemian-savannah/event/happy-hour-at-coastal-15-2/2026-10-01/
LOCATION:Coastal 15\, 102 W Bay St.\, Savannah\, GA\, 31401\, United States
ATTACH;FMTTYPE=image/jpeg:https://www.kesslercollection.com/bohemian-savannah/wp-content/uploads/sites/5/2024/05/BHSR-Coastal15-24-2.jpg
END:VEVENT
BEGIN:VEVENT
DTSTART;TZID=America/New_York:20261002T140000
DTEND;TZID=America/New_York:20280603T160000
DTSTAMP:20260425T203326
CREATED:20250204T154718Z
LAST-MODIFIED:20260218T214147Z
UID:10002905-1790949600-1843660800@www.kesslercollection.com
SUMMARY:Happy Hour at Coastal 15
DESCRIPTION:Savor the coastal charm at Coastal 15 during Happy Hour\, Monday – Friday from 2:00 PM – 5:00 PM. Unwind with specially priced bites\, wine by the glass\, and refreshing draft beer.
URL:https://www.kesslercollection.com/bohemian-savannah/event/happy-hour-at-coastal-15-2/2026-10-02/
LOCATION:Coastal 15\, 102 W Bay St.\, Savannah\, GA\, 31401\, United States
ATTACH;FMTTYPE=image/jpeg:https://www.kesslercollection.com/bohemian-savannah/wp-content/uploads/sites/5/2024/05/BHSR-Coastal15-24-2.jpg
END:VEVENT
BEGIN:VEVENT
DTSTART;TZID=America/New_York:20261005T140000
DTEND;TZID=America/New_York:20280606T160000
DTSTAMP:20260425T203326
CREATED:20250204T154718Z
LAST-MODIFIED:20260218T214147Z
UID:10002906-1791208800-1843920000@www.kesslercollection.com
SUMMARY:Happy Hour at Coastal 15
DESCRIPTION:Savor the coastal charm at Coastal 15 during Happy Hour\, Monday – Friday from 2:00 PM – 5:00 PM. Unwind with specially priced bites\, wine by the glass\, and refreshing draft beer.
URL:https://www.kesslercollection.com/bohemian-savannah/event/happy-hour-at-coastal-15-2/2026-10-05/
LOCATION:Coastal 15\, 102 W Bay St.\, Savannah\, GA\, 31401\, United States
ATTACH;FMTTYPE=image/jpeg:https://www.kesslercollection.com/bohemian-savannah/wp-content/uploads/sites/5/2024/05/BHSR-Coastal15-24-2.jpg
END:VEVENT
BEGIN:VEVENT
DTSTART;TZID=America/New_York:20261006T140000
DTEND;TZID=America/New_York:20280607T160000
DTSTAMP:20260425T203326
CREATED:20250204T154718Z
LAST-MODIFIED:20260218T214147Z
UID:10002907-1791295200-1844006400@www.kesslercollection.com
SUMMARY:Happy Hour at Coastal 15
DESCRIPTION:Savor the coastal charm at Coastal 15 during Happy Hour\, Monday – Friday from 2:00 PM – 5:00 PM. Unwind with specially priced bites\, wine by the glass\, and refreshing draft beer.
URL:https://www.kesslercollection.com/bohemian-savannah/event/happy-hour-at-coastal-15-2/2026-10-06/
LOCATION:Coastal 15\, 102 W Bay St.\, Savannah\, GA\, 31401\, United States
ATTACH;FMTTYPE=image/jpeg:https://www.kesslercollection.com/bohemian-savannah/wp-content/uploads/sites/5/2024/05/BHSR-Coastal15-24-2.jpg
END:VEVENT
BEGIN:VEVENT
DTSTART;TZID=America/New_York:20261007T140000
DTEND;TZID=America/New_York:20280608T160000
DTSTAMP:20260425T203326
CREATED:20250204T154718Z
LAST-MODIFIED:20260218T214147Z
UID:10002908-1791381600-1844092800@www.kesslercollection.com
SUMMARY:Happy Hour at Coastal 15
DESCRIPTION:Savor the coastal charm at Coastal 15 during Happy Hour\, Monday – Friday from 2:00 PM – 5:00 PM. Unwind with specially priced bites\, wine by the glass\, and refreshing draft beer.
URL:https://www.kesslercollection.com/bohemian-savannah/event/happy-hour-at-coastal-15-2/2026-10-07/
LOCATION:Coastal 15\, 102 W Bay St.\, Savannah\, GA\, 31401\, United States
ATTACH;FMTTYPE=image/jpeg:https://www.kesslercollection.com/bohemian-savannah/wp-content/uploads/sites/5/2024/05/BHSR-Coastal15-24-2.jpg
END:VEVENT
BEGIN:VEVENT
DTSTART;TZID=America/New_York:20261008T140000
DTEND;TZID=America/New_York:20280609T160000
DTSTAMP:20260425T203326
CREATED:20250204T154718Z
LAST-MODIFIED:20260218T214147Z
UID:10002909-1791468000-1844179200@www.kesslercollection.com
SUMMARY:Happy Hour at Coastal 15
DESCRIPTION:Savor the coastal charm at Coastal 15 during Happy Hour\, Monday – Friday from 2:00 PM – 5:00 PM. Unwind with specially priced bites\, wine by the glass\, and refreshing draft beer.
URL:https://www.kesslercollection.com/bohemian-savannah/event/happy-hour-at-coastal-15-2/2026-10-08/
LOCATION:Coastal 15\, 102 W Bay St.\, Savannah\, GA\, 31401\, United States
ATTACH;FMTTYPE=image/jpeg:https://www.kesslercollection.com/bohemian-savannah/wp-content/uploads/sites/5/2024/05/BHSR-Coastal15-24-2.jpg
END:VEVENT
BEGIN:VEVENT
DTSTART;TZID=America/New_York:20261009T140000
DTEND;TZID=America/New_York:20280610T160000
DTSTAMP:20260425T203326
CREATED:20250204T154718Z
LAST-MODIFIED:20260218T214147Z
UID:10002910-1791554400-1844265600@www.kesslercollection.com
SUMMARY:Happy Hour at Coastal 15
DESCRIPTION:Savor the coastal charm at Coastal 15 during Happy Hour\, Monday – Friday from 2:00 PM – 5:00 PM. Unwind with specially priced bites\, wine by the glass\, and refreshing draft beer.
URL:https://www.kesslercollection.com/bohemian-savannah/event/happy-hour-at-coastal-15-2/2026-10-09/
LOCATION:Coastal 15\, 102 W Bay St.\, Savannah\, GA\, 31401\, United States
ATTACH;FMTTYPE=image/jpeg:https://www.kesslercollection.com/bohemian-savannah/wp-content/uploads/sites/5/2024/05/BHSR-Coastal15-24-2.jpg
END:VEVENT
BEGIN:VEVENT
DTSTART;TZID=America/New_York:20261012T140000
DTEND;TZID=America/New_York:20280613T160000
DTSTAMP:20260425T203326
CREATED:20250204T154718Z
LAST-MODIFIED:20260218T214147Z
UID:10002911-1791813600-1844524800@www.kesslercollection.com
SUMMARY:Happy Hour at Coastal 15
DESCRIPTION:Savor the coastal charm at Coastal 15 during Happy Hour\, Monday – Friday from 2:00 PM – 5:00 PM. Unwind with specially priced bites\, wine by the glass\, and refreshing draft beer.
URL:https://www.kesslercollection.com/bohemian-savannah/event/happy-hour-at-coastal-15-2/2026-10-12/
LOCATION:Coastal 15\, 102 W Bay St.\, Savannah\, GA\, 31401\, United States
ATTACH;FMTTYPE=image/jpeg:https://www.kesslercollection.com/bohemian-savannah/wp-content/uploads/sites/5/2024/05/BHSR-Coastal15-24-2.jpg
END:VEVENT
BEGIN:VEVENT
DTSTART;TZID=America/New_York:20261013T140000
DTEND;TZID=America/New_York:20280614T160000
DTSTAMP:20260425T203326
CREATED:20250204T154718Z
LAST-MODIFIED:20260218T214147Z
UID:10002912-1791900000-1844611200@www.kesslercollection.com
SUMMARY:Happy Hour at Coastal 15
DESCRIPTION:Savor the coastal charm at Coastal 15 during Happy Hour\, Monday – Friday from 2:00 PM – 5:00 PM. Unwind with specially priced bites\, wine by the glass\, and refreshing draft beer.
URL:https://www.kesslercollection.com/bohemian-savannah/event/happy-hour-at-coastal-15-2/2026-10-13/
LOCATION:Coastal 15\, 102 W Bay St.\, Savannah\, GA\, 31401\, United States
ATTACH;FMTTYPE=image/jpeg:https://www.kesslercollection.com/bohemian-savannah/wp-content/uploads/sites/5/2024/05/BHSR-Coastal15-24-2.jpg
END:VEVENT
BEGIN:VEVENT
DTSTART;TZID=America/New_York:20261014T140000
DTEND;TZID=America/New_York:20280615T160000
DTSTAMP:20260425T203326
CREATED:20250204T154718Z
LAST-MODIFIED:20260218T214147Z
UID:10002913-1791986400-1844697600@www.kesslercollection.com
SUMMARY:Happy Hour at Coastal 15
DESCRIPTION:Savor the coastal charm at Coastal 15 during Happy Hour\, Monday – Friday from 2:00 PM – 5:00 PM. Unwind with specially priced bites\, wine by the glass\, and refreshing draft beer.
URL:https://www.kesslercollection.com/bohemian-savannah/event/happy-hour-at-coastal-15-2/2026-10-14/
LOCATION:Coastal 15\, 102 W Bay St.\, Savannah\, GA\, 31401\, United States
ATTACH;FMTTYPE=image/jpeg:https://www.kesslercollection.com/bohemian-savannah/wp-content/uploads/sites/5/2024/05/BHSR-Coastal15-24-2.jpg
END:VEVENT
BEGIN:VEVENT
DTSTART;TZID=America/New_York:20261015T140000
DTEND;TZID=America/New_York:20280616T160000
DTSTAMP:20260425T203326
CREATED:20250204T154718Z
LAST-MODIFIED:20260218T214147Z
UID:10002914-1792072800-1844784000@www.kesslercollection.com
SUMMARY:Happy Hour at Coastal 15
DESCRIPTION:Savor the coastal charm at Coastal 15 during Happy Hour\, Monday – Friday from 2:00 PM – 5:00 PM. Unwind with specially priced bites\, wine by the glass\, and refreshing draft beer.
URL:https://www.kesslercollection.com/bohemian-savannah/event/happy-hour-at-coastal-15-2/2026-10-15/
LOCATION:Coastal 15\, 102 W Bay St.\, Savannah\, GA\, 31401\, United States
ATTACH;FMTTYPE=image/jpeg:https://www.kesslercollection.com/bohemian-savannah/wp-content/uploads/sites/5/2024/05/BHSR-Coastal15-24-2.jpg
END:VEVENT
BEGIN:VEVENT
DTSTART;TZID=America/New_York:20261016T140000
DTEND;TZID=America/New_York:20280617T160000
DTSTAMP:20260425T203326
CREATED:20250204T154718Z
LAST-MODIFIED:20260218T214147Z
UID:10002915-1792159200-1844870400@www.kesslercollection.com
SUMMARY:Happy Hour at Coastal 15
DESCRIPTION:Savor the coastal charm at Coastal 15 during Happy Hour\, Monday – Friday from 2:00 PM – 5:00 PM. Unwind with specially priced bites\, wine by the glass\, and refreshing draft beer.
URL:https://www.kesslercollection.com/bohemian-savannah/event/happy-hour-at-coastal-15-2/2026-10-16/
LOCATION:Coastal 15\, 102 W Bay St.\, Savannah\, GA\, 31401\, United States
ATTACH;FMTTYPE=image/jpeg:https://www.kesslercollection.com/bohemian-savannah/wp-content/uploads/sites/5/2024/05/BHSR-Coastal15-24-2.jpg
END:VEVENT
BEGIN:VEVENT
DTSTART;TZID=America/New_York:20261019T140000
DTEND;TZID=America/New_York:20280620T160000
DTSTAMP:20260425T203326
CREATED:20250204T154718Z
LAST-MODIFIED:20260218T214147Z
UID:10002916-1792418400-1845129600@www.kesslercollection.com
SUMMARY:Happy Hour at Coastal 15
DESCRIPTION:Savor the coastal charm at Coastal 15 during Happy Hour\, Monday – Friday from 2:00 PM – 5:00 PM. Unwind with specially priced bites\, wine by the glass\, and refreshing draft beer.
URL:https://www.kesslercollection.com/bohemian-savannah/event/happy-hour-at-coastal-15-2/2026-10-19/
LOCATION:Coastal 15\, 102 W Bay St.\, Savannah\, GA\, 31401\, United States
ATTACH;FMTTYPE=image/jpeg:https://www.kesslercollection.com/bohemian-savannah/wp-content/uploads/sites/5/2024/05/BHSR-Coastal15-24-2.jpg
END:VEVENT
BEGIN:VEVENT
DTSTART;TZID=America/New_York:20261020T140000
DTEND;TZID=America/New_York:20280621T160000
DTSTAMP:20260425T203326
CREATED:20250204T154718Z
LAST-MODIFIED:20260218T214147Z
UID:10002917-1792504800-1845216000@www.kesslercollection.com
SUMMARY:Happy Hour at Coastal 15
DESCRIPTION:Savor the coastal charm at Coastal 15 during Happy Hour\, Monday – Friday from 2:00 PM – 5:00 PM. Unwind with specially priced bites\, wine by the glass\, and refreshing draft beer.
URL:https://www.kesslercollection.com/bohemian-savannah/event/happy-hour-at-coastal-15-2/2026-10-20/
LOCATION:Coastal 15\, 102 W Bay St.\, Savannah\, GA\, 31401\, United States
ATTACH;FMTTYPE=image/jpeg:https://www.kesslercollection.com/bohemian-savannah/wp-content/uploads/sites/5/2024/05/BHSR-Coastal15-24-2.jpg
END:VEVENT
BEGIN:VEVENT
DTSTART;TZID=America/New_York:20261021T140000
DTEND;TZID=America/New_York:20280622T160000
DTSTAMP:20260425T203326
CREATED:20250204T154718Z
LAST-MODIFIED:20260218T214147Z
UID:10002918-1792591200-1845302400@www.kesslercollection.com
SUMMARY:Happy Hour at Coastal 15
DESCRIPTION:Savor the coastal charm at Coastal 15 during Happy Hour\, Monday – Friday from 2:00 PM – 5:00 PM. Unwind with specially priced bites\, wine by the glass\, and refreshing draft beer.
URL:https://www.kesslercollection.com/bohemian-savannah/event/happy-hour-at-coastal-15-2/2026-10-21/
LOCATION:Coastal 15\, 102 W Bay St.\, Savannah\, GA\, 31401\, United States
ATTACH;FMTTYPE=image/jpeg:https://www.kesslercollection.com/bohemian-savannah/wp-content/uploads/sites/5/2024/05/BHSR-Coastal15-24-2.jpg
END:VEVENT
BEGIN:VEVENT
DTSTART;TZID=America/New_York:20261022T140000
DTEND;TZID=America/New_York:20280623T160000
DTSTAMP:20260425T203326
CREATED:20250204T154718Z
LAST-MODIFIED:20260218T214147Z
UID:10002919-1792677600-1845388800@www.kesslercollection.com
SUMMARY:Happy Hour at Coastal 15
DESCRIPTION:Savor the coastal charm at Coastal 15 during Happy Hour\, Monday – Friday from 2:00 PM – 5:00 PM. Unwind with specially priced bites\, wine by the glass\, and refreshing draft beer.
URL:https://www.kesslercollection.com/bohemian-savannah/event/happy-hour-at-coastal-15-2/2026-10-22/
LOCATION:Coastal 15\, 102 W Bay St.\, Savannah\, GA\, 31401\, United States
ATTACH;FMTTYPE=image/jpeg:https://www.kesslercollection.com/bohemian-savannah/wp-content/uploads/sites/5/2024/05/BHSR-Coastal15-24-2.jpg
END:VEVENT
BEGIN:VEVENT
DTSTART;TZID=America/New_York:20261023T140000
DTEND;TZID=America/New_York:20280624T160000
DTSTAMP:20260425T203326
CREATED:20250204T154718Z
LAST-MODIFIED:20260218T214147Z
UID:10002920-1792764000-1845475200@www.kesslercollection.com
SUMMARY:Happy Hour at Coastal 15
DESCRIPTION:Savor the coastal charm at Coastal 15 during Happy Hour\, Monday – Friday from 2:00 PM – 5:00 PM. Unwind with specially priced bites\, wine by the glass\, and refreshing draft beer.
URL:https://www.kesslercollection.com/bohemian-savannah/event/happy-hour-at-coastal-15-2/2026-10-23/
LOCATION:Coastal 15\, 102 W Bay St.\, Savannah\, GA\, 31401\, United States
ATTACH;FMTTYPE=image/jpeg:https://www.kesslercollection.com/bohemian-savannah/wp-content/uploads/sites/5/2024/05/BHSR-Coastal15-24-2.jpg
END:VEVENT
END:VCALENDAR