BEGIN:VCALENDAR
VERSION:2.0
PRODID:-//Bohemian Hotel Savannah Riverfront - ECPv6.15.20//NONSGML v1.0//EN
CALSCALE:GREGORIAN
METHOD:PUBLISH
X-ORIGINAL-URL:https://www.kesslercollection.com/bohemian-savannah
X-WR-CALDESC:Events for Bohemian Hotel Savannah Riverfront
REFRESH-INTERVAL;VALUE=DURATION:PT1H
X-Robots-Tag:noindex
X-PUBLISHED-TTL:PT1H
BEGIN:VTIMEZONE
TZID:America/New_York
BEGIN:DAYLIGHT
TZOFFSETFROM:-0500
TZOFFSETTO:-0400
TZNAME:EDT
DTSTART:20250309T070000
END:DAYLIGHT
BEGIN:STANDARD
TZOFFSETFROM:-0400
TZOFFSETTO:-0500
TZNAME:EST
DTSTART:20251102T060000
END:STANDARD
BEGIN:DAYLIGHT
TZOFFSETFROM:-0500
TZOFFSETTO:-0400
TZNAME:EDT
DTSTART:20260308T070000
END:DAYLIGHT
BEGIN:STANDARD
TZOFFSETFROM:-0400
TZOFFSETTO:-0500
TZNAME:EST
DTSTART:20261101T060000
END:STANDARD
BEGIN:DAYLIGHT
TZOFFSETFROM:-0500
TZOFFSETTO:-0400
TZNAME:EDT
DTSTART:20270314T070000
END:DAYLIGHT
BEGIN:STANDARD
TZOFFSETFROM:-0400
TZOFFSETTO:-0500
TZNAME:EST
DTSTART:20271107T060000
END:STANDARD
BEGIN:DAYLIGHT
TZOFFSETFROM:-0500
TZOFFSETTO:-0400
TZNAME:EDT
DTSTART:20280312T070000
END:DAYLIGHT
BEGIN:STANDARD
TZOFFSETFROM:-0400
TZOFFSETTO:-0500
TZNAME:EST
DTSTART:20281105T060000
END:STANDARD
BEGIN:DAYLIGHT
TZOFFSETFROM:-0500
TZOFFSETTO:-0400
TZNAME:EDT
DTSTART:20290311T070000
END:DAYLIGHT
BEGIN:STANDARD
TZOFFSETFROM:-0400
TZOFFSETTO:-0500
TZNAME:EST
DTSTART:20291104T060000
END:STANDARD
END:VTIMEZONE
BEGIN:VEVENT
DTSTART;TZID=America/New_York:20260724T140000
DTEND;TZID=America/New_York:20280325T160000
DTSTAMP:20260425T134421
CREATED:20250204T154718Z
LAST-MODIFIED:20260218T214147Z
UID:10002855-1784901600-1837612800@www.kesslercollection.com
SUMMARY:Happy Hour at Coastal 15
DESCRIPTION:Savor the coastal charm at Coastal 15 during Happy Hour\, Monday – Friday from 2:00 PM – 5:00 PM. Unwind with specially priced bites\, wine by the glass\, and refreshing draft beer.
URL:https://www.kesslercollection.com/bohemian-savannah/event/happy-hour-at-coastal-15-2/2026-07-24/
LOCATION:Coastal 15\, 102 W Bay St.\, Savannah\, GA\, 31401\, United States
ATTACH;FMTTYPE=image/jpeg:https://www.kesslercollection.com/bohemian-savannah/wp-content/uploads/sites/5/2024/05/BHSR-Coastal15-24-2.jpg
END:VEVENT
BEGIN:VEVENT
DTSTART;TZID=America/New_York:20260727T140000
DTEND;TZID=America/New_York:20280328T160000
DTSTAMP:20260425T134421
CREATED:20250204T154718Z
LAST-MODIFIED:20260218T214147Z
UID:10002856-1785160800-1837872000@www.kesslercollection.com
SUMMARY:Happy Hour at Coastal 15
DESCRIPTION:Savor the coastal charm at Coastal 15 during Happy Hour\, Monday – Friday from 2:00 PM – 5:00 PM. Unwind with specially priced bites\, wine by the glass\, and refreshing draft beer.
URL:https://www.kesslercollection.com/bohemian-savannah/event/happy-hour-at-coastal-15-2/2026-07-27/
LOCATION:Coastal 15\, 102 W Bay St.\, Savannah\, GA\, 31401\, United States
ATTACH;FMTTYPE=image/jpeg:https://www.kesslercollection.com/bohemian-savannah/wp-content/uploads/sites/5/2024/05/BHSR-Coastal15-24-2.jpg
END:VEVENT
BEGIN:VEVENT
DTSTART;TZID=America/New_York:20260728T140000
DTEND;TZID=America/New_York:20280329T160000
DTSTAMP:20260425T134421
CREATED:20250204T154718Z
LAST-MODIFIED:20260218T214147Z
UID:10002857-1785247200-1837958400@www.kesslercollection.com
SUMMARY:Happy Hour at Coastal 15
DESCRIPTION:Savor the coastal charm at Coastal 15 during Happy Hour\, Monday – Friday from 2:00 PM – 5:00 PM. Unwind with specially priced bites\, wine by the glass\, and refreshing draft beer.
URL:https://www.kesslercollection.com/bohemian-savannah/event/happy-hour-at-coastal-15-2/2026-07-28/
LOCATION:Coastal 15\, 102 W Bay St.\, Savannah\, GA\, 31401\, United States
ATTACH;FMTTYPE=image/jpeg:https://www.kesslercollection.com/bohemian-savannah/wp-content/uploads/sites/5/2024/05/BHSR-Coastal15-24-2.jpg
END:VEVENT
BEGIN:VEVENT
DTSTART;TZID=America/New_York:20260729T140000
DTEND;TZID=America/New_York:20280330T160000
DTSTAMP:20260425T134421
CREATED:20250204T154718Z
LAST-MODIFIED:20260218T214147Z
UID:10002858-1785333600-1838044800@www.kesslercollection.com
SUMMARY:Happy Hour at Coastal 15
DESCRIPTION:Savor the coastal charm at Coastal 15 during Happy Hour\, Monday – Friday from 2:00 PM – 5:00 PM. Unwind with specially priced bites\, wine by the glass\, and refreshing draft beer.
URL:https://www.kesslercollection.com/bohemian-savannah/event/happy-hour-at-coastal-15-2/2026-07-29/
LOCATION:Coastal 15\, 102 W Bay St.\, Savannah\, GA\, 31401\, United States
ATTACH;FMTTYPE=image/jpeg:https://www.kesslercollection.com/bohemian-savannah/wp-content/uploads/sites/5/2024/05/BHSR-Coastal15-24-2.jpg
END:VEVENT
BEGIN:VEVENT
DTSTART;TZID=America/New_York:20260730T140000
DTEND;TZID=America/New_York:20280331T160000
DTSTAMP:20260425T134421
CREATED:20250204T154718Z
LAST-MODIFIED:20260218T214147Z
UID:10002859-1785420000-1838131200@www.kesslercollection.com
SUMMARY:Happy Hour at Coastal 15
DESCRIPTION:Savor the coastal charm at Coastal 15 during Happy Hour\, Monday – Friday from 2:00 PM – 5:00 PM. Unwind with specially priced bites\, wine by the glass\, and refreshing draft beer.
URL:https://www.kesslercollection.com/bohemian-savannah/event/happy-hour-at-coastal-15-2/2026-07-30/
LOCATION:Coastal 15\, 102 W Bay St.\, Savannah\, GA\, 31401\, United States
ATTACH;FMTTYPE=image/jpeg:https://www.kesslercollection.com/bohemian-savannah/wp-content/uploads/sites/5/2024/05/BHSR-Coastal15-24-2.jpg
END:VEVENT
BEGIN:VEVENT
DTSTART;TZID=America/New_York:20260731T140000
DTEND;TZID=America/New_York:20280401T160000
DTSTAMP:20260425T134421
CREATED:20250204T154718Z
LAST-MODIFIED:20260218T214147Z
UID:10002860-1785506400-1838217600@www.kesslercollection.com
SUMMARY:Happy Hour at Coastal 15
DESCRIPTION:Savor the coastal charm at Coastal 15 during Happy Hour\, Monday – Friday from 2:00 PM – 5:00 PM. Unwind with specially priced bites\, wine by the glass\, and refreshing draft beer.
URL:https://www.kesslercollection.com/bohemian-savannah/event/happy-hour-at-coastal-15-2/2026-07-31/
LOCATION:Coastal 15\, 102 W Bay St.\, Savannah\, GA\, 31401\, United States
ATTACH;FMTTYPE=image/jpeg:https://www.kesslercollection.com/bohemian-savannah/wp-content/uploads/sites/5/2024/05/BHSR-Coastal15-24-2.jpg
END:VEVENT
BEGIN:VEVENT
DTSTART;TZID=America/New_York:20260803T140000
DTEND;TZID=America/New_York:20280404T160000
DTSTAMP:20260425T134421
CREATED:20250204T154718Z
LAST-MODIFIED:20260218T214147Z
UID:10002861-1785765600-1838476800@www.kesslercollection.com
SUMMARY:Happy Hour at Coastal 15
DESCRIPTION:Savor the coastal charm at Coastal 15 during Happy Hour\, Monday – Friday from 2:00 PM – 5:00 PM. Unwind with specially priced bites\, wine by the glass\, and refreshing draft beer.
URL:https://www.kesslercollection.com/bohemian-savannah/event/happy-hour-at-coastal-15-2/2026-08-03/
LOCATION:Coastal 15\, 102 W Bay St.\, Savannah\, GA\, 31401\, United States
ATTACH;FMTTYPE=image/jpeg:https://www.kesslercollection.com/bohemian-savannah/wp-content/uploads/sites/5/2024/05/BHSR-Coastal15-24-2.jpg
END:VEVENT
BEGIN:VEVENT
DTSTART;TZID=America/New_York:20260804T140000
DTEND;TZID=America/New_York:20280405T160000
DTSTAMP:20260425T134421
CREATED:20250204T154718Z
LAST-MODIFIED:20260218T214147Z
UID:10002862-1785852000-1838563200@www.kesslercollection.com
SUMMARY:Happy Hour at Coastal 15
DESCRIPTION:Savor the coastal charm at Coastal 15 during Happy Hour\, Monday – Friday from 2:00 PM – 5:00 PM. Unwind with specially priced bites\, wine by the glass\, and refreshing draft beer.
URL:https://www.kesslercollection.com/bohemian-savannah/event/happy-hour-at-coastal-15-2/2026-08-04/
LOCATION:Coastal 15\, 102 W Bay St.\, Savannah\, GA\, 31401\, United States
ATTACH;FMTTYPE=image/jpeg:https://www.kesslercollection.com/bohemian-savannah/wp-content/uploads/sites/5/2024/05/BHSR-Coastal15-24-2.jpg
END:VEVENT
BEGIN:VEVENT
DTSTART;TZID=America/New_York:20260805T140000
DTEND;TZID=America/New_York:20280406T160000
DTSTAMP:20260425T134421
CREATED:20250204T154718Z
LAST-MODIFIED:20260218T214147Z
UID:10002863-1785938400-1838649600@www.kesslercollection.com
SUMMARY:Happy Hour at Coastal 15
DESCRIPTION:Savor the coastal charm at Coastal 15 during Happy Hour\, Monday – Friday from 2:00 PM – 5:00 PM. Unwind with specially priced bites\, wine by the glass\, and refreshing draft beer.
URL:https://www.kesslercollection.com/bohemian-savannah/event/happy-hour-at-coastal-15-2/2026-08-05/
LOCATION:Coastal 15\, 102 W Bay St.\, Savannah\, GA\, 31401\, United States
ATTACH;FMTTYPE=image/jpeg:https://www.kesslercollection.com/bohemian-savannah/wp-content/uploads/sites/5/2024/05/BHSR-Coastal15-24-2.jpg
END:VEVENT
BEGIN:VEVENT
DTSTART;TZID=America/New_York:20260806T140000
DTEND;TZID=America/New_York:20280407T160000
DTSTAMP:20260425T134421
CREATED:20250204T154718Z
LAST-MODIFIED:20260218T214147Z
UID:10002864-1786024800-1838736000@www.kesslercollection.com
SUMMARY:Happy Hour at Coastal 15
DESCRIPTION:Savor the coastal charm at Coastal 15 during Happy Hour\, Monday – Friday from 2:00 PM – 5:00 PM. Unwind with specially priced bites\, wine by the glass\, and refreshing draft beer.
URL:https://www.kesslercollection.com/bohemian-savannah/event/happy-hour-at-coastal-15-2/2026-08-06/
LOCATION:Coastal 15\, 102 W Bay St.\, Savannah\, GA\, 31401\, United States
ATTACH;FMTTYPE=image/jpeg:https://www.kesslercollection.com/bohemian-savannah/wp-content/uploads/sites/5/2024/05/BHSR-Coastal15-24-2.jpg
END:VEVENT
BEGIN:VEVENT
DTSTART;TZID=America/New_York:20260807T140000
DTEND;TZID=America/New_York:20280408T160000
DTSTAMP:20260425T134421
CREATED:20250204T154718Z
LAST-MODIFIED:20260218T214147Z
UID:10002865-1786111200-1838822400@www.kesslercollection.com
SUMMARY:Happy Hour at Coastal 15
DESCRIPTION:Savor the coastal charm at Coastal 15 during Happy Hour\, Monday – Friday from 2:00 PM – 5:00 PM. Unwind with specially priced bites\, wine by the glass\, and refreshing draft beer.
URL:https://www.kesslercollection.com/bohemian-savannah/event/happy-hour-at-coastal-15-2/2026-08-07/
LOCATION:Coastal 15\, 102 W Bay St.\, Savannah\, GA\, 31401\, United States
ATTACH;FMTTYPE=image/jpeg:https://www.kesslercollection.com/bohemian-savannah/wp-content/uploads/sites/5/2024/05/BHSR-Coastal15-24-2.jpg
END:VEVENT
BEGIN:VEVENT
DTSTART;TZID=America/New_York:20260810T140000
DTEND;TZID=America/New_York:20280411T160000
DTSTAMP:20260425T134421
CREATED:20250204T154718Z
LAST-MODIFIED:20260218T214147Z
UID:10002866-1786370400-1839081600@www.kesslercollection.com
SUMMARY:Happy Hour at Coastal 15
DESCRIPTION:Savor the coastal charm at Coastal 15 during Happy Hour\, Monday – Friday from 2:00 PM – 5:00 PM. Unwind with specially priced bites\, wine by the glass\, and refreshing draft beer.
URL:https://www.kesslercollection.com/bohemian-savannah/event/happy-hour-at-coastal-15-2/2026-08-10/
LOCATION:Coastal 15\, 102 W Bay St.\, Savannah\, GA\, 31401\, United States
ATTACH;FMTTYPE=image/jpeg:https://www.kesslercollection.com/bohemian-savannah/wp-content/uploads/sites/5/2024/05/BHSR-Coastal15-24-2.jpg
END:VEVENT
BEGIN:VEVENT
DTSTART;TZID=America/New_York:20260811T140000
DTEND;TZID=America/New_York:20280412T160000
DTSTAMP:20260425T134421
CREATED:20250204T154718Z
LAST-MODIFIED:20260218T214147Z
UID:10002867-1786456800-1839168000@www.kesslercollection.com
SUMMARY:Happy Hour at Coastal 15
DESCRIPTION:Savor the coastal charm at Coastal 15 during Happy Hour\, Monday – Friday from 2:00 PM – 5:00 PM. Unwind with specially priced bites\, wine by the glass\, and refreshing draft beer.
URL:https://www.kesslercollection.com/bohemian-savannah/event/happy-hour-at-coastal-15-2/2026-08-11/
LOCATION:Coastal 15\, 102 W Bay St.\, Savannah\, GA\, 31401\, United States
ATTACH;FMTTYPE=image/jpeg:https://www.kesslercollection.com/bohemian-savannah/wp-content/uploads/sites/5/2024/05/BHSR-Coastal15-24-2.jpg
END:VEVENT
BEGIN:VEVENT
DTSTART;TZID=America/New_York:20260812T140000
DTEND;TZID=America/New_York:20280413T160000
DTSTAMP:20260425T134421
CREATED:20250204T154718Z
LAST-MODIFIED:20260218T214147Z
UID:10002868-1786543200-1839254400@www.kesslercollection.com
SUMMARY:Happy Hour at Coastal 15
DESCRIPTION:Savor the coastal charm at Coastal 15 during Happy Hour\, Monday – Friday from 2:00 PM – 5:00 PM. Unwind with specially priced bites\, wine by the glass\, and refreshing draft beer.
URL:https://www.kesslercollection.com/bohemian-savannah/event/happy-hour-at-coastal-15-2/2026-08-12/
LOCATION:Coastal 15\, 102 W Bay St.\, Savannah\, GA\, 31401\, United States
ATTACH;FMTTYPE=image/jpeg:https://www.kesslercollection.com/bohemian-savannah/wp-content/uploads/sites/5/2024/05/BHSR-Coastal15-24-2.jpg
END:VEVENT
BEGIN:VEVENT
DTSTART;TZID=America/New_York:20260813T140000
DTEND;TZID=America/New_York:20280414T160000
DTSTAMP:20260425T134421
CREATED:20250204T154718Z
LAST-MODIFIED:20260218T214147Z
UID:10002869-1786629600-1839340800@www.kesslercollection.com
SUMMARY:Happy Hour at Coastal 15
DESCRIPTION:Savor the coastal charm at Coastal 15 during Happy Hour\, Monday – Friday from 2:00 PM – 5:00 PM. Unwind with specially priced bites\, wine by the glass\, and refreshing draft beer.
URL:https://www.kesslercollection.com/bohemian-savannah/event/happy-hour-at-coastal-15-2/2026-08-13/
LOCATION:Coastal 15\, 102 W Bay St.\, Savannah\, GA\, 31401\, United States
ATTACH;FMTTYPE=image/jpeg:https://www.kesslercollection.com/bohemian-savannah/wp-content/uploads/sites/5/2024/05/BHSR-Coastal15-24-2.jpg
END:VEVENT
BEGIN:VEVENT
DTSTART;TZID=America/New_York:20260814T140000
DTEND;TZID=America/New_York:20280415T160000
DTSTAMP:20260425T134421
CREATED:20250204T154718Z
LAST-MODIFIED:20260218T214147Z
UID:10002870-1786716000-1839427200@www.kesslercollection.com
SUMMARY:Happy Hour at Coastal 15
DESCRIPTION:Savor the coastal charm at Coastal 15 during Happy Hour\, Monday – Friday from 2:00 PM – 5:00 PM. Unwind with specially priced bites\, wine by the glass\, and refreshing draft beer.
URL:https://www.kesslercollection.com/bohemian-savannah/event/happy-hour-at-coastal-15-2/2026-08-14/
LOCATION:Coastal 15\, 102 W Bay St.\, Savannah\, GA\, 31401\, United States
ATTACH;FMTTYPE=image/jpeg:https://www.kesslercollection.com/bohemian-savannah/wp-content/uploads/sites/5/2024/05/BHSR-Coastal15-24-2.jpg
END:VEVENT
BEGIN:VEVENT
DTSTART;TZID=America/New_York:20260817T140000
DTEND;TZID=America/New_York:20280418T160000
DTSTAMP:20260425T134421
CREATED:20250204T154718Z
LAST-MODIFIED:20260218T214147Z
UID:10002871-1786975200-1839686400@www.kesslercollection.com
SUMMARY:Happy Hour at Coastal 15
DESCRIPTION:Savor the coastal charm at Coastal 15 during Happy Hour\, Monday – Friday from 2:00 PM – 5:00 PM. Unwind with specially priced bites\, wine by the glass\, and refreshing draft beer.
URL:https://www.kesslercollection.com/bohemian-savannah/event/happy-hour-at-coastal-15-2/2026-08-17/
LOCATION:Coastal 15\, 102 W Bay St.\, Savannah\, GA\, 31401\, United States
ATTACH;FMTTYPE=image/jpeg:https://www.kesslercollection.com/bohemian-savannah/wp-content/uploads/sites/5/2024/05/BHSR-Coastal15-24-2.jpg
END:VEVENT
BEGIN:VEVENT
DTSTART;TZID=America/New_York:20260818T140000
DTEND;TZID=America/New_York:20280419T160000
DTSTAMP:20260425T134421
CREATED:20250204T154718Z
LAST-MODIFIED:20260218T214147Z
UID:10002872-1787061600-1839772800@www.kesslercollection.com
SUMMARY:Happy Hour at Coastal 15
DESCRIPTION:Savor the coastal charm at Coastal 15 during Happy Hour\, Monday – Friday from 2:00 PM – 5:00 PM. Unwind with specially priced bites\, wine by the glass\, and refreshing draft beer.
URL:https://www.kesslercollection.com/bohemian-savannah/event/happy-hour-at-coastal-15-2/2026-08-18/
LOCATION:Coastal 15\, 102 W Bay St.\, Savannah\, GA\, 31401\, United States
ATTACH;FMTTYPE=image/jpeg:https://www.kesslercollection.com/bohemian-savannah/wp-content/uploads/sites/5/2024/05/BHSR-Coastal15-24-2.jpg
END:VEVENT
BEGIN:VEVENT
DTSTART;TZID=America/New_York:20260819T140000
DTEND;TZID=America/New_York:20280420T160000
DTSTAMP:20260425T134421
CREATED:20250204T154718Z
LAST-MODIFIED:20260218T214147Z
UID:10002873-1787148000-1839859200@www.kesslercollection.com
SUMMARY:Happy Hour at Coastal 15
DESCRIPTION:Savor the coastal charm at Coastal 15 during Happy Hour\, Monday – Friday from 2:00 PM – 5:00 PM. Unwind with specially priced bites\, wine by the glass\, and refreshing draft beer.
URL:https://www.kesslercollection.com/bohemian-savannah/event/happy-hour-at-coastal-15-2/2026-08-19/
LOCATION:Coastal 15\, 102 W Bay St.\, Savannah\, GA\, 31401\, United States
ATTACH;FMTTYPE=image/jpeg:https://www.kesslercollection.com/bohemian-savannah/wp-content/uploads/sites/5/2024/05/BHSR-Coastal15-24-2.jpg
END:VEVENT
BEGIN:VEVENT
DTSTART;TZID=America/New_York:20260820T140000
DTEND;TZID=America/New_York:20280421T160000
DTSTAMP:20260425T134421
CREATED:20250204T154718Z
LAST-MODIFIED:20260218T214147Z
UID:10002874-1787234400-1839945600@www.kesslercollection.com
SUMMARY:Happy Hour at Coastal 15
DESCRIPTION:Savor the coastal charm at Coastal 15 during Happy Hour\, Monday – Friday from 2:00 PM – 5:00 PM. Unwind with specially priced bites\, wine by the glass\, and refreshing draft beer.
URL:https://www.kesslercollection.com/bohemian-savannah/event/happy-hour-at-coastal-15-2/2026-08-20/
LOCATION:Coastal 15\, 102 W Bay St.\, Savannah\, GA\, 31401\, United States
ATTACH;FMTTYPE=image/jpeg:https://www.kesslercollection.com/bohemian-savannah/wp-content/uploads/sites/5/2024/05/BHSR-Coastal15-24-2.jpg
END:VEVENT
BEGIN:VEVENT
DTSTART;TZID=America/New_York:20260821T140000
DTEND;TZID=America/New_York:20280422T160000
DTSTAMP:20260425T134421
CREATED:20250204T154718Z
LAST-MODIFIED:20260218T214147Z
UID:10002875-1787320800-1840032000@www.kesslercollection.com
SUMMARY:Happy Hour at Coastal 15
DESCRIPTION:Savor the coastal charm at Coastal 15 during Happy Hour\, Monday – Friday from 2:00 PM – 5:00 PM. Unwind with specially priced bites\, wine by the glass\, and refreshing draft beer.
URL:https://www.kesslercollection.com/bohemian-savannah/event/happy-hour-at-coastal-15-2/2026-08-21/
LOCATION:Coastal 15\, 102 W Bay St.\, Savannah\, GA\, 31401\, United States
ATTACH;FMTTYPE=image/jpeg:https://www.kesslercollection.com/bohemian-savannah/wp-content/uploads/sites/5/2024/05/BHSR-Coastal15-24-2.jpg
END:VEVENT
BEGIN:VEVENT
DTSTART;TZID=America/New_York:20260824T140000
DTEND;TZID=America/New_York:20280425T160000
DTSTAMP:20260425T134421
CREATED:20250204T154718Z
LAST-MODIFIED:20260218T214147Z
UID:10002876-1787580000-1840291200@www.kesslercollection.com
SUMMARY:Happy Hour at Coastal 15
DESCRIPTION:Savor the coastal charm at Coastal 15 during Happy Hour\, Monday – Friday from 2:00 PM – 5:00 PM. Unwind with specially priced bites\, wine by the glass\, and refreshing draft beer.
URL:https://www.kesslercollection.com/bohemian-savannah/event/happy-hour-at-coastal-15-2/2026-08-24/
LOCATION:Coastal 15\, 102 W Bay St.\, Savannah\, GA\, 31401\, United States
ATTACH;FMTTYPE=image/jpeg:https://www.kesslercollection.com/bohemian-savannah/wp-content/uploads/sites/5/2024/05/BHSR-Coastal15-24-2.jpg
END:VEVENT
BEGIN:VEVENT
DTSTART;TZID=America/New_York:20260825T140000
DTEND;TZID=America/New_York:20280426T160000
DTSTAMP:20260425T134421
CREATED:20250204T154718Z
LAST-MODIFIED:20260218T214147Z
UID:10002877-1787666400-1840377600@www.kesslercollection.com
SUMMARY:Happy Hour at Coastal 15
DESCRIPTION:Savor the coastal charm at Coastal 15 during Happy Hour\, Monday – Friday from 2:00 PM – 5:00 PM. Unwind with specially priced bites\, wine by the glass\, and refreshing draft beer.
URL:https://www.kesslercollection.com/bohemian-savannah/event/happy-hour-at-coastal-15-2/2026-08-25/
LOCATION:Coastal 15\, 102 W Bay St.\, Savannah\, GA\, 31401\, United States
ATTACH;FMTTYPE=image/jpeg:https://www.kesslercollection.com/bohemian-savannah/wp-content/uploads/sites/5/2024/05/BHSR-Coastal15-24-2.jpg
END:VEVENT
BEGIN:VEVENT
DTSTART;TZID=America/New_York:20260826T140000
DTEND;TZID=America/New_York:20280427T160000
DTSTAMP:20260425T134421
CREATED:20250204T154718Z
LAST-MODIFIED:20260218T214147Z
UID:10002878-1787752800-1840464000@www.kesslercollection.com
SUMMARY:Happy Hour at Coastal 15
DESCRIPTION:Savor the coastal charm at Coastal 15 during Happy Hour\, Monday – Friday from 2:00 PM – 5:00 PM. Unwind with specially priced bites\, wine by the glass\, and refreshing draft beer.
URL:https://www.kesslercollection.com/bohemian-savannah/event/happy-hour-at-coastal-15-2/2026-08-26/
LOCATION:Coastal 15\, 102 W Bay St.\, Savannah\, GA\, 31401\, United States
ATTACH;FMTTYPE=image/jpeg:https://www.kesslercollection.com/bohemian-savannah/wp-content/uploads/sites/5/2024/05/BHSR-Coastal15-24-2.jpg
END:VEVENT
BEGIN:VEVENT
DTSTART;TZID=America/New_York:20260827T140000
DTEND;TZID=America/New_York:20280428T160000
DTSTAMP:20260425T134421
CREATED:20250204T154718Z
LAST-MODIFIED:20260218T214147Z
UID:10002879-1787839200-1840550400@www.kesslercollection.com
SUMMARY:Happy Hour at Coastal 15
DESCRIPTION:Savor the coastal charm at Coastal 15 during Happy Hour\, Monday – Friday from 2:00 PM – 5:00 PM. Unwind with specially priced bites\, wine by the glass\, and refreshing draft beer.
URL:https://www.kesslercollection.com/bohemian-savannah/event/happy-hour-at-coastal-15-2/2026-08-27/
LOCATION:Coastal 15\, 102 W Bay St.\, Savannah\, GA\, 31401\, United States
ATTACH;FMTTYPE=image/jpeg:https://www.kesslercollection.com/bohemian-savannah/wp-content/uploads/sites/5/2024/05/BHSR-Coastal15-24-2.jpg
END:VEVENT
BEGIN:VEVENT
DTSTART;TZID=America/New_York:20260828T140000
DTEND;TZID=America/New_York:20280429T160000
DTSTAMP:20260425T134421
CREATED:20250204T154718Z
LAST-MODIFIED:20260218T214147Z
UID:10002880-1787925600-1840636800@www.kesslercollection.com
SUMMARY:Happy Hour at Coastal 15
DESCRIPTION:Savor the coastal charm at Coastal 15 during Happy Hour\, Monday – Friday from 2:00 PM – 5:00 PM. Unwind with specially priced bites\, wine by the glass\, and refreshing draft beer.
URL:https://www.kesslercollection.com/bohemian-savannah/event/happy-hour-at-coastal-15-2/2026-08-28/
LOCATION:Coastal 15\, 102 W Bay St.\, Savannah\, GA\, 31401\, United States
ATTACH;FMTTYPE=image/jpeg:https://www.kesslercollection.com/bohemian-savannah/wp-content/uploads/sites/5/2024/05/BHSR-Coastal15-24-2.jpg
END:VEVENT
BEGIN:VEVENT
DTSTART;TZID=America/New_York:20260831T140000
DTEND;TZID=America/New_York:20280502T160000
DTSTAMP:20260425T134421
CREATED:20250204T154718Z
LAST-MODIFIED:20260218T214147Z
UID:10002881-1788184800-1840896000@www.kesslercollection.com
SUMMARY:Happy Hour at Coastal 15
DESCRIPTION:Savor the coastal charm at Coastal 15 during Happy Hour\, Monday – Friday from 2:00 PM – 5:00 PM. Unwind with specially priced bites\, wine by the glass\, and refreshing draft beer.
URL:https://www.kesslercollection.com/bohemian-savannah/event/happy-hour-at-coastal-15-2/2026-08-31/
LOCATION:Coastal 15\, 102 W Bay St.\, Savannah\, GA\, 31401\, United States
ATTACH;FMTTYPE=image/jpeg:https://www.kesslercollection.com/bohemian-savannah/wp-content/uploads/sites/5/2024/05/BHSR-Coastal15-24-2.jpg
END:VEVENT
BEGIN:VEVENT
DTSTART;TZID=America/New_York:20260901T140000
DTEND;TZID=America/New_York:20280503T160000
DTSTAMP:20260425T134421
CREATED:20250204T154718Z
LAST-MODIFIED:20260218T214147Z
UID:10002882-1788271200-1840982400@www.kesslercollection.com
SUMMARY:Happy Hour at Coastal 15
DESCRIPTION:Savor the coastal charm at Coastal 15 during Happy Hour\, Monday – Friday from 2:00 PM – 5:00 PM. Unwind with specially priced bites\, wine by the glass\, and refreshing draft beer.
URL:https://www.kesslercollection.com/bohemian-savannah/event/happy-hour-at-coastal-15-2/2026-09-01/
LOCATION:Coastal 15\, 102 W Bay St.\, Savannah\, GA\, 31401\, United States
ATTACH;FMTTYPE=image/jpeg:https://www.kesslercollection.com/bohemian-savannah/wp-content/uploads/sites/5/2024/05/BHSR-Coastal15-24-2.jpg
END:VEVENT
BEGIN:VEVENT
DTSTART;TZID=America/New_York:20260902T140000
DTEND;TZID=America/New_York:20280504T160000
DTSTAMP:20260425T134421
CREATED:20250204T154718Z
LAST-MODIFIED:20260218T214147Z
UID:10002883-1788357600-1841068800@www.kesslercollection.com
SUMMARY:Happy Hour at Coastal 15
DESCRIPTION:Savor the coastal charm at Coastal 15 during Happy Hour\, Monday – Friday from 2:00 PM – 5:00 PM. Unwind with specially priced bites\, wine by the glass\, and refreshing draft beer.
URL:https://www.kesslercollection.com/bohemian-savannah/event/happy-hour-at-coastal-15-2/2026-09-02/
LOCATION:Coastal 15\, 102 W Bay St.\, Savannah\, GA\, 31401\, United States
ATTACH;FMTTYPE=image/jpeg:https://www.kesslercollection.com/bohemian-savannah/wp-content/uploads/sites/5/2024/05/BHSR-Coastal15-24-2.jpg
END:VEVENT
BEGIN:VEVENT
DTSTART;TZID=America/New_York:20260903T140000
DTEND;TZID=America/New_York:20280505T160000
DTSTAMP:20260425T134421
CREATED:20250204T154718Z
LAST-MODIFIED:20260218T214147Z
UID:10002884-1788444000-1841155200@www.kesslercollection.com
SUMMARY:Happy Hour at Coastal 15
DESCRIPTION:Savor the coastal charm at Coastal 15 during Happy Hour\, Monday – Friday from 2:00 PM – 5:00 PM. Unwind with specially priced bites\, wine by the glass\, and refreshing draft beer.
URL:https://www.kesslercollection.com/bohemian-savannah/event/happy-hour-at-coastal-15-2/2026-09-03/
LOCATION:Coastal 15\, 102 W Bay St.\, Savannah\, GA\, 31401\, United States
ATTACH;FMTTYPE=image/jpeg:https://www.kesslercollection.com/bohemian-savannah/wp-content/uploads/sites/5/2024/05/BHSR-Coastal15-24-2.jpg
END:VEVENT
END:VCALENDAR