BEGIN:VCALENDAR
VERSION:2.0
PRODID:-//Bohemian Hotel Savannah Riverfront - ECPv6.15.20//NONSGML v1.0//EN
CALSCALE:GREGORIAN
METHOD:PUBLISH
X-ORIGINAL-URL:https://www.kesslercollection.com/bohemian-savannah
X-WR-CALDESC:Events for Bohemian Hotel Savannah Riverfront
REFRESH-INTERVAL;VALUE=DURATION:PT1H
X-Robots-Tag:noindex
X-PUBLISHED-TTL:PT1H
BEGIN:VTIMEZONE
TZID:America/New_York
BEGIN:DAYLIGHT
TZOFFSETFROM:-0500
TZOFFSETTO:-0400
TZNAME:EDT
DTSTART:20240310T070000
END:DAYLIGHT
BEGIN:STANDARD
TZOFFSETFROM:-0400
TZOFFSETTO:-0500
TZNAME:EST
DTSTART:20241103T060000
END:STANDARD
BEGIN:DAYLIGHT
TZOFFSETFROM:-0500
TZOFFSETTO:-0400
TZNAME:EDT
DTSTART:20250309T070000
END:DAYLIGHT
BEGIN:STANDARD
TZOFFSETFROM:-0400
TZOFFSETTO:-0500
TZNAME:EST
DTSTART:20251102T060000
END:STANDARD
BEGIN:DAYLIGHT
TZOFFSETFROM:-0500
TZOFFSETTO:-0400
TZNAME:EDT
DTSTART:20260308T070000
END:DAYLIGHT
BEGIN:STANDARD
TZOFFSETFROM:-0400
TZOFFSETTO:-0500
TZNAME:EST
DTSTART:20261101T060000
END:STANDARD
BEGIN:DAYLIGHT
TZOFFSETFROM:-0500
TZOFFSETTO:-0400
TZNAME:EDT
DTSTART:20270314T070000
END:DAYLIGHT
BEGIN:STANDARD
TZOFFSETFROM:-0400
TZOFFSETTO:-0500
TZNAME:EST
DTSTART:20271107T060000
END:STANDARD
BEGIN:DAYLIGHT
TZOFFSETFROM:-0500
TZOFFSETTO:-0400
TZNAME:EDT
DTSTART:20280312T070000
END:DAYLIGHT
BEGIN:STANDARD
TZOFFSETFROM:-0400
TZOFFSETTO:-0500
TZNAME:EST
DTSTART:20281105T060000
END:STANDARD
END:VTIMEZONE
BEGIN:VEVENT
DTSTART;TZID=America/New_York:20250806T140000
DTEND;TZID=America/New_York:20270408T160000
DTSTAMP:20260422T001146
CREATED:20250204T154718Z
LAST-MODIFIED:20260218T214147Z
UID:10002603-1754488800-1807200000@www.kesslercollection.com
SUMMARY:Happy Hour at Coastal 15
DESCRIPTION:Savor the coastal charm at Coastal 15 during Happy Hour\, Monday – Friday from 2:00 PM – 5:00 PM. Unwind with specially priced bites\, wine by the glass\, and refreshing draft beer.
URL:https://www.kesslercollection.com/bohemian-savannah/event/happy-hour-at-coastal-15-2/2025-08-06/
LOCATION:Coastal 15\, 102 W Bay St.\, Savannah\, GA\, 31401\, United States
ATTACH;FMTTYPE=image/jpeg:https://www.kesslercollection.com/bohemian-savannah/wp-content/uploads/sites/5/2024/05/BHSR-Coastal15-24-2.jpg
END:VEVENT
BEGIN:VEVENT
DTSTART;TZID=America/New_York:20250807T140000
DTEND;TZID=America/New_York:20270409T160000
DTSTAMP:20260422T001146
CREATED:20250204T154718Z
LAST-MODIFIED:20260218T214147Z
UID:10002604-1754575200-1807286400@www.kesslercollection.com
SUMMARY:Happy Hour at Coastal 15
DESCRIPTION:Savor the coastal charm at Coastal 15 during Happy Hour\, Monday – Friday from 2:00 PM – 5:00 PM. Unwind with specially priced bites\, wine by the glass\, and refreshing draft beer.
URL:https://www.kesslercollection.com/bohemian-savannah/event/happy-hour-at-coastal-15-2/2025-08-07/
LOCATION:Coastal 15\, 102 W Bay St.\, Savannah\, GA\, 31401\, United States
ATTACH;FMTTYPE=image/jpeg:https://www.kesslercollection.com/bohemian-savannah/wp-content/uploads/sites/5/2024/05/BHSR-Coastal15-24-2.jpg
END:VEVENT
BEGIN:VEVENT
DTSTART;TZID=America/New_York:20250808T140000
DTEND;TZID=America/New_York:20270410T160000
DTSTAMP:20260422T001146
CREATED:20250204T154718Z
LAST-MODIFIED:20260218T214147Z
UID:10002605-1754661600-1807372800@www.kesslercollection.com
SUMMARY:Happy Hour at Coastal 15
DESCRIPTION:Savor the coastal charm at Coastal 15 during Happy Hour\, Monday – Friday from 2:00 PM – 5:00 PM. Unwind with specially priced bites\, wine by the glass\, and refreshing draft beer.
URL:https://www.kesslercollection.com/bohemian-savannah/event/happy-hour-at-coastal-15-2/2025-08-08/
LOCATION:Coastal 15\, 102 W Bay St.\, Savannah\, GA\, 31401\, United States
ATTACH;FMTTYPE=image/jpeg:https://www.kesslercollection.com/bohemian-savannah/wp-content/uploads/sites/5/2024/05/BHSR-Coastal15-24-2.jpg
END:VEVENT
BEGIN:VEVENT
DTSTART;TZID=America/New_York:20250811T140000
DTEND;TZID=America/New_York:20270413T160000
DTSTAMP:20260422T001146
CREATED:20250204T154718Z
LAST-MODIFIED:20260218T214147Z
UID:10002606-1754920800-1807632000@www.kesslercollection.com
SUMMARY:Happy Hour at Coastal 15
DESCRIPTION:Savor the coastal charm at Coastal 15 during Happy Hour\, Monday – Friday from 2:00 PM – 5:00 PM. Unwind with specially priced bites\, wine by the glass\, and refreshing draft beer.
URL:https://www.kesslercollection.com/bohemian-savannah/event/happy-hour-at-coastal-15-2/2025-08-11/
LOCATION:Coastal 15\, 102 W Bay St.\, Savannah\, GA\, 31401\, United States
ATTACH;FMTTYPE=image/jpeg:https://www.kesslercollection.com/bohemian-savannah/wp-content/uploads/sites/5/2024/05/BHSR-Coastal15-24-2.jpg
END:VEVENT
BEGIN:VEVENT
DTSTART;TZID=America/New_York:20250812T140000
DTEND;TZID=America/New_York:20270414T160000
DTSTAMP:20260422T001146
CREATED:20250204T154718Z
LAST-MODIFIED:20260218T214147Z
UID:10002607-1755007200-1807718400@www.kesslercollection.com
SUMMARY:Happy Hour at Coastal 15
DESCRIPTION:Savor the coastal charm at Coastal 15 during Happy Hour\, Monday – Friday from 2:00 PM – 5:00 PM. Unwind with specially priced bites\, wine by the glass\, and refreshing draft beer.
URL:https://www.kesslercollection.com/bohemian-savannah/event/happy-hour-at-coastal-15-2/2025-08-12/
LOCATION:Coastal 15\, 102 W Bay St.\, Savannah\, GA\, 31401\, United States
ATTACH;FMTTYPE=image/jpeg:https://www.kesslercollection.com/bohemian-savannah/wp-content/uploads/sites/5/2024/05/BHSR-Coastal15-24-2.jpg
END:VEVENT
BEGIN:VEVENT
DTSTART;TZID=America/New_York:20250813T140000
DTEND;TZID=America/New_York:20270415T160000
DTSTAMP:20260422T001146
CREATED:20250204T154718Z
LAST-MODIFIED:20260218T214147Z
UID:10002608-1755093600-1807804800@www.kesslercollection.com
SUMMARY:Happy Hour at Coastal 15
DESCRIPTION:Savor the coastal charm at Coastal 15 during Happy Hour\, Monday – Friday from 2:00 PM – 5:00 PM. Unwind with specially priced bites\, wine by the glass\, and refreshing draft beer.
URL:https://www.kesslercollection.com/bohemian-savannah/event/happy-hour-at-coastal-15-2/2025-08-13/
LOCATION:Coastal 15\, 102 W Bay St.\, Savannah\, GA\, 31401\, United States
ATTACH;FMTTYPE=image/jpeg:https://www.kesslercollection.com/bohemian-savannah/wp-content/uploads/sites/5/2024/05/BHSR-Coastal15-24-2.jpg
END:VEVENT
BEGIN:VEVENT
DTSTART;TZID=America/New_York:20250814T140000
DTEND;TZID=America/New_York:20270416T160000
DTSTAMP:20260422T001146
CREATED:20250204T154718Z
LAST-MODIFIED:20260218T214147Z
UID:10002609-1755180000-1807891200@www.kesslercollection.com
SUMMARY:Happy Hour at Coastal 15
DESCRIPTION:Savor the coastal charm at Coastal 15 during Happy Hour\, Monday – Friday from 2:00 PM – 5:00 PM. Unwind with specially priced bites\, wine by the glass\, and refreshing draft beer.
URL:https://www.kesslercollection.com/bohemian-savannah/event/happy-hour-at-coastal-15-2/2025-08-14/
LOCATION:Coastal 15\, 102 W Bay St.\, Savannah\, GA\, 31401\, United States
ATTACH;FMTTYPE=image/jpeg:https://www.kesslercollection.com/bohemian-savannah/wp-content/uploads/sites/5/2024/05/BHSR-Coastal15-24-2.jpg
END:VEVENT
BEGIN:VEVENT
DTSTART;TZID=America/New_York:20250815T140000
DTEND;TZID=America/New_York:20270417T160000
DTSTAMP:20260422T001146
CREATED:20250204T154718Z
LAST-MODIFIED:20260218T214147Z
UID:10002610-1755266400-1807977600@www.kesslercollection.com
SUMMARY:Happy Hour at Coastal 15
DESCRIPTION:Savor the coastal charm at Coastal 15 during Happy Hour\, Monday – Friday from 2:00 PM – 5:00 PM. Unwind with specially priced bites\, wine by the glass\, and refreshing draft beer.
URL:https://www.kesslercollection.com/bohemian-savannah/event/happy-hour-at-coastal-15-2/2025-08-15/
LOCATION:Coastal 15\, 102 W Bay St.\, Savannah\, GA\, 31401\, United States
ATTACH;FMTTYPE=image/jpeg:https://www.kesslercollection.com/bohemian-savannah/wp-content/uploads/sites/5/2024/05/BHSR-Coastal15-24-2.jpg
END:VEVENT
BEGIN:VEVENT
DTSTART;TZID=America/New_York:20250818T140000
DTEND;TZID=America/New_York:20270420T160000
DTSTAMP:20260422T001146
CREATED:20250204T154718Z
LAST-MODIFIED:20260218T214147Z
UID:10002611-1755525600-1808236800@www.kesslercollection.com
SUMMARY:Happy Hour at Coastal 15
DESCRIPTION:Savor the coastal charm at Coastal 15 during Happy Hour\, Monday – Friday from 2:00 PM – 5:00 PM. Unwind with specially priced bites\, wine by the glass\, and refreshing draft beer.
URL:https://www.kesslercollection.com/bohemian-savannah/event/happy-hour-at-coastal-15-2/2025-08-18/
LOCATION:Coastal 15\, 102 W Bay St.\, Savannah\, GA\, 31401\, United States
ATTACH;FMTTYPE=image/jpeg:https://www.kesslercollection.com/bohemian-savannah/wp-content/uploads/sites/5/2024/05/BHSR-Coastal15-24-2.jpg
END:VEVENT
BEGIN:VEVENT
DTSTART;TZID=America/New_York:20250819T140000
DTEND;TZID=America/New_York:20270421T160000
DTSTAMP:20260422T001146
CREATED:20250204T154718Z
LAST-MODIFIED:20260218T214147Z
UID:10002612-1755612000-1808323200@www.kesslercollection.com
SUMMARY:Happy Hour at Coastal 15
DESCRIPTION:Savor the coastal charm at Coastal 15 during Happy Hour\, Monday – Friday from 2:00 PM – 5:00 PM. Unwind with specially priced bites\, wine by the glass\, and refreshing draft beer.
URL:https://www.kesslercollection.com/bohemian-savannah/event/happy-hour-at-coastal-15-2/2025-08-19/
LOCATION:Coastal 15\, 102 W Bay St.\, Savannah\, GA\, 31401\, United States
ATTACH;FMTTYPE=image/jpeg:https://www.kesslercollection.com/bohemian-savannah/wp-content/uploads/sites/5/2024/05/BHSR-Coastal15-24-2.jpg
END:VEVENT
BEGIN:VEVENT
DTSTART;TZID=America/New_York:20250820T140000
DTEND;TZID=America/New_York:20270422T160000
DTSTAMP:20260422T001146
CREATED:20250204T154718Z
LAST-MODIFIED:20260218T214147Z
UID:10002613-1755698400-1808409600@www.kesslercollection.com
SUMMARY:Happy Hour at Coastal 15
DESCRIPTION:Savor the coastal charm at Coastal 15 during Happy Hour\, Monday – Friday from 2:00 PM – 5:00 PM. Unwind with specially priced bites\, wine by the glass\, and refreshing draft beer.
URL:https://www.kesslercollection.com/bohemian-savannah/event/happy-hour-at-coastal-15-2/2025-08-20/
LOCATION:Coastal 15\, 102 W Bay St.\, Savannah\, GA\, 31401\, United States
ATTACH;FMTTYPE=image/jpeg:https://www.kesslercollection.com/bohemian-savannah/wp-content/uploads/sites/5/2024/05/BHSR-Coastal15-24-2.jpg
END:VEVENT
BEGIN:VEVENT
DTSTART;TZID=America/New_York:20250821T140000
DTEND;TZID=America/New_York:20270423T160000
DTSTAMP:20260422T001146
CREATED:20250204T154718Z
LAST-MODIFIED:20260218T214147Z
UID:10002614-1755784800-1808496000@www.kesslercollection.com
SUMMARY:Happy Hour at Coastal 15
DESCRIPTION:Savor the coastal charm at Coastal 15 during Happy Hour\, Monday – Friday from 2:00 PM – 5:00 PM. Unwind with specially priced bites\, wine by the glass\, and refreshing draft beer.
URL:https://www.kesslercollection.com/bohemian-savannah/event/happy-hour-at-coastal-15-2/2025-08-21/
LOCATION:Coastal 15\, 102 W Bay St.\, Savannah\, GA\, 31401\, United States
ATTACH;FMTTYPE=image/jpeg:https://www.kesslercollection.com/bohemian-savannah/wp-content/uploads/sites/5/2024/05/BHSR-Coastal15-24-2.jpg
END:VEVENT
BEGIN:VEVENT
DTSTART;TZID=America/New_York:20250822T140000
DTEND;TZID=America/New_York:20270424T160000
DTSTAMP:20260422T001146
CREATED:20250204T154718Z
LAST-MODIFIED:20260218T214147Z
UID:10002615-1755871200-1808582400@www.kesslercollection.com
SUMMARY:Happy Hour at Coastal 15
DESCRIPTION:Savor the coastal charm at Coastal 15 during Happy Hour\, Monday – Friday from 2:00 PM – 5:00 PM. Unwind with specially priced bites\, wine by the glass\, and refreshing draft beer.
URL:https://www.kesslercollection.com/bohemian-savannah/event/happy-hour-at-coastal-15-2/2025-08-22/
LOCATION:Coastal 15\, 102 W Bay St.\, Savannah\, GA\, 31401\, United States
ATTACH;FMTTYPE=image/jpeg:https://www.kesslercollection.com/bohemian-savannah/wp-content/uploads/sites/5/2024/05/BHSR-Coastal15-24-2.jpg
END:VEVENT
BEGIN:VEVENT
DTSTART;TZID=America/New_York:20250825T140000
DTEND;TZID=America/New_York:20270427T160000
DTSTAMP:20260422T001146
CREATED:20250204T154718Z
LAST-MODIFIED:20260218T214147Z
UID:10002616-1756130400-1808841600@www.kesslercollection.com
SUMMARY:Happy Hour at Coastal 15
DESCRIPTION:Savor the coastal charm at Coastal 15 during Happy Hour\, Monday – Friday from 2:00 PM – 5:00 PM. Unwind with specially priced bites\, wine by the glass\, and refreshing draft beer.
URL:https://www.kesslercollection.com/bohemian-savannah/event/happy-hour-at-coastal-15-2/2025-08-25/
LOCATION:Coastal 15\, 102 W Bay St.\, Savannah\, GA\, 31401\, United States
ATTACH;FMTTYPE=image/jpeg:https://www.kesslercollection.com/bohemian-savannah/wp-content/uploads/sites/5/2024/05/BHSR-Coastal15-24-2.jpg
END:VEVENT
BEGIN:VEVENT
DTSTART;TZID=America/New_York:20250826T140000
DTEND;TZID=America/New_York:20270428T160000
DTSTAMP:20260422T001146
CREATED:20250204T154718Z
LAST-MODIFIED:20260218T214147Z
UID:10002617-1756216800-1808928000@www.kesslercollection.com
SUMMARY:Happy Hour at Coastal 15
DESCRIPTION:Savor the coastal charm at Coastal 15 during Happy Hour\, Monday – Friday from 2:00 PM – 5:00 PM. Unwind with specially priced bites\, wine by the glass\, and refreshing draft beer.
URL:https://www.kesslercollection.com/bohemian-savannah/event/happy-hour-at-coastal-15-2/2025-08-26/
LOCATION:Coastal 15\, 102 W Bay St.\, Savannah\, GA\, 31401\, United States
ATTACH;FMTTYPE=image/jpeg:https://www.kesslercollection.com/bohemian-savannah/wp-content/uploads/sites/5/2024/05/BHSR-Coastal15-24-2.jpg
END:VEVENT
BEGIN:VEVENT
DTSTART;TZID=America/New_York:20250827T140000
DTEND;TZID=America/New_York:20270429T160000
DTSTAMP:20260422T001146
CREATED:20250204T154718Z
LAST-MODIFIED:20260218T214147Z
UID:10002618-1756303200-1809014400@www.kesslercollection.com
SUMMARY:Happy Hour at Coastal 15
DESCRIPTION:Savor the coastal charm at Coastal 15 during Happy Hour\, Monday – Friday from 2:00 PM – 5:00 PM. Unwind with specially priced bites\, wine by the glass\, and refreshing draft beer.
URL:https://www.kesslercollection.com/bohemian-savannah/event/happy-hour-at-coastal-15-2/2025-08-27/
LOCATION:Coastal 15\, 102 W Bay St.\, Savannah\, GA\, 31401\, United States
ATTACH;FMTTYPE=image/jpeg:https://www.kesslercollection.com/bohemian-savannah/wp-content/uploads/sites/5/2024/05/BHSR-Coastal15-24-2.jpg
END:VEVENT
BEGIN:VEVENT
DTSTART;TZID=America/New_York:20250828T140000
DTEND;TZID=America/New_York:20270430T160000
DTSTAMP:20260422T001146
CREATED:20250204T154718Z
LAST-MODIFIED:20260218T214147Z
UID:10002619-1756389600-1809100800@www.kesslercollection.com
SUMMARY:Happy Hour at Coastal 15
DESCRIPTION:Savor the coastal charm at Coastal 15 during Happy Hour\, Monday – Friday from 2:00 PM – 5:00 PM. Unwind with specially priced bites\, wine by the glass\, and refreshing draft beer.
URL:https://www.kesslercollection.com/bohemian-savannah/event/happy-hour-at-coastal-15-2/2025-08-28/
LOCATION:Coastal 15\, 102 W Bay St.\, Savannah\, GA\, 31401\, United States
ATTACH;FMTTYPE=image/jpeg:https://www.kesslercollection.com/bohemian-savannah/wp-content/uploads/sites/5/2024/05/BHSR-Coastal15-24-2.jpg
END:VEVENT
BEGIN:VEVENT
DTSTART;TZID=America/New_York:20250829T140000
DTEND;TZID=America/New_York:20270501T160000
DTSTAMP:20260422T001146
CREATED:20250204T154718Z
LAST-MODIFIED:20260218T214147Z
UID:10002620-1756476000-1809187200@www.kesslercollection.com
SUMMARY:Happy Hour at Coastal 15
DESCRIPTION:Savor the coastal charm at Coastal 15 during Happy Hour\, Monday – Friday from 2:00 PM – 5:00 PM. Unwind with specially priced bites\, wine by the glass\, and refreshing draft beer.
URL:https://www.kesslercollection.com/bohemian-savannah/event/happy-hour-at-coastal-15-2/2025-08-29/
LOCATION:Coastal 15\, 102 W Bay St.\, Savannah\, GA\, 31401\, United States
ATTACH;FMTTYPE=image/jpeg:https://www.kesslercollection.com/bohemian-savannah/wp-content/uploads/sites/5/2024/05/BHSR-Coastal15-24-2.jpg
END:VEVENT
BEGIN:VEVENT
DTSTART;TZID=America/New_York:20250901T140000
DTEND;TZID=America/New_York:20270504T160000
DTSTAMP:20260422T001146
CREATED:20250204T154718Z
LAST-MODIFIED:20260218T214147Z
UID:10002621-1756735200-1809446400@www.kesslercollection.com
SUMMARY:Happy Hour at Coastal 15
DESCRIPTION:Savor the coastal charm at Coastal 15 during Happy Hour\, Monday – Friday from 2:00 PM – 5:00 PM. Unwind with specially priced bites\, wine by the glass\, and refreshing draft beer.
URL:https://www.kesslercollection.com/bohemian-savannah/event/happy-hour-at-coastal-15-2/2025-09-01/
LOCATION:Coastal 15\, 102 W Bay St.\, Savannah\, GA\, 31401\, United States
ATTACH;FMTTYPE=image/jpeg:https://www.kesslercollection.com/bohemian-savannah/wp-content/uploads/sites/5/2024/05/BHSR-Coastal15-24-2.jpg
END:VEVENT
BEGIN:VEVENT
DTSTART;TZID=America/New_York:20250902T140000
DTEND;TZID=America/New_York:20270505T160000
DTSTAMP:20260422T001146
CREATED:20250204T154718Z
LAST-MODIFIED:20260218T214147Z
UID:10002622-1756821600-1809532800@www.kesslercollection.com
SUMMARY:Happy Hour at Coastal 15
DESCRIPTION:Savor the coastal charm at Coastal 15 during Happy Hour\, Monday – Friday from 2:00 PM – 5:00 PM. Unwind with specially priced bites\, wine by the glass\, and refreshing draft beer.
URL:https://www.kesslercollection.com/bohemian-savannah/event/happy-hour-at-coastal-15-2/2025-09-02/
LOCATION:Coastal 15\, 102 W Bay St.\, Savannah\, GA\, 31401\, United States
ATTACH;FMTTYPE=image/jpeg:https://www.kesslercollection.com/bohemian-savannah/wp-content/uploads/sites/5/2024/05/BHSR-Coastal15-24-2.jpg
END:VEVENT
BEGIN:VEVENT
DTSTART;TZID=America/New_York:20250903T140000
DTEND;TZID=America/New_York:20270506T160000
DTSTAMP:20260422T001146
CREATED:20250204T154718Z
LAST-MODIFIED:20260218T214147Z
UID:10002623-1756908000-1809619200@www.kesslercollection.com
SUMMARY:Happy Hour at Coastal 15
DESCRIPTION:Savor the coastal charm at Coastal 15 during Happy Hour\, Monday – Friday from 2:00 PM – 5:00 PM. Unwind with specially priced bites\, wine by the glass\, and refreshing draft beer.
URL:https://www.kesslercollection.com/bohemian-savannah/event/happy-hour-at-coastal-15-2/2025-09-03/
LOCATION:Coastal 15\, 102 W Bay St.\, Savannah\, GA\, 31401\, United States
ATTACH;FMTTYPE=image/jpeg:https://www.kesslercollection.com/bohemian-savannah/wp-content/uploads/sites/5/2024/05/BHSR-Coastal15-24-2.jpg
END:VEVENT
BEGIN:VEVENT
DTSTART;TZID=America/New_York:20250904T140000
DTEND;TZID=America/New_York:20270507T160000
DTSTAMP:20260422T001146
CREATED:20250204T154718Z
LAST-MODIFIED:20260218T214147Z
UID:10002624-1756994400-1809705600@www.kesslercollection.com
SUMMARY:Happy Hour at Coastal 15
DESCRIPTION:Savor the coastal charm at Coastal 15 during Happy Hour\, Monday – Friday from 2:00 PM – 5:00 PM. Unwind with specially priced bites\, wine by the glass\, and refreshing draft beer.
URL:https://www.kesslercollection.com/bohemian-savannah/event/happy-hour-at-coastal-15-2/2025-09-04/
LOCATION:Coastal 15\, 102 W Bay St.\, Savannah\, GA\, 31401\, United States
ATTACH;FMTTYPE=image/jpeg:https://www.kesslercollection.com/bohemian-savannah/wp-content/uploads/sites/5/2024/05/BHSR-Coastal15-24-2.jpg
END:VEVENT
BEGIN:VEVENT
DTSTART;TZID=America/New_York:20250904T200000
DTEND;TZID=America/New_York:20250904T213000
DTSTAMP:20260422T001146
CREATED:20251017T151135Z
LAST-MODIFIED:20251017T171404Z
UID:10002515-1757016000-1757021400@www.kesslercollection.com
SUMMARY:Karaoke Nights at Rocks on the Roof
DESCRIPTION:Sing your heart out every Thursday night as DJ Lil sets the vibe at this high-energy rooftop karaoke party. Enjoy complimentary champagne for ladies from 8:00 PM – 9:30 PM\, take in panoramic riverfront views\, and sip handcrafted cocktails as you perform your favorite hits under the stars. Gather your friends and make Thursday nights unforgettable at Rocks on the Roof.
URL:https://www.kesslercollection.com/bohemian-savannah/event/karaoke-night-at-rocks-on-the-roof/2025-09-04/
LOCATION:Rocks on the Roof\, 102 W Bay St.\, Savannah\, GA\, 31401\, United States
ATTACH;FMTTYPE=image/jpeg:https://www.kesslercollection.com/bohemian-savannah/wp-content/uploads/sites/5/2024/08/SAVAK_Rocks-on-Roof-2-1.jpg
END:VEVENT
BEGIN:VEVENT
DTSTART;TZID=America/New_York:20250905T140000
DTEND;TZID=America/New_York:20270508T160000
DTSTAMP:20260422T001146
CREATED:20250204T154718Z
LAST-MODIFIED:20260218T214147Z
UID:10002625-1757080800-1809792000@www.kesslercollection.com
SUMMARY:Happy Hour at Coastal 15
DESCRIPTION:Savor the coastal charm at Coastal 15 during Happy Hour\, Monday – Friday from 2:00 PM – 5:00 PM. Unwind with specially priced bites\, wine by the glass\, and refreshing draft beer.
URL:https://www.kesslercollection.com/bohemian-savannah/event/happy-hour-at-coastal-15-2/2025-09-05/
LOCATION:Coastal 15\, 102 W Bay St.\, Savannah\, GA\, 31401\, United States
ATTACH;FMTTYPE=image/jpeg:https://www.kesslercollection.com/bohemian-savannah/wp-content/uploads/sites/5/2024/05/BHSR-Coastal15-24-2.jpg
END:VEVENT
BEGIN:VEVENT
DTSTART;TZID=America/New_York:20250908T140000
DTEND;TZID=America/New_York:20270511T160000
DTSTAMP:20260422T001146
CREATED:20250204T154718Z
LAST-MODIFIED:20260218T214147Z
UID:10002626-1757340000-1810051200@www.kesslercollection.com
SUMMARY:Happy Hour at Coastal 15
DESCRIPTION:Savor the coastal charm at Coastal 15 during Happy Hour\, Monday – Friday from 2:00 PM – 5:00 PM. Unwind with specially priced bites\, wine by the glass\, and refreshing draft beer.
URL:https://www.kesslercollection.com/bohemian-savannah/event/happy-hour-at-coastal-15-2/2025-09-08/
LOCATION:Coastal 15\, 102 W Bay St.\, Savannah\, GA\, 31401\, United States
ATTACH;FMTTYPE=image/jpeg:https://www.kesslercollection.com/bohemian-savannah/wp-content/uploads/sites/5/2024/05/BHSR-Coastal15-24-2.jpg
END:VEVENT
BEGIN:VEVENT
DTSTART;TZID=America/New_York:20250909T140000
DTEND;TZID=America/New_York:20270512T160000
DTSTAMP:20260422T001146
CREATED:20250204T154718Z
LAST-MODIFIED:20260218T214147Z
UID:10002627-1757426400-1810137600@www.kesslercollection.com
SUMMARY:Happy Hour at Coastal 15
DESCRIPTION:Savor the coastal charm at Coastal 15 during Happy Hour\, Monday – Friday from 2:00 PM – 5:00 PM. Unwind with specially priced bites\, wine by the glass\, and refreshing draft beer.
URL:https://www.kesslercollection.com/bohemian-savannah/event/happy-hour-at-coastal-15-2/2025-09-09/
LOCATION:Coastal 15\, 102 W Bay St.\, Savannah\, GA\, 31401\, United States
ATTACH;FMTTYPE=image/jpeg:https://www.kesslercollection.com/bohemian-savannah/wp-content/uploads/sites/5/2024/05/BHSR-Coastal15-24-2.jpg
END:VEVENT
BEGIN:VEVENT
DTSTART;TZID=America/New_York:20250910T140000
DTEND;TZID=America/New_York:20270513T160000
DTSTAMP:20260422T001146
CREATED:20250204T154718Z
LAST-MODIFIED:20260218T214147Z
UID:10002628-1757512800-1810224000@www.kesslercollection.com
SUMMARY:Happy Hour at Coastal 15
DESCRIPTION:Savor the coastal charm at Coastal 15 during Happy Hour\, Monday – Friday from 2:00 PM – 5:00 PM. Unwind with specially priced bites\, wine by the glass\, and refreshing draft beer.
URL:https://www.kesslercollection.com/bohemian-savannah/event/happy-hour-at-coastal-15-2/2025-09-10/
LOCATION:Coastal 15\, 102 W Bay St.\, Savannah\, GA\, 31401\, United States
ATTACH;FMTTYPE=image/jpeg:https://www.kesslercollection.com/bohemian-savannah/wp-content/uploads/sites/5/2024/05/BHSR-Coastal15-24-2.jpg
END:VEVENT
BEGIN:VEVENT
DTSTART;TZID=America/New_York:20250911T140000
DTEND;TZID=America/New_York:20270514T160000
DTSTAMP:20260422T001146
CREATED:20250204T154718Z
LAST-MODIFIED:20260218T214147Z
UID:10002629-1757599200-1810310400@www.kesslercollection.com
SUMMARY:Happy Hour at Coastal 15
DESCRIPTION:Savor the coastal charm at Coastal 15 during Happy Hour\, Monday – Friday from 2:00 PM – 5:00 PM. Unwind with specially priced bites\, wine by the glass\, and refreshing draft beer.
URL:https://www.kesslercollection.com/bohemian-savannah/event/happy-hour-at-coastal-15-2/2025-09-11/
LOCATION:Coastal 15\, 102 W Bay St.\, Savannah\, GA\, 31401\, United States
ATTACH;FMTTYPE=image/jpeg:https://www.kesslercollection.com/bohemian-savannah/wp-content/uploads/sites/5/2024/05/BHSR-Coastal15-24-2.jpg
END:VEVENT
BEGIN:VEVENT
DTSTART;TZID=America/New_York:20250911T200000
DTEND;TZID=America/New_York:20250911T213000
DTSTAMP:20260422T001146
CREATED:20251017T151135Z
LAST-MODIFIED:20251017T171404Z
UID:10002516-1757620800-1757626200@www.kesslercollection.com
SUMMARY:Karaoke Nights at Rocks on the Roof
DESCRIPTION:Sing your heart out every Thursday night as DJ Lil sets the vibe at this high-energy rooftop karaoke party. Enjoy complimentary champagne for ladies from 8:00 PM – 9:30 PM\, take in panoramic riverfront views\, and sip handcrafted cocktails as you perform your favorite hits under the stars. Gather your friends and make Thursday nights unforgettable at Rocks on the Roof.
URL:https://www.kesslercollection.com/bohemian-savannah/event/karaoke-night-at-rocks-on-the-roof/2025-09-11/
LOCATION:Rocks on the Roof\, 102 W Bay St.\, Savannah\, GA\, 31401\, United States
ATTACH;FMTTYPE=image/jpeg:https://www.kesslercollection.com/bohemian-savannah/wp-content/uploads/sites/5/2024/08/SAVAK_Rocks-on-Roof-2-1.jpg
END:VEVENT
BEGIN:VEVENT
DTSTART;TZID=America/New_York:20250912T140000
DTEND;TZID=America/New_York:20270515T160000
DTSTAMP:20260422T001146
CREATED:20250204T154718Z
LAST-MODIFIED:20260218T214147Z
UID:10002630-1757685600-1810396800@www.kesslercollection.com
SUMMARY:Happy Hour at Coastal 15
DESCRIPTION:Savor the coastal charm at Coastal 15 during Happy Hour\, Monday – Friday from 2:00 PM – 5:00 PM. Unwind with specially priced bites\, wine by the glass\, and refreshing draft beer.
URL:https://www.kesslercollection.com/bohemian-savannah/event/happy-hour-at-coastal-15-2/2025-09-12/
LOCATION:Coastal 15\, 102 W Bay St.\, Savannah\, GA\, 31401\, United States
ATTACH;FMTTYPE=image/jpeg:https://www.kesslercollection.com/bohemian-savannah/wp-content/uploads/sites/5/2024/05/BHSR-Coastal15-24-2.jpg
END:VEVENT
END:VCALENDAR