BEGIN:VCALENDAR
VERSION:2.0
PRODID:-//Grand Bohemian Lodge Greenville - ECPv6.15.20//NONSGML v1.0//EN
CALSCALE:GREGORIAN
METHOD:PUBLISH
X-WR-CALNAME:Grand Bohemian Lodge Greenville
X-ORIGINAL-URL:https://www.kesslercollection.com/bohemian-greenville
X-WR-CALDESC:Events for Grand Bohemian Lodge Greenville
REFRESH-INTERVAL;VALUE=DURATION:PT1H
X-Robots-Tag:noindex
X-PUBLISHED-TTL:PT1H
BEGIN:VTIMEZONE
TZID:America/New_York
BEGIN:DAYLIGHT
TZOFFSETFROM:-0500
TZOFFSETTO:-0400
TZNAME:EDT
DTSTART:20220313T070000
END:DAYLIGHT
BEGIN:STANDARD
TZOFFSETFROM:-0400
TZOFFSETTO:-0500
TZNAME:EST
DTSTART:20221106T060000
END:STANDARD
BEGIN:DAYLIGHT
TZOFFSETFROM:-0500
TZOFFSETTO:-0400
TZNAME:EDT
DTSTART:20230312T070000
END:DAYLIGHT
BEGIN:STANDARD
TZOFFSETFROM:-0400
TZOFFSETTO:-0500
TZNAME:EST
DTSTART:20231105T060000
END:STANDARD
BEGIN:DAYLIGHT
TZOFFSETFROM:-0500
TZOFFSETTO:-0400
TZNAME:EDT
DTSTART:20240310T070000
END:DAYLIGHT
BEGIN:STANDARD
TZOFFSETFROM:-0400
TZOFFSETTO:-0500
TZNAME:EST
DTSTART:20241103T060000
END:STANDARD
BEGIN:DAYLIGHT
TZOFFSETFROM:-0500
TZOFFSETTO:-0400
TZNAME:EDT
DTSTART:20250309T070000
END:DAYLIGHT
BEGIN:STANDARD
TZOFFSETFROM:-0400
TZOFFSETTO:-0500
TZNAME:EST
DTSTART:20251102T060000
END:STANDARD
END:VTIMEZONE
BEGIN:VEVENT
DTSTART;TZID=America/New_York:20240408T090000
DTEND;TZID=America/New_York:20240408T190000
DTSTAMP:20260425T153519
CREATED:20240226T190204Z
LAST-MODIFIED:20240326T202325Z
UID:10002306-1712566800-1712602800@www.kesslercollection.com
SUMMARY:Spring Renewal at Poseidon Spa
DESCRIPTION:Embrace the essence of spring with luxurious offerings tailored to accompany you throughout the season. Immerse yourself in a blissful escape and discover a sanctuary of tranquility as your perfect spring spa day awaits. \n\nAromasoothe Massage – $210 per person / 50 min | $290 per person / 80 min\n\n\nRefreshed & Radiant Facial – $350 per person / 80 min\n\n\nPure Bliss – $340 per person / 80 min\n\n\nLuck & Luxe – $335 per person / 100 min | $490 per person / 160 min\n\n\nSpring Time Serenade Couples Experience – $290 per person / 80 min\n\nSpring menu is available until April 30\, 2024\, by phone reservation only at 864.603.1780.
URL:https://www.kesslercollection.com/bohemian-greenville/event/spring-renewal-at-poseidon-spa/2024-04-08/
LOCATION:Poseidon Spa\, 44 E Camperdown Way\, Greenville\, NC\, 29601\, United States
ATTACH;FMTTYPE=image/jpeg:https://www.kesslercollection.com/bohemian-greenville/wp-content/uploads/sites/10/2024/02/AK_GSPAK_PoseidonSpa_Lifestyle.jpg
END:VEVENT
BEGIN:VEVENT
DTSTART;TZID=America/New_York:20240301T090000
DTEND;TZID=America/New_York:20240301T190000
DTSTAMP:20260425T153519
CREATED:20240226T190204Z
LAST-MODIFIED:20240326T202325Z
UID:10002266-1709283600-1709319600@www.kesslercollection.com
SUMMARY:Spring Renewal at Poseidon Spa
DESCRIPTION:Embrace the essence of spring with luxurious offerings tailored to accompany you throughout the season. Immerse yourself in a blissful escape and discover a sanctuary of tranquility as your perfect spring spa day awaits. \n\nAromasoothe Massage – $210 per person / 50 min | $290 per person / 80 min\n\n\nRefreshed & Radiant Facial – $350 per person / 80 min\n\n\nPure Bliss – $340 per person / 80 min\n\n\nLuck & Luxe – $335 per person / 100 min | $490 per person / 160 min\n\n\nSpring Time Serenade Couples Experience – $290 per person / 80 min\n\nSpring menu is available until April 30\, 2024\, by phone reservation only at 864.603.1780.
URL:https://www.kesslercollection.com/bohemian-greenville/event/spring-renewal-at-poseidon-spa/2024-03-01/
LOCATION:Poseidon Spa\, 44 E Camperdown Way\, Greenville\, NC\, 29601\, United States
ATTACH;FMTTYPE=image/jpeg:https://www.kesslercollection.com/bohemian-greenville/wp-content/uploads/sites/10/2024/02/AK_GSPAK_PoseidonSpa_Lifestyle.jpg
END:VEVENT
BEGIN:VEVENT
DTSTART;TZID=America/New_York:20230901T100000
DTEND;TZID=America/New_York:20230901T200000
DTSTAMP:20260425T153519
CREATED:20230831T204252Z
LAST-MODIFIED:20230831T204253Z
UID:10001266-1693562400-1693598400@www.kesslercollection.com
SUMMARY:Fall Into Relaxation at Poseidon Spa
DESCRIPTION:Throughout the month of September\, discover our exclusive treatments promised to nourish your mind and body while the scents of autumn surround you. At Poseidon Spa\, embrace the fall season with open arms and open senses as you feel refreshed and rejuvenated. \nPumpkin Polish – 50 min – $205 per person \nPlumping Pumpkin – 50 min – $275 per person \nSelf-Care Spa Day – 130 min – $560 per person \nFall menu is available from September 1 – September 30\, 2023\, by phone reservation only at 864.603.1780.
URL:https://www.kesslercollection.com/bohemian-greenville/event/fall-into-relaxation-at-poseidon-spa/
LOCATION:Poseidon Spa\, 44 E Camperdown Way\, Greenville\, NC\, 29601\, United States
ATTACH;FMTTYPE=image/jpeg:https://www.kesslercollection.com/bohemian-greenville/wp-content/uploads/sites/10/2023/08/AK_GSPAK_PoseidonSpa_TreatmentRoom-e1693514563130.jpg
END:VEVENT
BEGIN:VEVENT
DTSTART;TZID=America/New_York:20230701T090000
DTEND;TZID=America/New_York:20230701T190000
DTSTAMP:20260425T153519
CREATED:20230602T211509Z
LAST-MODIFIED:20230602T211510Z
UID:10000300-1688202000-1688238000@www.kesslercollection.com
SUMMARY:A Summer of Serenity at Poseidon Spa
DESCRIPTION:It’s possible to lose yourself and find yourself at the same time. This summer your visit to Poseidon Spa will leave you with more than a fleeting feeling—it will propel you on your journey to tranquility. \n\nWalking on Sunshine Massage – 50 min – $155 per person\n\n\nC’s the Day Radiance Facial – 50 min – $205 per person\n\n\nIt’s Glow Time Body Ritual – 80 min – $280 per person\n\n\nEscape Together – 50 min couples massage – $318 per couple\, 80 min couples massage – $478 per couple\n\nSummer menu is available June 1 – July 31\, 2023 by phone reservation only at 864.603.1780.
URL:https://www.kesslercollection.com/bohemian-greenville/event/a-summer-of-serenity-at-poseidon-spa/2023-07-01/
LOCATION:Poseidon Spa\, 44 E Camperdown Way\, Greenville\, NC\, 29601\, United States
ATTACH;FMTTYPE=image/jpeg:https://www.kesslercollection.com/bohemian-greenville/wp-content/uploads/sites/10/2023/06/GSPAK_PoseidonSpa_Lifestyle-e1685740482226.jpg
END:VEVENT
BEGIN:VEVENT
DTSTART;TZID=America/New_York:20230601T090000
DTEND;TZID=America/New_York:20230601T190000
DTSTAMP:20260425T153519
CREATED:20230602T211509Z
LAST-MODIFIED:20230602T211510Z
UID:10000299-1685610000-1685646000@www.kesslercollection.com
SUMMARY:A Summer of Serenity at Poseidon Spa
DESCRIPTION:It’s possible to lose yourself and find yourself at the same time. This summer your visit to Poseidon Spa will leave you with more than a fleeting feeling—it will propel you on your journey to tranquility. \n\nWalking on Sunshine Massage – 50 min – $155 per person\n\n\nC’s the Day Radiance Facial – 50 min – $205 per person\n\n\nIt’s Glow Time Body Ritual – 80 min – $280 per person\n\n\nEscape Together – 50 min couples massage – $318 per couple\, 80 min couples massage – $478 per couple\n\nSummer menu is available June 1 – July 31\, 2023 by phone reservation only at 864.603.1780.
URL:https://www.kesslercollection.com/bohemian-greenville/event/a-summer-of-serenity-at-poseidon-spa/2023-06-01/
LOCATION:Poseidon Spa\, 44 E Camperdown Way\, Greenville\, NC\, 29601\, United States
ATTACH;FMTTYPE=image/jpeg:https://www.kesslercollection.com/bohemian-greenville/wp-content/uploads/sites/10/2023/06/GSPAK_PoseidonSpa_Lifestyle-e1685740482226.jpg
END:VEVENT
END:VCALENDAR