BEGIN:VCALENDAR
VERSION:2.0
PRODID:-//Grand Bohemian Lodge Greenville - ECPv6.15.20//NONSGML v1.0//EN
CALSCALE:GREGORIAN
METHOD:PUBLISH
X-ORIGINAL-URL:https://www.kesslercollection.com/bohemian-greenville
X-WR-CALDESC:Events for Grand Bohemian Lodge Greenville
REFRESH-INTERVAL;VALUE=DURATION:PT1H
X-Robots-Tag:noindex
X-PUBLISHED-TTL:PT1H
BEGIN:VTIMEZONE
TZID:America/New_York
BEGIN:DAYLIGHT
TZOFFSETFROM:-0500
TZOFFSETTO:-0400
TZNAME:EDT
DTSTART:20220313T070000
END:DAYLIGHT
BEGIN:STANDARD
TZOFFSETFROM:-0400
TZOFFSETTO:-0500
TZNAME:EST
DTSTART:20221106T060000
END:STANDARD
BEGIN:DAYLIGHT
TZOFFSETFROM:-0500
TZOFFSETTO:-0400
TZNAME:EDT
DTSTART:20230312T070000
END:DAYLIGHT
BEGIN:STANDARD
TZOFFSETFROM:-0400
TZOFFSETTO:-0500
TZNAME:EST
DTSTART:20231105T060000
END:STANDARD
BEGIN:DAYLIGHT
TZOFFSETFROM:-0500
TZOFFSETTO:-0400
TZNAME:EDT
DTSTART:20240310T070000
END:DAYLIGHT
BEGIN:STANDARD
TZOFFSETFROM:-0400
TZOFFSETTO:-0500
TZNAME:EST
DTSTART:20241103T060000
END:STANDARD
BEGIN:DAYLIGHT
TZOFFSETFROM:-0500
TZOFFSETTO:-0400
TZNAME:EDT
DTSTART:20250309T070000
END:DAYLIGHT
BEGIN:STANDARD
TZOFFSETFROM:-0400
TZOFFSETTO:-0500
TZNAME:EST
DTSTART:20251102T060000
END:STANDARD
END:VTIMEZONE
BEGIN:VEVENT
DTSTART;TZID=America/New_York:20240825T160000
DTEND;TZID=America/New_York:20240825T190000
DTSTAMP:20260424T015121
CREATED:20240719T165250Z
LAST-MODIFIED:20240719T165901Z
UID:10002388-1724601600-1724612400@www.kesslercollection.com
SUMMARY:Call Me Dancer: Film Screening at Peace Center Gunter Theater
DESCRIPTION:Join us at the Gunter Theater at the Peace Center on August 25th at 4:00 PM for an inspiring afternoon. Discover a unique documentary film screening\, an engaging Q&A session with the documentary’s lead\, and a delightful reception offering delicious Saffron Indian Cuisine. \nMake it an unforgettable evening with cocktails at Spirit & Bower before heading to the show.
URL:https://www.kesslercollection.com/bohemian-greenville/event/call-me-dancer-film-screening-at-peace-center-gunter-theater/
LOCATION:Peace Center\, 300 S Main St\, Greenville\, SC\, 29601\, United States
ATTACH;FMTTYPE=image/png:https://www.kesslercollection.com/bohemian-greenville/wp-content/uploads/sites/10/2024/01/Stage_-Performing-Arts_-Theater.png
END:VEVENT
BEGIN:VEVENT
DTSTART;TZID=America/New_York:20240817T200000
DTEND;TZID=America/New_York:20240817T230000
DTSTAMP:20260424T015121
CREATED:20240719T165425Z
LAST-MODIFIED:20240719T165425Z
UID:10002389-1723924800-1723935600@www.kesslercollection.com
SUMMARY:KEM at Peace Concert Hall
DESCRIPTION:Experience the internationally renowned R&B singer-songwriter\, KEM\, at Peace Concert Hall on August 17th at 8:00 PM. Enjoy an evening filled with smooth melodies and heartfelt performances from a Grammy-nominated artist. \nMake it an unforgettable evening with dinner at Between the Trees and cocktails at Spirit & Bower before heading to the show.
URL:https://www.kesslercollection.com/bohemian-greenville/event/kem-at-peace-concert-hall/
LOCATION:Peace Center\, 300 S Main St\, Greenville\, SC\, 29601\, United States
ATTACH;FMTTYPE=image/png:https://www.kesslercollection.com/bohemian-greenville/wp-content/uploads/sites/10/2024/06/Concert-9-1.png
END:VEVENT
BEGIN:VEVENT
DTSTART;TZID=America/New_York:20240807T193000
DTEND;TZID=America/New_York:20240807T220000
DTSTAMP:20260424T015121
CREATED:20240719T165603Z
LAST-MODIFIED:20240719T165603Z
UID:10002390-1723059000-1723068000@www.kesslercollection.com
SUMMARY:Idina Menzel at Peace Concert Hall
DESCRIPTION:Discover the extraordinary talent of Idina Menzel—award-winning singer\, actress\, and songwriter—at Peace Concert Hall on August 7th at 7:30 PM. Experience an unforgettable concert filled with soaring anthems and vibrant disco-infused beats. \nMake it an unforgettable evening with dinner at Between the Trees and cocktails at Spirit & Bower before heading to the show.
URL:https://www.kesslercollection.com/bohemian-greenville/event/idina-menzel-at-peace-concert-hall/
LOCATION:Peace Center\, 300 S Main St\, Greenville\, SC\, 29601\, United States
ATTACH;FMTTYPE=image/png:https://www.kesslercollection.com/bohemian-greenville/wp-content/uploads/sites/10/2024/01/Stage_-Performing-Arts_-Theater.png
END:VEVENT
BEGIN:VEVENT
DTSTART;TZID=America/New_York:20240802T190000
DTEND;TZID=America/New_York:20240802T220000
DTSTAMP:20260424T015121
CREATED:20240719T165756Z
LAST-MODIFIED:20240719T165756Z
UID:10002391-1722625200-1722636000@www.kesslercollection.com
SUMMARY:Dave Mason's Traffic Jam at Peace Concert Hall
DESCRIPTION:Visit Peace Concert Hall on August 2nd at 7:00 PM for a captivating performance by the iconic English rock band\, Traffic. Discover multimedia visuals and dynamic setlists during this must-see concert experience. \nMake it an unforgettable evening with dinner at Between the Trees and cocktails at Spirit & Bower before heading to the show.
URL:https://www.kesslercollection.com/bohemian-greenville/event/dave-masons-traffic-jam-at-peace-concert-hall/
LOCATION:Peace Center\, 300 S Main St\, Greenville\, SC\, 29601\, United States
ATTACH;FMTTYPE=image/png:https://www.kesslercollection.com/bohemian-greenville/wp-content/uploads/sites/10/2024/07/Disco-14-1.png
END:VEVENT
BEGIN:VEVENT
DTSTART;TZID=America/New_York:20240421T193000
DTEND;TZID=America/New_York:20240421T213000
DTSTAMP:20260424T015121
CREATED:20240321T202913Z
LAST-MODIFIED:20240321T202913Z
UID:10002299-1713727800-1713735000@www.kesslercollection.com
SUMMARY:CLUE at Peace Concert Hall
DESCRIPTION:Step into a world of intrigue and suspense at Peace Concert Hall from April 16th – 21st as you experience the captivating theatrical production of CLUE. Inspired by the 1985 Paramount movie and beloved Hasbro board game\, discover a riveting tale where six guests and countless secrets become the centerpiece of your night.
URL:https://www.kesslercollection.com/bohemian-greenville/event/clue-at-peace-concert-hall/2024-04-21/
LOCATION:Peace Center\, 300 S Main St\, Greenville\, SC\, 29601\, United States
ATTACH;FMTTYPE=image/png:https://www.kesslercollection.com/bohemian-greenville/wp-content/uploads/sites/10/2024/01/Stage_-Performing-Arts_-Theater.png
END:VEVENT
BEGIN:VEVENT
DTSTART;TZID=America/New_York:20240420T193000
DTEND;TZID=America/New_York:20240420T213000
DTSTAMP:20260424T015121
CREATED:20240321T202913Z
LAST-MODIFIED:20240321T202913Z
UID:10002298-1713641400-1713648600@www.kesslercollection.com
SUMMARY:CLUE at Peace Concert Hall
DESCRIPTION:Step into a world of intrigue and suspense at Peace Concert Hall from April 16th – 21st as you experience the captivating theatrical production of CLUE. Inspired by the 1985 Paramount movie and beloved Hasbro board game\, discover a riveting tale where six guests and countless secrets become the centerpiece of your night.
URL:https://www.kesslercollection.com/bohemian-greenville/event/clue-at-peace-concert-hall/2024-04-20/
LOCATION:Peace Center\, 300 S Main St\, Greenville\, SC\, 29601\, United States
ATTACH;FMTTYPE=image/png:https://www.kesslercollection.com/bohemian-greenville/wp-content/uploads/sites/10/2024/01/Stage_-Performing-Arts_-Theater.png
END:VEVENT
BEGIN:VEVENT
DTSTART;TZID=America/New_York:20240419T193000
DTEND;TZID=America/New_York:20240419T213000
DTSTAMP:20260424T015121
CREATED:20240321T202913Z
LAST-MODIFIED:20240321T202913Z
UID:10002297-1713555000-1713562200@www.kesslercollection.com
SUMMARY:CLUE at Peace Concert Hall
DESCRIPTION:Step into a world of intrigue and suspense at Peace Concert Hall from April 16th – 21st as you experience the captivating theatrical production of CLUE. Inspired by the 1985 Paramount movie and beloved Hasbro board game\, discover a riveting tale where six guests and countless secrets become the centerpiece of your night.
URL:https://www.kesslercollection.com/bohemian-greenville/event/clue-at-peace-concert-hall/2024-04-19/
LOCATION:Peace Center\, 300 S Main St\, Greenville\, SC\, 29601\, United States
ATTACH;FMTTYPE=image/png:https://www.kesslercollection.com/bohemian-greenville/wp-content/uploads/sites/10/2024/01/Stage_-Performing-Arts_-Theater.png
END:VEVENT
BEGIN:VEVENT
DTSTART;TZID=America/New_York:20240418T193000
DTEND;TZID=America/New_York:20240418T213000
DTSTAMP:20260424T015121
CREATED:20240321T202913Z
LAST-MODIFIED:20240321T202913Z
UID:10002296-1713468600-1713475800@www.kesslercollection.com
SUMMARY:CLUE at Peace Concert Hall
DESCRIPTION:Step into a world of intrigue and suspense at Peace Concert Hall from April 16th – 21st as you experience the captivating theatrical production of CLUE. Inspired by the 1985 Paramount movie and beloved Hasbro board game\, discover a riveting tale where six guests and countless secrets become the centerpiece of your night.
URL:https://www.kesslercollection.com/bohemian-greenville/event/clue-at-peace-concert-hall/2024-04-18/
LOCATION:Peace Center\, 300 S Main St\, Greenville\, SC\, 29601\, United States
ATTACH;FMTTYPE=image/png:https://www.kesslercollection.com/bohemian-greenville/wp-content/uploads/sites/10/2024/01/Stage_-Performing-Arts_-Theater.png
END:VEVENT
BEGIN:VEVENT
DTSTART;TZID=America/New_York:20240417T193000
DTEND;TZID=America/New_York:20240417T213000
DTSTAMP:20260424T015121
CREATED:20240321T202913Z
LAST-MODIFIED:20240321T202913Z
UID:10002295-1713382200-1713389400@www.kesslercollection.com
SUMMARY:CLUE at Peace Concert Hall
DESCRIPTION:Step into a world of intrigue and suspense at Peace Concert Hall from April 16th – 21st as you experience the captivating theatrical production of CLUE. Inspired by the 1985 Paramount movie and beloved Hasbro board game\, discover a riveting tale where six guests and countless secrets become the centerpiece of your night.
URL:https://www.kesslercollection.com/bohemian-greenville/event/clue-at-peace-concert-hall/2024-04-17/
LOCATION:Peace Center\, 300 S Main St\, Greenville\, SC\, 29601\, United States
ATTACH;FMTTYPE=image/png:https://www.kesslercollection.com/bohemian-greenville/wp-content/uploads/sites/10/2024/01/Stage_-Performing-Arts_-Theater.png
END:VEVENT
BEGIN:VEVENT
DTSTART;TZID=America/New_York:20240416T193000
DTEND;TZID=America/New_York:20240416T213000
DTSTAMP:20260424T015121
CREATED:20240321T202913Z
LAST-MODIFIED:20240321T202913Z
UID:10002294-1713295800-1713303000@www.kesslercollection.com
SUMMARY:CLUE at Peace Concert Hall
DESCRIPTION:Step into a world of intrigue and suspense at Peace Concert Hall from April 16th – 21st as you experience the captivating theatrical production of CLUE. Inspired by the 1985 Paramount movie and beloved Hasbro board game\, discover a riveting tale where six guests and countless secrets become the centerpiece of your night.
URL:https://www.kesslercollection.com/bohemian-greenville/event/clue-at-peace-concert-hall/2024-04-16/
LOCATION:Peace Center\, 300 S Main St\, Greenville\, SC\, 29601\, United States
ATTACH;FMTTYPE=image/png:https://www.kesslercollection.com/bohemian-greenville/wp-content/uploads/sites/10/2024/01/Stage_-Performing-Arts_-Theater.png
END:VEVENT
BEGIN:VEVENT
DTSTART;TZID=America/New_York:20240313T193000
DTEND;TZID=America/New_York:20240313T210000
DTSTAMP:20260424T015121
CREATED:20240226T165908Z
LAST-MODIFIED:20240226T165908Z
UID:10002259-1710358200-1710363600@www.kesslercollection.com
SUMMARY:Dr. Neil deGrasse Tyson at Peace Concert Hall
DESCRIPTION:Visit the Peace Concert Hall on March 13th at 7:30 PM to explore the universe through the eyes of astrophysicist Neil deGrasse Tyson. Uncover the profound impact of viewing Earth as a mere speck in the vast cosmos while exploring the wonders of science\, culture\, and life itself.
URL:https://www.kesslercollection.com/bohemian-greenville/event/dr-neil-degrasse-tyson-at-peace-concert-hall/
LOCATION:Peace Center\, 300 S Main St\, Greenville\, SC\, 29601\, United States
ATTACH;FMTTYPE=image/png:https://www.kesslercollection.com/bohemian-greenville/wp-content/uploads/sites/10/2024/01/Stage_-Performing-Arts_-Theater.png
END:VEVENT
BEGIN:VEVENT
DTSTART;TZID=America/New_York:20240114T140000
DTEND;TZID=America/New_York:20240114T170000
DTSTAMP:20260424T015121
CREATED:20240104T211521Z
LAST-MODIFIED:20240104T211521Z
UID:10002049-1705240800-1705251600@www.kesslercollection.com
SUMMARY:Harry Potter & The Chamber of Secrets at Peace Concert Hall
DESCRIPTION:Visit Peace Concert Hall on January 13th & 14th for an enchanting evening with an iconic film and mesmerizing live orchestra. Immerse yourself in the magical world of Harry Potter as you experience the wizarding world from a new perspective.
URL:https://www.kesslercollection.com/bohemian-greenville/event/harry-potter-the-chamber-of-secrets-at-peace-concert-hall/2024-01-14/
LOCATION:Peace Center\, 300 S Main St\, Greenville\, SC\, 29601\, United States
ATTACH;FMTTYPE=image/png:https://www.kesslercollection.com/bohemian-greenville/wp-content/uploads/sites/10/2024/01/Stage_-Performing-Arts_-Theater.png
END:VEVENT
BEGIN:VEVENT
DTSTART;TZID=America/New_York:20240113T190000
DTEND;TZID=America/New_York:20240113T220000
DTSTAMP:20260424T015121
CREATED:20240104T211521Z
LAST-MODIFIED:20240104T211521Z
UID:10002048-1705172400-1705183200@www.kesslercollection.com
SUMMARY:Harry Potter & The Chamber of Secrets at Peace Concert Hall
DESCRIPTION:Visit Peace Concert Hall on January 13th & 14th for an enchanting evening with an iconic film and mesmerizing live orchestra. Immerse yourself in the magical world of Harry Potter as you experience the wizarding world from a new perspective.
URL:https://www.kesslercollection.com/bohemian-greenville/event/harry-potter-the-chamber-of-secrets-at-peace-concert-hall/2024-01-13/
LOCATION:Peace Center\, 300 S Main St\, Greenville\, SC\, 29601\, United States
ATTACH;FMTTYPE=image/png:https://www.kesslercollection.com/bohemian-greenville/wp-content/uploads/sites/10/2024/01/Stage_-Performing-Arts_-Theater.png
END:VEVENT
BEGIN:VEVENT
DTSTART;TZID=America/New_York:20231210T193000
DTEND;TZID=America/New_York:20231210T193000
DTSTAMP:20260424T015121
CREATED:20231201T213338Z
LAST-MODIFIED:20231204T140746Z
UID:10001994-1702236600-1702236600@www.kesslercollection.com
SUMMARY:The Nutcracker at the Peace Center
DESCRIPTION:Immerse yourself in the enchantment of the holiday season with a special Nutcracker performance at the Peace Center from December 8th – 10th. Experience a full-scale production that stars professional classical dancers and showcases stunning sets\, all set to transport you into a world of pure magic.
URL:https://www.kesslercollection.com/bohemian-greenville/event/the-nutcracker-at-the-peace-center/2023-12-10/
LOCATION:Peace Center\, 300 S Main St\, Greenville\, SC\, 29601\, United States
ATTACH;FMTTYPE=image/png:https://www.kesslercollection.com/bohemian-greenville/wp-content/uploads/sites/10/2023/12/Event-calendar-2023-11-22T141944.508-1.png
END:VEVENT
BEGIN:VEVENT
DTSTART;TZID=America/New_York:20231209T193000
DTEND;TZID=America/New_York:20231209T193000
DTSTAMP:20260424T015121
CREATED:20231201T213338Z
LAST-MODIFIED:20231204T140746Z
UID:10001993-1702150200-1702150200@www.kesslercollection.com
SUMMARY:The Nutcracker at the Peace Center
DESCRIPTION:Immerse yourself in the enchantment of the holiday season with a special Nutcracker performance at the Peace Center from December 8th – 10th. Experience a full-scale production that stars professional classical dancers and showcases stunning sets\, all set to transport you into a world of pure magic.
URL:https://www.kesslercollection.com/bohemian-greenville/event/the-nutcracker-at-the-peace-center/2023-12-09/
LOCATION:Peace Center\, 300 S Main St\, Greenville\, SC\, 29601\, United States
ATTACH;FMTTYPE=image/png:https://www.kesslercollection.com/bohemian-greenville/wp-content/uploads/sites/10/2023/12/Event-calendar-2023-11-22T141944.508-1.png
END:VEVENT
BEGIN:VEVENT
DTSTART;TZID=America/New_York:20231208T193000
DTEND;TZID=America/New_York:20231208T193000
DTSTAMP:20260424T015121
CREATED:20231201T213338Z
LAST-MODIFIED:20231204T140746Z
UID:10001934-1702063800-1702063800@www.kesslercollection.com
SUMMARY:The Nutcracker at the Peace Center
DESCRIPTION:Immerse yourself in the enchantment of the holiday season with a special Nutcracker performance at the Peace Center from December 8th – 10th. Experience a full-scale production that stars professional classical dancers and showcases stunning sets\, all set to transport you into a world of pure magic.
URL:https://www.kesslercollection.com/bohemian-greenville/event/the-nutcracker-at-the-peace-center/2023-12-08/
LOCATION:Peace Center\, 300 S Main St\, Greenville\, SC\, 29601\, United States
ATTACH;FMTTYPE=image/png:https://www.kesslercollection.com/bohemian-greenville/wp-content/uploads/sites/10/2023/12/Event-calendar-2023-11-22T141944.508-1.png
END:VEVENT
END:VCALENDAR