BEGIN:VCALENDAR
VERSION:2.0
PRODID:-//Grand Bohemian Lodge Greenville - ECPv6.15.20//NONSGML v1.0//EN
CALSCALE:GREGORIAN
METHOD:PUBLISH
X-ORIGINAL-URL:https://www.kesslercollection.com/bohemian-greenville
X-WR-CALDESC:Events for Grand Bohemian Lodge Greenville
REFRESH-INTERVAL;VALUE=DURATION:PT1H
X-Robots-Tag:noindex
X-PUBLISHED-TTL:PT1H
BEGIN:VTIMEZONE
TZID:America/New_York
BEGIN:DAYLIGHT
TZOFFSETFROM:-0500
TZOFFSETTO:-0400
TZNAME:EDT
DTSTART:20230312T070000
END:DAYLIGHT
BEGIN:STANDARD
TZOFFSETFROM:-0400
TZOFFSETTO:-0500
TZNAME:EST
DTSTART:20231105T060000
END:STANDARD
BEGIN:DAYLIGHT
TZOFFSETFROM:-0500
TZOFFSETTO:-0400
TZNAME:EDT
DTSTART:20240310T070000
END:DAYLIGHT
BEGIN:STANDARD
TZOFFSETFROM:-0400
TZOFFSETTO:-0500
TZNAME:EST
DTSTART:20241103T060000
END:STANDARD
BEGIN:DAYLIGHT
TZOFFSETFROM:-0500
TZOFFSETTO:-0400
TZNAME:EDT
DTSTART:20250309T070000
END:DAYLIGHT
BEGIN:STANDARD
TZOFFSETFROM:-0400
TZOFFSETTO:-0500
TZNAME:EST
DTSTART:20251102T060000
END:STANDARD
END:VTIMEZONE
BEGIN:VEVENT
DTSTART;TZID=America/New_York:20240328T200000
DTEND;TZID=America/New_York:20240328T210000
DTSTAMP:20260420T165159
CREATED:20240226T173836Z
LAST-MODIFIED:20240226T173836Z
UID:10002265-1711656000-1711659600@www.kesslercollection.com
SUMMARY:Boy Bands Mingo at Hoppin' Greenville
DESCRIPTION:Visit Hoppin’ Greenville on March 28th at 8:00 PM for Boy Band Trivia. Experience an evening full of craft beers and cocktails\, brain teasers\, and friendly competition with your dream trivia team.
URL:https://www.kesslercollection.com/bohemian-greenville/event/boy-bands-mingo-at-hoppin-greenville/
LOCATION:Hoppin’ Greenville\, 120 N Markley St Suite 102\, Greenville\, SC\, 29601\, United States
ATTACH;FMTTYPE=image/png:https://www.kesslercollection.com/bohemian-greenville/wp-content/uploads/sites/10/2024/01/Beer-3-1.png
END:VEVENT
END:VCALENDAR