BEGIN:VCALENDAR
VERSION:2.0
PRODID:-//Grand Bohemian Lodge Greenville - ECPv6.15.20//NONSGML v1.0//EN
CALSCALE:GREGORIAN
METHOD:PUBLISH
X-WR-CALNAME:Grand Bohemian Lodge Greenville
X-ORIGINAL-URL:https://www.kesslercollection.com/bohemian-greenville
X-WR-CALDESC:Events for Grand Bohemian Lodge Greenville
REFRESH-INTERVAL;VALUE=DURATION:PT1H
X-Robots-Tag:noindex
X-PUBLISHED-TTL:PT1H
BEGIN:VTIMEZONE
TZID:America/New_York
BEGIN:DAYLIGHT
TZOFFSETFROM:-0500
TZOFFSETTO:-0400
TZNAME:EDT
DTSTART:20230312T070000
END:DAYLIGHT
BEGIN:STANDARD
TZOFFSETFROM:-0400
TZOFFSETTO:-0500
TZNAME:EST
DTSTART:20231105T060000
END:STANDARD
BEGIN:DAYLIGHT
TZOFFSETFROM:-0500
TZOFFSETTO:-0400
TZNAME:EDT
DTSTART:20240310T070000
END:DAYLIGHT
BEGIN:STANDARD
TZOFFSETFROM:-0400
TZOFFSETTO:-0500
TZNAME:EST
DTSTART:20241103T060000
END:STANDARD
BEGIN:DAYLIGHT
TZOFFSETFROM:-0500
TZOFFSETTO:-0400
TZNAME:EDT
DTSTART:20250309T070000
END:DAYLIGHT
BEGIN:STANDARD
TZOFFSETFROM:-0400
TZOFFSETTO:-0500
TZNAME:EST
DTSTART:20251102T060000
END:STANDARD
END:VTIMEZONE
BEGIN:VEVENT
DTSTART;TZID=America/New_York:20240330T110000
DTEND;TZID=America/New_York:20240330T170000
DTSTAMP:20260423T162248
CREATED:20240104T210707Z
LAST-MODIFIED:20240219T155249Z
UID:10002235-1711796400-1711818000@www.kesslercollection.com
SUMMARY:Candle Making Experience at Greenville Soy Candle Company
DESCRIPTION:Discover the art of candle-making at Greenville Soy Candle Company with select times every Saturday. Find your perfect scent and let experts guide you through the secrets of waxes\, wicks\, and fragrances as you create your very own candle masterpiece.
URL:https://www.kesslercollection.com/bohemian-greenville/event/candle-making-experience-at-greenville-soy-candle-company/2024-03-30/
LOCATION:Greenville Soy Candle Company\, 209 N Main St\, Greenville\, SC\, 29601\, United States
ATTACH;FMTTYPE=image/png:https://www.kesslercollection.com/bohemian-greenville/wp-content/uploads/sites/10/2024/01/Distillery-1-1.png
END:VEVENT
BEGIN:VEVENT
DTSTART;TZID=America/New_York:20240323T110000
DTEND;TZID=America/New_York:20240323T170000
DTSTAMP:20260423T162248
CREATED:20240104T210707Z
LAST-MODIFIED:20240219T155249Z
UID:10002234-1711191600-1711213200@www.kesslercollection.com
SUMMARY:Candle Making Experience at Greenville Soy Candle Company
DESCRIPTION:Discover the art of candle-making at Greenville Soy Candle Company with select times every Saturday. Find your perfect scent and let experts guide you through the secrets of waxes\, wicks\, and fragrances as you create your very own candle masterpiece.
URL:https://www.kesslercollection.com/bohemian-greenville/event/candle-making-experience-at-greenville-soy-candle-company/2024-03-23/
LOCATION:Greenville Soy Candle Company\, 209 N Main St\, Greenville\, SC\, 29601\, United States
ATTACH;FMTTYPE=image/png:https://www.kesslercollection.com/bohemian-greenville/wp-content/uploads/sites/10/2024/01/Distillery-1-1.png
END:VEVENT
BEGIN:VEVENT
DTSTART;TZID=America/New_York:20240316T110000
DTEND;TZID=America/New_York:20240316T170000
DTSTAMP:20260423T162248
CREATED:20240104T210707Z
LAST-MODIFIED:20240219T155249Z
UID:10002233-1710586800-1710608400@www.kesslercollection.com
SUMMARY:Candle Making Experience at Greenville Soy Candle Company
DESCRIPTION:Discover the art of candle-making at Greenville Soy Candle Company with select times every Saturday. Find your perfect scent and let experts guide you through the secrets of waxes\, wicks\, and fragrances as you create your very own candle masterpiece.
URL:https://www.kesslercollection.com/bohemian-greenville/event/candle-making-experience-at-greenville-soy-candle-company/2024-03-16/
LOCATION:Greenville Soy Candle Company\, 209 N Main St\, Greenville\, SC\, 29601\, United States
ATTACH;FMTTYPE=image/png:https://www.kesslercollection.com/bohemian-greenville/wp-content/uploads/sites/10/2024/01/Distillery-1-1.png
END:VEVENT
BEGIN:VEVENT
DTSTART;TZID=America/New_York:20240309T110000
DTEND;TZID=America/New_York:20240309T170000
DTSTAMP:20260423T162248
CREATED:20240104T210707Z
LAST-MODIFIED:20240219T155249Z
UID:10002232-1709982000-1710003600@www.kesslercollection.com
SUMMARY:Candle Making Experience at Greenville Soy Candle Company
DESCRIPTION:Discover the art of candle-making at Greenville Soy Candle Company with select times every Saturday. Find your perfect scent and let experts guide you through the secrets of waxes\, wicks\, and fragrances as you create your very own candle masterpiece.
URL:https://www.kesslercollection.com/bohemian-greenville/event/candle-making-experience-at-greenville-soy-candle-company/2024-03-09/
LOCATION:Greenville Soy Candle Company\, 209 N Main St\, Greenville\, SC\, 29601\, United States
ATTACH;FMTTYPE=image/png:https://www.kesslercollection.com/bohemian-greenville/wp-content/uploads/sites/10/2024/01/Distillery-1-1.png
END:VEVENT
BEGIN:VEVENT
DTSTART;TZID=America/New_York:20240302T110000
DTEND;TZID=America/New_York:20240302T170000
DTSTAMP:20260423T162248
CREATED:20240104T210707Z
LAST-MODIFIED:20240219T155249Z
UID:10002231-1709377200-1709398800@www.kesslercollection.com
SUMMARY:Candle Making Experience at Greenville Soy Candle Company
DESCRIPTION:Discover the art of candle-making at Greenville Soy Candle Company with select times every Saturday. Find your perfect scent and let experts guide you through the secrets of waxes\, wicks\, and fragrances as you create your very own candle masterpiece.
URL:https://www.kesslercollection.com/bohemian-greenville/event/candle-making-experience-at-greenville-soy-candle-company/2024-03-02/
LOCATION:Greenville Soy Candle Company\, 209 N Main St\, Greenville\, SC\, 29601\, United States
ATTACH;FMTTYPE=image/png:https://www.kesslercollection.com/bohemian-greenville/wp-content/uploads/sites/10/2024/01/Distillery-1-1.png
END:VEVENT
BEGIN:VEVENT
DTSTART;TZID=America/New_York:20240224T110000
DTEND;TZID=America/New_York:20240224T170000
DTSTAMP:20260423T162248
CREATED:20240104T210707Z
LAST-MODIFIED:20240219T155249Z
UID:10002230-1708772400-1708794000@www.kesslercollection.com
SUMMARY:Candle Making Experience at Greenville Soy Candle Company
DESCRIPTION:Discover the art of candle-making at Greenville Soy Candle Company with select times every Saturday. Find your perfect scent and let experts guide you through the secrets of waxes\, wicks\, and fragrances as you create your very own candle masterpiece.
URL:https://www.kesslercollection.com/bohemian-greenville/event/candle-making-experience-at-greenville-soy-candle-company/2024-02-24/
LOCATION:Greenville Soy Candle Company\, 209 N Main St\, Greenville\, SC\, 29601\, United States
ATTACH;FMTTYPE=image/png:https://www.kesslercollection.com/bohemian-greenville/wp-content/uploads/sites/10/2024/01/Distillery-1-1.png
END:VEVENT
BEGIN:VEVENT
DTSTART;TZID=America/New_York:20240217T110000
DTEND;TZID=America/New_York:20240217T170000
DTSTAMP:20260423T162248
CREATED:20240104T210707Z
LAST-MODIFIED:20240219T155249Z
UID:10002229-1708167600-1708189200@www.kesslercollection.com
SUMMARY:Candle Making Experience at Greenville Soy Candle Company
DESCRIPTION:Discover the art of candle-making at Greenville Soy Candle Company with select times every Saturday. Find your perfect scent and let experts guide you through the secrets of waxes\, wicks\, and fragrances as you create your very own candle masterpiece.
URL:https://www.kesslercollection.com/bohemian-greenville/event/candle-making-experience-at-greenville-soy-candle-company/2024-02-17/
LOCATION:Greenville Soy Candle Company\, 209 N Main St\, Greenville\, SC\, 29601\, United States
ATTACH;FMTTYPE=image/png:https://www.kesslercollection.com/bohemian-greenville/wp-content/uploads/sites/10/2024/01/Distillery-1-1.png
END:VEVENT
BEGIN:VEVENT
DTSTART;TZID=America/New_York:20240210T110000
DTEND;TZID=America/New_York:20240210T170000
DTSTAMP:20260423T162248
CREATED:20240104T210707Z
LAST-MODIFIED:20240219T155249Z
UID:10002228-1707562800-1707584400@www.kesslercollection.com
SUMMARY:Candle Making Experience at Greenville Soy Candle Company
DESCRIPTION:Discover the art of candle-making at Greenville Soy Candle Company with select times every Saturday. Find your perfect scent and let experts guide you through the secrets of waxes\, wicks\, and fragrances as you create your very own candle masterpiece.
URL:https://www.kesslercollection.com/bohemian-greenville/event/candle-making-experience-at-greenville-soy-candle-company/2024-02-10/
LOCATION:Greenville Soy Candle Company\, 209 N Main St\, Greenville\, SC\, 29601\, United States
ATTACH;FMTTYPE=image/png:https://www.kesslercollection.com/bohemian-greenville/wp-content/uploads/sites/10/2024/01/Distillery-1-1.png
END:VEVENT
BEGIN:VEVENT
DTSTART;TZID=America/New_York:20240203T110000
DTEND;TZID=America/New_York:20240203T170000
DTSTAMP:20260423T162248
CREATED:20240104T210707Z
LAST-MODIFIED:20240219T155249Z
UID:10002227-1706958000-1706979600@www.kesslercollection.com
SUMMARY:Candle Making Experience at Greenville Soy Candle Company
DESCRIPTION:Discover the art of candle-making at Greenville Soy Candle Company with select times every Saturday. Find your perfect scent and let experts guide you through the secrets of waxes\, wicks\, and fragrances as you create your very own candle masterpiece.
URL:https://www.kesslercollection.com/bohemian-greenville/event/candle-making-experience-at-greenville-soy-candle-company/2024-02-03/
LOCATION:Greenville Soy Candle Company\, 209 N Main St\, Greenville\, SC\, 29601\, United States
ATTACH;FMTTYPE=image/png:https://www.kesslercollection.com/bohemian-greenville/wp-content/uploads/sites/10/2024/01/Distillery-1-1.png
END:VEVENT
BEGIN:VEVENT
DTSTART;TZID=America/New_York:20240127T110000
DTEND;TZID=America/New_York:20240127T170000
DTSTAMP:20260423T162248
CREATED:20240104T210707Z
LAST-MODIFIED:20240219T155249Z
UID:10002043-1706353200-1706374800@www.kesslercollection.com
SUMMARY:Candle Making Experience at Greenville Soy Candle Company
DESCRIPTION:Discover the art of candle-making at Greenville Soy Candle Company with select times every Saturday. Find your perfect scent and let experts guide you through the secrets of waxes\, wicks\, and fragrances as you create your very own candle masterpiece.
URL:https://www.kesslercollection.com/bohemian-greenville/event/candle-making-experience-at-greenville-soy-candle-company/2024-01-27/
LOCATION:Greenville Soy Candle Company\, 209 N Main St\, Greenville\, SC\, 29601\, United States
ATTACH;FMTTYPE=image/png:https://www.kesslercollection.com/bohemian-greenville/wp-content/uploads/sites/10/2024/01/Distillery-1-1.png
END:VEVENT
BEGIN:VEVENT
DTSTART;TZID=America/New_York:20240120T110000
DTEND;TZID=America/New_York:20240120T170000
DTSTAMP:20260423T162248
CREATED:20240104T210707Z
LAST-MODIFIED:20240219T155249Z
UID:10002042-1705748400-1705770000@www.kesslercollection.com
SUMMARY:Candle Making Experience at Greenville Soy Candle Company
DESCRIPTION:Discover the art of candle-making at Greenville Soy Candle Company with select times every Saturday. Find your perfect scent and let experts guide you through the secrets of waxes\, wicks\, and fragrances as you create your very own candle masterpiece.
URL:https://www.kesslercollection.com/bohemian-greenville/event/candle-making-experience-at-greenville-soy-candle-company/2024-01-20/
LOCATION:Greenville Soy Candle Company\, 209 N Main St\, Greenville\, SC\, 29601\, United States
ATTACH;FMTTYPE=image/png:https://www.kesslercollection.com/bohemian-greenville/wp-content/uploads/sites/10/2024/01/Distillery-1-1.png
END:VEVENT
BEGIN:VEVENT
DTSTART;TZID=America/New_York:20240113T110000
DTEND;TZID=America/New_York:20240113T170000
DTSTAMP:20260423T162248
CREATED:20240104T210707Z
LAST-MODIFIED:20240219T155249Z
UID:10002041-1705143600-1705165200@www.kesslercollection.com
SUMMARY:Candle Making Experience at Greenville Soy Candle Company
DESCRIPTION:Discover the art of candle-making at Greenville Soy Candle Company with select times every Saturday. Find your perfect scent and let experts guide you through the secrets of waxes\, wicks\, and fragrances as you create your very own candle masterpiece.
URL:https://www.kesslercollection.com/bohemian-greenville/event/candle-making-experience-at-greenville-soy-candle-company/2024-01-13/
LOCATION:Greenville Soy Candle Company\, 209 N Main St\, Greenville\, SC\, 29601\, United States
ATTACH;FMTTYPE=image/png:https://www.kesslercollection.com/bohemian-greenville/wp-content/uploads/sites/10/2024/01/Distillery-1-1.png
END:VEVENT
BEGIN:VEVENT
DTSTART;TZID=America/New_York:20240106T110000
DTEND;TZID=America/New_York:20240106T170000
DTSTAMP:20260423T162248
CREATED:20240104T210707Z
LAST-MODIFIED:20240219T155249Z
UID:10002040-1704538800-1704560400@www.kesslercollection.com
SUMMARY:Candle Making Experience at Greenville Soy Candle Company
DESCRIPTION:Discover the art of candle-making at Greenville Soy Candle Company with select times every Saturday. Find your perfect scent and let experts guide you through the secrets of waxes\, wicks\, and fragrances as you create your very own candle masterpiece.
URL:https://www.kesslercollection.com/bohemian-greenville/event/candle-making-experience-at-greenville-soy-candle-company/2024-01-06/
LOCATION:Greenville Soy Candle Company\, 209 N Main St\, Greenville\, SC\, 29601\, United States
ATTACH;FMTTYPE=image/png:https://www.kesslercollection.com/bohemian-greenville/wp-content/uploads/sites/10/2024/01/Distillery-1-1.png
END:VEVENT
END:VCALENDAR