BEGIN:VCALENDAR
VERSION:2.0
PRODID:-//Grand Bohemian Charleston - ECPv6.15.20//NONSGML v1.0//EN
CALSCALE:GREGORIAN
METHOD:PUBLISH
X-ORIGINAL-URL:https://www.kesslercollection.com/bohemian-charleston
X-WR-CALDESC:Events for Grand Bohemian Charleston
REFRESH-INTERVAL;VALUE=DURATION:PT1H
X-Robots-Tag:noindex
X-PUBLISHED-TTL:PT1H
BEGIN:VTIMEZONE
TZID:America/New_York
BEGIN:DAYLIGHT
TZOFFSETFROM:-0500
TZOFFSETTO:-0400
TZNAME:EDT
DTSTART:20230312T070000
END:DAYLIGHT
BEGIN:STANDARD
TZOFFSETFROM:-0400
TZOFFSETTO:-0500
TZNAME:EST
DTSTART:20231105T060000
END:STANDARD
BEGIN:DAYLIGHT
TZOFFSETFROM:-0500
TZOFFSETTO:-0400
TZNAME:EDT
DTSTART:20240310T070000
END:DAYLIGHT
BEGIN:STANDARD
TZOFFSETFROM:-0400
TZOFFSETTO:-0500
TZNAME:EST
DTSTART:20241103T060000
END:STANDARD
BEGIN:DAYLIGHT
TZOFFSETFROM:-0500
TZOFFSETTO:-0400
TZNAME:EDT
DTSTART:20250309T070000
END:DAYLIGHT
BEGIN:STANDARD
TZOFFSETFROM:-0400
TZOFFSETTO:-0500
TZNAME:EST
DTSTART:20251102T060000
END:STANDARD
END:VTIMEZONE
BEGIN:VEVENT
DTSTART;TZID=America/New_York:20240324T110000
DTEND;TZID=America/New_York:20240324T170000
DTSTAMP:20260421T113258
CREATED:20240226T200909Z
LAST-MODIFIED:20240226T200909Z
UID:10002322-1711278000-1711299600@www.kesslercollection.com
SUMMARY:The Charleston Show at Charleston Festival Hall
DESCRIPTION:From March 22nd – 24th\, discover the exquisite world of art\, design\, and antiques at The Charleston Show. Whether you are a seasoned collector or just beginning your journey\, immerse yourself in a curated collection of the finest period to mid-century furniture\, traditional art\, ceramics\, jewelry\, and more.
URL:https://www.kesslercollection.com/bohemian-charleston/event/the-charleston-show-at-charleston-festival-hall/2024-03-24/
LOCATION:Charleston Festival Hall\, 56 Beaufain St.\, Charleston\, SC\, 29401\, United States
ATTACH;FMTTYPE=image/png:https://www.kesslercollection.com/bohemian-charleston/wp-content/uploads/sites/8/2024/02/Basketball_-Sports.png
END:VEVENT
BEGIN:VEVENT
DTSTART;TZID=America/New_York:20240323T110000
DTEND;TZID=America/New_York:20240323T170000
DTSTAMP:20260421T113258
CREATED:20240226T200909Z
LAST-MODIFIED:20240226T200909Z
UID:10002321-1711191600-1711213200@www.kesslercollection.com
SUMMARY:The Charleston Show at Charleston Festival Hall
DESCRIPTION:From March 22nd – 24th\, discover the exquisite world of art\, design\, and antiques at The Charleston Show. Whether you are a seasoned collector or just beginning your journey\, immerse yourself in a curated collection of the finest period to mid-century furniture\, traditional art\, ceramics\, jewelry\, and more.
URL:https://www.kesslercollection.com/bohemian-charleston/event/the-charleston-show-at-charleston-festival-hall/2024-03-23/
LOCATION:Charleston Festival Hall\, 56 Beaufain St.\, Charleston\, SC\, 29401\, United States
ATTACH;FMTTYPE=image/png:https://www.kesslercollection.com/bohemian-charleston/wp-content/uploads/sites/8/2024/02/Basketball_-Sports.png
END:VEVENT
BEGIN:VEVENT
DTSTART;TZID=America/New_York:20240322T110000
DTEND;TZID=America/New_York:20240322T170000
DTSTAMP:20260421T113258
CREATED:20240226T200909Z
LAST-MODIFIED:20240226T200909Z
UID:10002320-1711105200-1711126800@www.kesslercollection.com
SUMMARY:The Charleston Show at Charleston Festival Hall
DESCRIPTION:From March 22nd – 24th\, discover the exquisite world of art\, design\, and antiques at The Charleston Show. Whether you are a seasoned collector or just beginning your journey\, immerse yourself in a curated collection of the finest period to mid-century furniture\, traditional art\, ceramics\, jewelry\, and more.
URL:https://www.kesslercollection.com/bohemian-charleston/event/the-charleston-show-at-charleston-festival-hall/2024-03-22/
LOCATION:Charleston Festival Hall\, 56 Beaufain St.\, Charleston\, SC\, 29401\, United States
ATTACH;FMTTYPE=image/png:https://www.kesslercollection.com/bohemian-charleston/wp-content/uploads/sites/8/2024/02/Basketball_-Sports.png
END:VEVENT
END:VCALENDAR