BEGIN:VCALENDAR
VERSION:2.0
PRODID:-//Grand Bohemian Charleston - ECPv6.15.20//NONSGML v1.0//EN
CALSCALE:GREGORIAN
METHOD:PUBLISH
X-WR-CALNAME:Grand Bohemian Charleston
X-ORIGINAL-URL:https://www.kesslercollection.com/bohemian-charleston
X-WR-CALDESC:Events for Grand Bohemian Charleston
REFRESH-INTERVAL;VALUE=DURATION:PT1H
X-Robots-Tag:noindex
X-PUBLISHED-TTL:PT1H
BEGIN:VTIMEZONE
TZID:America/New_York
BEGIN:DAYLIGHT
TZOFFSETFROM:-0500
TZOFFSETTO:-0400
TZNAME:EDT
DTSTART:20250309T070000
END:DAYLIGHT
BEGIN:STANDARD
TZOFFSETFROM:-0400
TZOFFSETTO:-0500
TZNAME:EST
DTSTART:20251102T060000
END:STANDARD
BEGIN:DAYLIGHT
TZOFFSETFROM:-0500
TZOFFSETTO:-0400
TZNAME:EDT
DTSTART:20260308T070000
END:DAYLIGHT
BEGIN:STANDARD
TZOFFSETFROM:-0400
TZOFFSETTO:-0500
TZNAME:EST
DTSTART:20261101T060000
END:STANDARD
BEGIN:DAYLIGHT
TZOFFSETFROM:-0500
TZOFFSETTO:-0400
TZNAME:EDT
DTSTART:20270314T070000
END:DAYLIGHT
BEGIN:STANDARD
TZOFFSETFROM:-0400
TZOFFSETTO:-0500
TZNAME:EST
DTSTART:20271107T060000
END:STANDARD
END:VTIMEZONE
BEGIN:VEVENT
DTSTART;TZID=America/New_York:20260430T160000
DTEND;TZID=America/New_York:20260430T173000
DTSTAMP:20260425T182431
CREATED:20250327T144712Z
LAST-MODIFIED:20251013T183244Z
UID:10004053-1777564800-1777570200@www.kesslercollection.com
SUMMARY:Cocktail Classes
DESCRIPTION:Elevate your mixology skills at Élevé every Thursday – Saturday from 4:00 PM – 5:30 PM. Explore the intricacies of mixology with guided tastings of classic cocktails and the creation of your own masterpiece. \n$109.69 per person.
URL:https://www.kesslercollection.com/bohemian-charleston/event/cocktail-class-at-eleve-2/2026-04-30/
LOCATION:Élevé\, 55 Wentworth St.\, Charleston\, SC\, 29401\, United States
ATTACH;FMTTYPE=image/jpeg:https://www.kesslercollection.com/bohemian-charleston/wp-content/uploads/sites/8/2024/03/10112022_Eleve_Andrew-Cebulka-16826-scaled.jpg
END:VEVENT
BEGIN:VEVENT
DTSTART;TZID=America/New_York:20260501T160000
DTEND;TZID=America/New_York:20260501T173000
DTSTAMP:20260425T182431
CREATED:20250327T144712Z
LAST-MODIFIED:20251013T183244Z
UID:10004054-1777651200-1777656600@www.kesslercollection.com
SUMMARY:Cocktail Classes
DESCRIPTION:Elevate your mixology skills at Élevé every Thursday – Saturday from 4:00 PM – 5:30 PM. Explore the intricacies of mixology with guided tastings of classic cocktails and the creation of your own masterpiece. \n$109.69 per person.
URL:https://www.kesslercollection.com/bohemian-charleston/event/cocktail-class-at-eleve-2/2026-05-01/
LOCATION:Élevé\, 55 Wentworth St.\, Charleston\, SC\, 29401\, United States
ATTACH;FMTTYPE=image/jpeg:https://www.kesslercollection.com/bohemian-charleston/wp-content/uploads/sites/8/2024/03/10112022_Eleve_Andrew-Cebulka-16826-scaled.jpg
END:VEVENT
BEGIN:VEVENT
DTSTART;TZID=America/New_York:20260502T160000
DTEND;TZID=America/New_York:20260502T173000
DTSTAMP:20260425T182431
CREATED:20250327T144712Z
LAST-MODIFIED:20251013T183244Z
UID:10004055-1777737600-1777743000@www.kesslercollection.com
SUMMARY:Cocktail Classes
DESCRIPTION:Elevate your mixology skills at Élevé every Thursday – Saturday from 4:00 PM – 5:30 PM. Explore the intricacies of mixology with guided tastings of classic cocktails and the creation of your own masterpiece. \n$109.69 per person.
URL:https://www.kesslercollection.com/bohemian-charleston/event/cocktail-class-at-eleve-2/2026-05-02/
LOCATION:Élevé\, 55 Wentworth St.\, Charleston\, SC\, 29401\, United States
ATTACH;FMTTYPE=image/jpeg:https://www.kesslercollection.com/bohemian-charleston/wp-content/uploads/sites/8/2024/03/10112022_Eleve_Andrew-Cebulka-16826-scaled.jpg
END:VEVENT
BEGIN:VEVENT
DTSTART;TZID=America/New_York:20260507T160000
DTEND;TZID=America/New_York:20260507T173000
DTSTAMP:20260425T182431
CREATED:20250327T144712Z
LAST-MODIFIED:20251013T183244Z
UID:10004056-1778169600-1778175000@www.kesslercollection.com
SUMMARY:Cocktail Classes
DESCRIPTION:Elevate your mixology skills at Élevé every Thursday – Saturday from 4:00 PM – 5:30 PM. Explore the intricacies of mixology with guided tastings of classic cocktails and the creation of your own masterpiece. \n$109.69 per person.
URL:https://www.kesslercollection.com/bohemian-charleston/event/cocktail-class-at-eleve-2/2026-05-07/
LOCATION:Élevé\, 55 Wentworth St.\, Charleston\, SC\, 29401\, United States
ATTACH;FMTTYPE=image/jpeg:https://www.kesslercollection.com/bohemian-charleston/wp-content/uploads/sites/8/2024/03/10112022_Eleve_Andrew-Cebulka-16826-scaled.jpg
END:VEVENT
BEGIN:VEVENT
DTSTART;TZID=America/New_York:20260508T160000
DTEND;TZID=America/New_York:20260508T173000
DTSTAMP:20260425T182431
CREATED:20250327T144712Z
LAST-MODIFIED:20251013T183244Z
UID:10004057-1778256000-1778261400@www.kesslercollection.com
SUMMARY:Cocktail Classes
DESCRIPTION:Elevate your mixology skills at Élevé every Thursday – Saturday from 4:00 PM – 5:30 PM. Explore the intricacies of mixology with guided tastings of classic cocktails and the creation of your own masterpiece. \n$109.69 per person.
URL:https://www.kesslercollection.com/bohemian-charleston/event/cocktail-class-at-eleve-2/2026-05-08/
LOCATION:Élevé\, 55 Wentworth St.\, Charleston\, SC\, 29401\, United States
ATTACH;FMTTYPE=image/jpeg:https://www.kesslercollection.com/bohemian-charleston/wp-content/uploads/sites/8/2024/03/10112022_Eleve_Andrew-Cebulka-16826-scaled.jpg
END:VEVENT
BEGIN:VEVENT
DTSTART;TZID=America/New_York:20260509T160000
DTEND;TZID=America/New_York:20260509T173000
DTSTAMP:20260425T182431
CREATED:20250327T144712Z
LAST-MODIFIED:20251013T183244Z
UID:10004058-1778342400-1778347800@www.kesslercollection.com
SUMMARY:Cocktail Classes
DESCRIPTION:Elevate your mixology skills at Élevé every Thursday – Saturday from 4:00 PM – 5:30 PM. Explore the intricacies of mixology with guided tastings of classic cocktails and the creation of your own masterpiece. \n$109.69 per person.
URL:https://www.kesslercollection.com/bohemian-charleston/event/cocktail-class-at-eleve-2/2026-05-09/
LOCATION:Élevé\, 55 Wentworth St.\, Charleston\, SC\, 29401\, United States
ATTACH;FMTTYPE=image/jpeg:https://www.kesslercollection.com/bohemian-charleston/wp-content/uploads/sites/8/2024/03/10112022_Eleve_Andrew-Cebulka-16826-scaled.jpg
END:VEVENT
BEGIN:VEVENT
DTSTART;TZID=America/New_York:20260514T160000
DTEND;TZID=America/New_York:20260514T173000
DTSTAMP:20260425T182431
CREATED:20250327T144712Z
LAST-MODIFIED:20251013T183244Z
UID:10004059-1778774400-1778779800@www.kesslercollection.com
SUMMARY:Cocktail Classes
DESCRIPTION:Elevate your mixology skills at Élevé every Thursday – Saturday from 4:00 PM – 5:30 PM. Explore the intricacies of mixology with guided tastings of classic cocktails and the creation of your own masterpiece. \n$109.69 per person.
URL:https://www.kesslercollection.com/bohemian-charleston/event/cocktail-class-at-eleve-2/2026-05-14/
LOCATION:Élevé\, 55 Wentworth St.\, Charleston\, SC\, 29401\, United States
ATTACH;FMTTYPE=image/jpeg:https://www.kesslercollection.com/bohemian-charleston/wp-content/uploads/sites/8/2024/03/10112022_Eleve_Andrew-Cebulka-16826-scaled.jpg
END:VEVENT
BEGIN:VEVENT
DTSTART;TZID=America/New_York:20260515T160000
DTEND;TZID=America/New_York:20260515T173000
DTSTAMP:20260425T182431
CREATED:20250327T144712Z
LAST-MODIFIED:20251013T183244Z
UID:10004060-1778860800-1778866200@www.kesslercollection.com
SUMMARY:Cocktail Classes
DESCRIPTION:Elevate your mixology skills at Élevé every Thursday – Saturday from 4:00 PM – 5:30 PM. Explore the intricacies of mixology with guided tastings of classic cocktails and the creation of your own masterpiece. \n$109.69 per person.
URL:https://www.kesslercollection.com/bohemian-charleston/event/cocktail-class-at-eleve-2/2026-05-15/
LOCATION:Élevé\, 55 Wentworth St.\, Charleston\, SC\, 29401\, United States
ATTACH;FMTTYPE=image/jpeg:https://www.kesslercollection.com/bohemian-charleston/wp-content/uploads/sites/8/2024/03/10112022_Eleve_Andrew-Cebulka-16826-scaled.jpg
END:VEVENT
BEGIN:VEVENT
DTSTART;TZID=America/New_York:20260516T160000
DTEND;TZID=America/New_York:20260516T173000
DTSTAMP:20260425T182431
CREATED:20250327T144712Z
LAST-MODIFIED:20251013T183244Z
UID:10004061-1778947200-1778952600@www.kesslercollection.com
SUMMARY:Cocktail Classes
DESCRIPTION:Elevate your mixology skills at Élevé every Thursday – Saturday from 4:00 PM – 5:30 PM. Explore the intricacies of mixology with guided tastings of classic cocktails and the creation of your own masterpiece. \n$109.69 per person.
URL:https://www.kesslercollection.com/bohemian-charleston/event/cocktail-class-at-eleve-2/2026-05-16/
LOCATION:Élevé\, 55 Wentworth St.\, Charleston\, SC\, 29401\, United States
ATTACH;FMTTYPE=image/jpeg:https://www.kesslercollection.com/bohemian-charleston/wp-content/uploads/sites/8/2024/03/10112022_Eleve_Andrew-Cebulka-16826-scaled.jpg
END:VEVENT
BEGIN:VEVENT
DTSTART;TZID=America/New_York:20260521T160000
DTEND;TZID=America/New_York:20260521T173000
DTSTAMP:20260425T182431
CREATED:20250327T144712Z
LAST-MODIFIED:20251013T183244Z
UID:10004062-1779379200-1779384600@www.kesslercollection.com
SUMMARY:Cocktail Classes
DESCRIPTION:Elevate your mixology skills at Élevé every Thursday – Saturday from 4:00 PM – 5:30 PM. Explore the intricacies of mixology with guided tastings of classic cocktails and the creation of your own masterpiece. \n$109.69 per person.
URL:https://www.kesslercollection.com/bohemian-charleston/event/cocktail-class-at-eleve-2/2026-05-21/
LOCATION:Élevé\, 55 Wentworth St.\, Charleston\, SC\, 29401\, United States
ATTACH;FMTTYPE=image/jpeg:https://www.kesslercollection.com/bohemian-charleston/wp-content/uploads/sites/8/2024/03/10112022_Eleve_Andrew-Cebulka-16826-scaled.jpg
END:VEVENT
BEGIN:VEVENT
DTSTART;TZID=America/New_York:20260522T160000
DTEND;TZID=America/New_York:20260522T173000
DTSTAMP:20260425T182431
CREATED:20250327T144712Z
LAST-MODIFIED:20251013T183244Z
UID:10004063-1779465600-1779471000@www.kesslercollection.com
SUMMARY:Cocktail Classes
DESCRIPTION:Elevate your mixology skills at Élevé every Thursday – Saturday from 4:00 PM – 5:30 PM. Explore the intricacies of mixology with guided tastings of classic cocktails and the creation of your own masterpiece. \n$109.69 per person.
URL:https://www.kesslercollection.com/bohemian-charleston/event/cocktail-class-at-eleve-2/2026-05-22/
LOCATION:Élevé\, 55 Wentworth St.\, Charleston\, SC\, 29401\, United States
ATTACH;FMTTYPE=image/jpeg:https://www.kesslercollection.com/bohemian-charleston/wp-content/uploads/sites/8/2024/03/10112022_Eleve_Andrew-Cebulka-16826-scaled.jpg
END:VEVENT
BEGIN:VEVENT
DTSTART;TZID=America/New_York:20260523T160000
DTEND;TZID=America/New_York:20260523T173000
DTSTAMP:20260425T182431
CREATED:20250327T144712Z
LAST-MODIFIED:20251013T183244Z
UID:10004064-1779552000-1779557400@www.kesslercollection.com
SUMMARY:Cocktail Classes
DESCRIPTION:Elevate your mixology skills at Élevé every Thursday – Saturday from 4:00 PM – 5:30 PM. Explore the intricacies of mixology with guided tastings of classic cocktails and the creation of your own masterpiece. \n$109.69 per person.
URL:https://www.kesslercollection.com/bohemian-charleston/event/cocktail-class-at-eleve-2/2026-05-23/
LOCATION:Élevé\, 55 Wentworth St.\, Charleston\, SC\, 29401\, United States
ATTACH;FMTTYPE=image/jpeg:https://www.kesslercollection.com/bohemian-charleston/wp-content/uploads/sites/8/2024/03/10112022_Eleve_Andrew-Cebulka-16826-scaled.jpg
END:VEVENT
BEGIN:VEVENT
DTSTART;TZID=America/New_York:20260528T160000
DTEND;TZID=America/New_York:20260528T173000
DTSTAMP:20260425T182431
CREATED:20250327T144712Z
LAST-MODIFIED:20251013T183244Z
UID:10004065-1779984000-1779989400@www.kesslercollection.com
SUMMARY:Cocktail Classes
DESCRIPTION:Elevate your mixology skills at Élevé every Thursday – Saturday from 4:00 PM – 5:30 PM. Explore the intricacies of mixology with guided tastings of classic cocktails and the creation of your own masterpiece. \n$109.69 per person.
URL:https://www.kesslercollection.com/bohemian-charleston/event/cocktail-class-at-eleve-2/2026-05-28/
LOCATION:Élevé\, 55 Wentworth St.\, Charleston\, SC\, 29401\, United States
ATTACH;FMTTYPE=image/jpeg:https://www.kesslercollection.com/bohemian-charleston/wp-content/uploads/sites/8/2024/03/10112022_Eleve_Andrew-Cebulka-16826-scaled.jpg
END:VEVENT
BEGIN:VEVENT
DTSTART;TZID=America/New_York:20260529T160000
DTEND;TZID=America/New_York:20260529T173000
DTSTAMP:20260425T182431
CREATED:20250327T144712Z
LAST-MODIFIED:20251013T183244Z
UID:10004066-1780070400-1780075800@www.kesslercollection.com
SUMMARY:Cocktail Classes
DESCRIPTION:Elevate your mixology skills at Élevé every Thursday – Saturday from 4:00 PM – 5:30 PM. Explore the intricacies of mixology with guided tastings of classic cocktails and the creation of your own masterpiece. \n$109.69 per person.
URL:https://www.kesslercollection.com/bohemian-charleston/event/cocktail-class-at-eleve-2/2026-05-29/
LOCATION:Élevé\, 55 Wentworth St.\, Charleston\, SC\, 29401\, United States
ATTACH;FMTTYPE=image/jpeg:https://www.kesslercollection.com/bohemian-charleston/wp-content/uploads/sites/8/2024/03/10112022_Eleve_Andrew-Cebulka-16826-scaled.jpg
END:VEVENT
BEGIN:VEVENT
DTSTART;TZID=America/New_York:20260530T160000
DTEND;TZID=America/New_York:20260530T173000
DTSTAMP:20260425T182431
CREATED:20250327T144712Z
LAST-MODIFIED:20251013T183244Z
UID:10004067-1780156800-1780162200@www.kesslercollection.com
SUMMARY:Cocktail Classes
DESCRIPTION:Elevate your mixology skills at Élevé every Thursday – Saturday from 4:00 PM – 5:30 PM. Explore the intricacies of mixology with guided tastings of classic cocktails and the creation of your own masterpiece. \n$109.69 per person.
URL:https://www.kesslercollection.com/bohemian-charleston/event/cocktail-class-at-eleve-2/2026-05-30/
LOCATION:Élevé\, 55 Wentworth St.\, Charleston\, SC\, 29401\, United States
ATTACH;FMTTYPE=image/jpeg:https://www.kesslercollection.com/bohemian-charleston/wp-content/uploads/sites/8/2024/03/10112022_Eleve_Andrew-Cebulka-16826-scaled.jpg
END:VEVENT
BEGIN:VEVENT
DTSTART;TZID=America/New_York:20260604T160000
DTEND;TZID=America/New_York:20260604T173000
DTSTAMP:20260425T182431
CREATED:20250327T144712Z
LAST-MODIFIED:20251013T183244Z
UID:10004068-1780588800-1780594200@www.kesslercollection.com
SUMMARY:Cocktail Classes
DESCRIPTION:Elevate your mixology skills at Élevé every Thursday – Saturday from 4:00 PM – 5:30 PM. Explore the intricacies of mixology with guided tastings of classic cocktails and the creation of your own masterpiece. \n$109.69 per person.
URL:https://www.kesslercollection.com/bohemian-charleston/event/cocktail-class-at-eleve-2/2026-06-04/
LOCATION:Élevé\, 55 Wentworth St.\, Charleston\, SC\, 29401\, United States
ATTACH;FMTTYPE=image/jpeg:https://www.kesslercollection.com/bohemian-charleston/wp-content/uploads/sites/8/2024/03/10112022_Eleve_Andrew-Cebulka-16826-scaled.jpg
END:VEVENT
BEGIN:VEVENT
DTSTART;TZID=America/New_York:20260605T160000
DTEND;TZID=America/New_York:20260605T173000
DTSTAMP:20260425T182431
CREATED:20250327T144712Z
LAST-MODIFIED:20251013T183244Z
UID:10004069-1780675200-1780680600@www.kesslercollection.com
SUMMARY:Cocktail Classes
DESCRIPTION:Elevate your mixology skills at Élevé every Thursday – Saturday from 4:00 PM – 5:30 PM. Explore the intricacies of mixology with guided tastings of classic cocktails and the creation of your own masterpiece. \n$109.69 per person.
URL:https://www.kesslercollection.com/bohemian-charleston/event/cocktail-class-at-eleve-2/2026-06-05/
LOCATION:Élevé\, 55 Wentworth St.\, Charleston\, SC\, 29401\, United States
ATTACH;FMTTYPE=image/jpeg:https://www.kesslercollection.com/bohemian-charleston/wp-content/uploads/sites/8/2024/03/10112022_Eleve_Andrew-Cebulka-16826-scaled.jpg
END:VEVENT
BEGIN:VEVENT
DTSTART;TZID=America/New_York:20260606T160000
DTEND;TZID=America/New_York:20260606T173000
DTSTAMP:20260425T182431
CREATED:20250327T144712Z
LAST-MODIFIED:20251013T183244Z
UID:10004070-1780761600-1780767000@www.kesslercollection.com
SUMMARY:Cocktail Classes
DESCRIPTION:Elevate your mixology skills at Élevé every Thursday – Saturday from 4:00 PM – 5:30 PM. Explore the intricacies of mixology with guided tastings of classic cocktails and the creation of your own masterpiece. \n$109.69 per person.
URL:https://www.kesslercollection.com/bohemian-charleston/event/cocktail-class-at-eleve-2/2026-06-06/
LOCATION:Élevé\, 55 Wentworth St.\, Charleston\, SC\, 29401\, United States
ATTACH;FMTTYPE=image/jpeg:https://www.kesslercollection.com/bohemian-charleston/wp-content/uploads/sites/8/2024/03/10112022_Eleve_Andrew-Cebulka-16826-scaled.jpg
END:VEVENT
BEGIN:VEVENT
DTSTART;TZID=America/New_York:20260611T160000
DTEND;TZID=America/New_York:20260611T173000
DTSTAMP:20260425T182431
CREATED:20250327T144712Z
LAST-MODIFIED:20251013T183244Z
UID:10004071-1781193600-1781199000@www.kesslercollection.com
SUMMARY:Cocktail Classes
DESCRIPTION:Elevate your mixology skills at Élevé every Thursday – Saturday from 4:00 PM – 5:30 PM. Explore the intricacies of mixology with guided tastings of classic cocktails and the creation of your own masterpiece. \n$109.69 per person.
URL:https://www.kesslercollection.com/bohemian-charleston/event/cocktail-class-at-eleve-2/2026-06-11/
LOCATION:Élevé\, 55 Wentworth St.\, Charleston\, SC\, 29401\, United States
ATTACH;FMTTYPE=image/jpeg:https://www.kesslercollection.com/bohemian-charleston/wp-content/uploads/sites/8/2024/03/10112022_Eleve_Andrew-Cebulka-16826-scaled.jpg
END:VEVENT
BEGIN:VEVENT
DTSTART;TZID=America/New_York:20260612T160000
DTEND;TZID=America/New_York:20260612T173000
DTSTAMP:20260425T182431
CREATED:20250327T144712Z
LAST-MODIFIED:20251013T183244Z
UID:10004072-1781280000-1781285400@www.kesslercollection.com
SUMMARY:Cocktail Classes
DESCRIPTION:Elevate your mixology skills at Élevé every Thursday – Saturday from 4:00 PM – 5:30 PM. Explore the intricacies of mixology with guided tastings of classic cocktails and the creation of your own masterpiece. \n$109.69 per person.
URL:https://www.kesslercollection.com/bohemian-charleston/event/cocktail-class-at-eleve-2/2026-06-12/
LOCATION:Élevé\, 55 Wentworth St.\, Charleston\, SC\, 29401\, United States
ATTACH;FMTTYPE=image/jpeg:https://www.kesslercollection.com/bohemian-charleston/wp-content/uploads/sites/8/2024/03/10112022_Eleve_Andrew-Cebulka-16826-scaled.jpg
END:VEVENT
BEGIN:VEVENT
DTSTART;TZID=America/New_York:20260613T160000
DTEND;TZID=America/New_York:20260613T173000
DTSTAMP:20260425T182432
CREATED:20250327T144712Z
LAST-MODIFIED:20251013T183244Z
UID:10004073-1781366400-1781371800@www.kesslercollection.com
SUMMARY:Cocktail Classes
DESCRIPTION:Elevate your mixology skills at Élevé every Thursday – Saturday from 4:00 PM – 5:30 PM. Explore the intricacies of mixology with guided tastings of classic cocktails and the creation of your own masterpiece. \n$109.69 per person.
URL:https://www.kesslercollection.com/bohemian-charleston/event/cocktail-class-at-eleve-2/2026-06-13/
LOCATION:Élevé\, 55 Wentworth St.\, Charleston\, SC\, 29401\, United States
ATTACH;FMTTYPE=image/jpeg:https://www.kesslercollection.com/bohemian-charleston/wp-content/uploads/sites/8/2024/03/10112022_Eleve_Andrew-Cebulka-16826-scaled.jpg
END:VEVENT
BEGIN:VEVENT
DTSTART;TZID=America/New_York:20260618T160000
DTEND;TZID=America/New_York:20260618T173000
DTSTAMP:20260425T182432
CREATED:20250327T144712Z
LAST-MODIFIED:20251013T183244Z
UID:10004074-1781798400-1781803800@www.kesslercollection.com
SUMMARY:Cocktail Classes
DESCRIPTION:Elevate your mixology skills at Élevé every Thursday – Saturday from 4:00 PM – 5:30 PM. Explore the intricacies of mixology with guided tastings of classic cocktails and the creation of your own masterpiece. \n$109.69 per person.
URL:https://www.kesslercollection.com/bohemian-charleston/event/cocktail-class-at-eleve-2/2026-06-18/
LOCATION:Élevé\, 55 Wentworth St.\, Charleston\, SC\, 29401\, United States
ATTACH;FMTTYPE=image/jpeg:https://www.kesslercollection.com/bohemian-charleston/wp-content/uploads/sites/8/2024/03/10112022_Eleve_Andrew-Cebulka-16826-scaled.jpg
END:VEVENT
BEGIN:VEVENT
DTSTART;TZID=America/New_York:20260619T160000
DTEND;TZID=America/New_York:20260619T173000
DTSTAMP:20260425T182432
CREATED:20250327T144712Z
LAST-MODIFIED:20251013T183244Z
UID:10004075-1781884800-1781890200@www.kesslercollection.com
SUMMARY:Cocktail Classes
DESCRIPTION:Elevate your mixology skills at Élevé every Thursday – Saturday from 4:00 PM – 5:30 PM. Explore the intricacies of mixology with guided tastings of classic cocktails and the creation of your own masterpiece. \n$109.69 per person.
URL:https://www.kesslercollection.com/bohemian-charleston/event/cocktail-class-at-eleve-2/2026-06-19/
LOCATION:Élevé\, 55 Wentworth St.\, Charleston\, SC\, 29401\, United States
ATTACH;FMTTYPE=image/jpeg:https://www.kesslercollection.com/bohemian-charleston/wp-content/uploads/sites/8/2024/03/10112022_Eleve_Andrew-Cebulka-16826-scaled.jpg
END:VEVENT
BEGIN:VEVENT
DTSTART;TZID=America/New_York:20260620T160000
DTEND;TZID=America/New_York:20260620T173000
DTSTAMP:20260425T182432
CREATED:20250327T144712Z
LAST-MODIFIED:20251013T183244Z
UID:10004076-1781971200-1781976600@www.kesslercollection.com
SUMMARY:Cocktail Classes
DESCRIPTION:Elevate your mixology skills at Élevé every Thursday – Saturday from 4:00 PM – 5:30 PM. Explore the intricacies of mixology with guided tastings of classic cocktails and the creation of your own masterpiece. \n$109.69 per person.
URL:https://www.kesslercollection.com/bohemian-charleston/event/cocktail-class-at-eleve-2/2026-06-20/
LOCATION:Élevé\, 55 Wentworth St.\, Charleston\, SC\, 29401\, United States
ATTACH;FMTTYPE=image/jpeg:https://www.kesslercollection.com/bohemian-charleston/wp-content/uploads/sites/8/2024/03/10112022_Eleve_Andrew-Cebulka-16826-scaled.jpg
END:VEVENT
BEGIN:VEVENT
DTSTART;TZID=America/New_York:20260625T160000
DTEND;TZID=America/New_York:20260625T173000
DTSTAMP:20260425T182432
CREATED:20250327T144712Z
LAST-MODIFIED:20251013T183244Z
UID:10004077-1782403200-1782408600@www.kesslercollection.com
SUMMARY:Cocktail Classes
DESCRIPTION:Elevate your mixology skills at Élevé every Thursday – Saturday from 4:00 PM – 5:30 PM. Explore the intricacies of mixology with guided tastings of classic cocktails and the creation of your own masterpiece. \n$109.69 per person.
URL:https://www.kesslercollection.com/bohemian-charleston/event/cocktail-class-at-eleve-2/2026-06-25/
LOCATION:Élevé\, 55 Wentworth St.\, Charleston\, SC\, 29401\, United States
ATTACH;FMTTYPE=image/jpeg:https://www.kesslercollection.com/bohemian-charleston/wp-content/uploads/sites/8/2024/03/10112022_Eleve_Andrew-Cebulka-16826-scaled.jpg
END:VEVENT
BEGIN:VEVENT
DTSTART;TZID=America/New_York:20260626T160000
DTEND;TZID=America/New_York:20260626T173000
DTSTAMP:20260425T182432
CREATED:20250327T144712Z
LAST-MODIFIED:20251013T183244Z
UID:10004078-1782489600-1782495000@www.kesslercollection.com
SUMMARY:Cocktail Classes
DESCRIPTION:Elevate your mixology skills at Élevé every Thursday – Saturday from 4:00 PM – 5:30 PM. Explore the intricacies of mixology with guided tastings of classic cocktails and the creation of your own masterpiece. \n$109.69 per person.
URL:https://www.kesslercollection.com/bohemian-charleston/event/cocktail-class-at-eleve-2/2026-06-26/
LOCATION:Élevé\, 55 Wentworth St.\, Charleston\, SC\, 29401\, United States
ATTACH;FMTTYPE=image/jpeg:https://www.kesslercollection.com/bohemian-charleston/wp-content/uploads/sites/8/2024/03/10112022_Eleve_Andrew-Cebulka-16826-scaled.jpg
END:VEVENT
BEGIN:VEVENT
DTSTART;TZID=America/New_York:20260627T160000
DTEND;TZID=America/New_York:20260627T173000
DTSTAMP:20260425T182432
CREATED:20250327T144712Z
LAST-MODIFIED:20251013T183244Z
UID:10004079-1782576000-1782581400@www.kesslercollection.com
SUMMARY:Cocktail Classes
DESCRIPTION:Elevate your mixology skills at Élevé every Thursday – Saturday from 4:00 PM – 5:30 PM. Explore the intricacies of mixology with guided tastings of classic cocktails and the creation of your own masterpiece. \n$109.69 per person.
URL:https://www.kesslercollection.com/bohemian-charleston/event/cocktail-class-at-eleve-2/2026-06-27/
LOCATION:Élevé\, 55 Wentworth St.\, Charleston\, SC\, 29401\, United States
ATTACH;FMTTYPE=image/jpeg:https://www.kesslercollection.com/bohemian-charleston/wp-content/uploads/sites/8/2024/03/10112022_Eleve_Andrew-Cebulka-16826-scaled.jpg
END:VEVENT
BEGIN:VEVENT
DTSTART;TZID=America/New_York:20260702T160000
DTEND;TZID=America/New_York:20260702T173000
DTSTAMP:20260425T182432
CREATED:20250327T144712Z
LAST-MODIFIED:20251013T183244Z
UID:10004080-1783008000-1783013400@www.kesslercollection.com
SUMMARY:Cocktail Classes
DESCRIPTION:Elevate your mixology skills at Élevé every Thursday – Saturday from 4:00 PM – 5:30 PM. Explore the intricacies of mixology with guided tastings of classic cocktails and the creation of your own masterpiece. \n$109.69 per person.
URL:https://www.kesslercollection.com/bohemian-charleston/event/cocktail-class-at-eleve-2/2026-07-02/
LOCATION:Élevé\, 55 Wentworth St.\, Charleston\, SC\, 29401\, United States
ATTACH;FMTTYPE=image/jpeg:https://www.kesslercollection.com/bohemian-charleston/wp-content/uploads/sites/8/2024/03/10112022_Eleve_Andrew-Cebulka-16826-scaled.jpg
END:VEVENT
BEGIN:VEVENT
DTSTART;TZID=America/New_York:20260703T160000
DTEND;TZID=America/New_York:20260703T173000
DTSTAMP:20260425T182432
CREATED:20250327T144712Z
LAST-MODIFIED:20251013T183244Z
UID:10004081-1783094400-1783099800@www.kesslercollection.com
SUMMARY:Cocktail Classes
DESCRIPTION:Elevate your mixology skills at Élevé every Thursday – Saturday from 4:00 PM – 5:30 PM. Explore the intricacies of mixology with guided tastings of classic cocktails and the creation of your own masterpiece. \n$109.69 per person.
URL:https://www.kesslercollection.com/bohemian-charleston/event/cocktail-class-at-eleve-2/2026-07-03/
LOCATION:Élevé\, 55 Wentworth St.\, Charleston\, SC\, 29401\, United States
ATTACH;FMTTYPE=image/jpeg:https://www.kesslercollection.com/bohemian-charleston/wp-content/uploads/sites/8/2024/03/10112022_Eleve_Andrew-Cebulka-16826-scaled.jpg
END:VEVENT
BEGIN:VEVENT
DTSTART;TZID=America/New_York:20260704T160000
DTEND;TZID=America/New_York:20260704T173000
DTSTAMP:20260425T182432
CREATED:20250327T144712Z
LAST-MODIFIED:20251013T183244Z
UID:10004082-1783180800-1783186200@www.kesslercollection.com
SUMMARY:Cocktail Classes
DESCRIPTION:Elevate your mixology skills at Élevé every Thursday – Saturday from 4:00 PM – 5:30 PM. Explore the intricacies of mixology with guided tastings of classic cocktails and the creation of your own masterpiece. \n$109.69 per person.
URL:https://www.kesslercollection.com/bohemian-charleston/event/cocktail-class-at-eleve-2/2026-07-04/
LOCATION:Élevé\, 55 Wentworth St.\, Charleston\, SC\, 29401\, United States
ATTACH;FMTTYPE=image/jpeg:https://www.kesslercollection.com/bohemian-charleston/wp-content/uploads/sites/8/2024/03/10112022_Eleve_Andrew-Cebulka-16826-scaled.jpg
END:VEVENT
END:VCALENDAR