BEGIN:VCALENDAR
VERSION:2.0
PRODID:-//Grand Bohemian Charleston - ECPv6.15.20//NONSGML v1.0//EN
CALSCALE:GREGORIAN
METHOD:PUBLISH
X-ORIGINAL-URL:https://www.kesslercollection.com/bohemian-charleston
X-WR-CALDESC:Events for Grand Bohemian Charleston
REFRESH-INTERVAL;VALUE=DURATION:PT1H
X-Robots-Tag:noindex
X-PUBLISHED-TTL:PT1H
BEGIN:VTIMEZONE
TZID:America/New_York
BEGIN:DAYLIGHT
TZOFFSETFROM:-0500
TZOFFSETTO:-0400
TZNAME:EDT
DTSTART:20230312T070000
END:DAYLIGHT
BEGIN:STANDARD
TZOFFSETFROM:-0400
TZOFFSETTO:-0500
TZNAME:EST
DTSTART:20231105T060000
END:STANDARD
BEGIN:DAYLIGHT
TZOFFSETFROM:-0500
TZOFFSETTO:-0400
TZNAME:EDT
DTSTART:20240310T070000
END:DAYLIGHT
BEGIN:STANDARD
TZOFFSETFROM:-0400
TZOFFSETTO:-0500
TZNAME:EST
DTSTART:20241103T060000
END:STANDARD
BEGIN:DAYLIGHT
TZOFFSETFROM:-0500
TZOFFSETTO:-0400
TZNAME:EDT
DTSTART:20250309T070000
END:DAYLIGHT
BEGIN:STANDARD
TZOFFSETFROM:-0400
TZOFFSETTO:-0500
TZNAME:EST
DTSTART:20251102T060000
END:STANDARD
END:VTIMEZONE
BEGIN:VEVENT
DTSTART;TZID=America/New_York:20241004T173000
DTEND;TZID=America/New_York:20241004T203000
DTSTAMP:20260423T161839
CREATED:20240417T131012Z
LAST-MODIFIED:20241120T142322Z
UID:10003099-1728063000-1728073800@www.kesslercollection.com
SUMMARY:Live Music at the Grand Bohemian Wine Bar
DESCRIPTION:Discover live music and a world of flavor at the Grand Bohemian Wine Bar every Thursday – Saturday from 5:30 PM – 8:30 PM. Explore a diverse selection of wines from around the world\, and indulge in delectable bites promised to satisfy your cravings.
URL:https://www.kesslercollection.com/bohemian-charleston/event/live-music-at-the-grand-bohemian-wine-bar/2024-10-04/
LOCATION:Grand Bohemian Wine Bar\, 55 Wentworth St.\, Charleston\, SC\, 29401\, United States
ATTACH;FMTTYPE=image/jpeg:https://www.kesslercollection.com/bohemian-charleston/wp-content/uploads/sites/8/2024/04/AK_CHSAK_WineTasting_Room-1-scaled.jpg
END:VEVENT
BEGIN:VEVENT
DTSTART;TZID=America/New_York:20241005T140000
DTEND;TZID=America/New_York:20241005T153000
DTSTAMP:20260423T161839
CREATED:20240621T171817Z
LAST-MODIFIED:20251013T183556Z
UID:10002991-1728136800-1728142200@www.kesslercollection.com
SUMMARY:Wine Blending
DESCRIPTION:Looking for the perfect date night\, business\, or family gathering? Discover our Wine Blending class from 2:00 PM – 3:30 PM every Friday – Sunday at the Grand Bohemian Wine Bar for a hands-on wine adventure to discover the art of blending your ideal glass. Enjoy tastings\, learn about winemaking history\, and leave with a personalized bottle label.
URL:https://www.kesslercollection.com/bohemian-charleston/event/wine-blending-3/2024-10-05/
LOCATION:Grand Bohemian Wine Bar\, 55 Wentworth St.\, Charleston\, SC\, 29401\, United States
ATTACH;FMTTYPE=image/jpeg:https://www.kesslercollection.com/bohemian-charleston/wp-content/uploads/sites/8/2023/10/AK_BHMAG_GrandBohemianMountainBrook_KG-120.jpg
END:VEVENT
BEGIN:VEVENT
DTSTART;TZID=America/New_York:20241005T160000
DTEND;TZID=America/New_York:20241005T173000
DTSTAMP:20260423T161839
CREATED:20240307T144444Z
LAST-MODIFIED:20250327T143520Z
UID:10003115-1728144000-1728149400@www.kesslercollection.com
SUMMARY:Cocktail Classes
DESCRIPTION:Elevate your mixology skills at Élevé every Thursday – Saturday from 4:00 PM – 5:30 PM. Explore the intricacies of mixology with guided tastings of classic cocktails and the creation of your own masterpiece. \n$109.69 per person.
URL:https://www.kesslercollection.com/bohemian-charleston/event/cocktail-class-at-eleve/2024-10-05/
LOCATION:Élevé\, 55 Wentworth St.\, Charleston\, SC\, 29401\, United States
ATTACH;FMTTYPE=image/jpeg:https://www.kesslercollection.com/bohemian-charleston/wp-content/uploads/sites/8/2024/03/10112022_Eleve_Andrew-Cebulka-16826-scaled.jpg
END:VEVENT
BEGIN:VEVENT
DTSTART;TZID=America/New_York:20241005T173000
DTEND;TZID=America/New_York:20241005T203000
DTSTAMP:20260423T161839
CREATED:20240417T131012Z
LAST-MODIFIED:20241120T142322Z
UID:10003100-1728149400-1728160200@www.kesslercollection.com
SUMMARY:Live Music at the Grand Bohemian Wine Bar
DESCRIPTION:Discover live music and a world of flavor at the Grand Bohemian Wine Bar every Thursday – Saturday from 5:30 PM – 8:30 PM. Explore a diverse selection of wines from around the world\, and indulge in delectable bites promised to satisfy your cravings.
URL:https://www.kesslercollection.com/bohemian-charleston/event/live-music-at-the-grand-bohemian-wine-bar/2024-10-05/
LOCATION:Grand Bohemian Wine Bar\, 55 Wentworth St.\, Charleston\, SC\, 29401\, United States
ATTACH;FMTTYPE=image/jpeg:https://www.kesslercollection.com/bohemian-charleston/wp-content/uploads/sites/8/2024/04/AK_CHSAK_WineTasting_Room-1-scaled.jpg
END:VEVENT
BEGIN:VEVENT
DTSTART;TZID=America/New_York:20241006T140000
DTEND;TZID=America/New_York:20241006T153000
DTSTAMP:20260423T161839
CREATED:20240621T171817Z
LAST-MODIFIED:20251013T183556Z
UID:10002992-1728223200-1728228600@www.kesslercollection.com
SUMMARY:Wine Blending
DESCRIPTION:Looking for the perfect date night\, business\, or family gathering? Discover our Wine Blending class from 2:00 PM – 3:30 PM every Friday – Sunday at the Grand Bohemian Wine Bar for a hands-on wine adventure to discover the art of blending your ideal glass. Enjoy tastings\, learn about winemaking history\, and leave with a personalized bottle label.
URL:https://www.kesslercollection.com/bohemian-charleston/event/wine-blending-3/2024-10-06/
LOCATION:Grand Bohemian Wine Bar\, 55 Wentworth St.\, Charleston\, SC\, 29401\, United States
ATTACH;FMTTYPE=image/jpeg:https://www.kesslercollection.com/bohemian-charleston/wp-content/uploads/sites/8/2023/10/AK_BHMAG_GrandBohemianMountainBrook_KG-120.jpg
END:VEVENT
BEGIN:VEVENT
DTSTART;TZID=America/New_York:20241006T160000
DTEND;TZID=America/New_York:20241006T190000
DTSTAMP:20260423T161839
CREATED:20240516T132600Z
LAST-MODIFIED:20251013T184007Z
UID:10003027-1728230400-1728241200@www.kesslercollection.com
SUMMARY:Live Music at the Grand Bohemian Wine Bar
DESCRIPTION:Discover live music and a world of flavor at the Grand Bohemian Wine Bar every Sunday from 4:00 PM – 7:00 PM. Explore a diverse selection of wines from around the world\, and indulge in delectable bites promised to satisfy your cravings.
URL:https://www.kesslercollection.com/bohemian-charleston/event/live-music-at-the-grand-bohemian-wine-bar-2/2024-10-06/
LOCATION:Grand Bohemian Wine Bar\, 55 Wentworth St.\, Charleston\, SC\, 29401\, United States
ATTACH;FMTTYPE=image/jpeg:https://www.kesslercollection.com/bohemian-charleston/wp-content/uploads/sites/8/2024/04/AK_CHSAK_WineTasting_Room-1-scaled.jpg
END:VEVENT
BEGIN:VEVENT
DTSTART;TZID=America/New_York:20241006T170000
DTEND;TZID=America/New_York:20241006T220000
DTSTAMP:20260423T161839
CREATED:20240828T155130Z
LAST-MODIFIED:20240828T155130Z
UID:10002946-1728234000-1728252000@www.kesslercollection.com
SUMMARY:Élevéted Evenings
DESCRIPTION:Join us every Sunday – Wednesday from 5:00 PM – 10:00 PM at Élevé for an exquisite date-night experience. Élevéte your evening with a special three-course menu for two including a bottle of wine\, two appetizers and entrées\, and a dessert to share for just $59 per person. \nMinimum of 2 guests per experience.
URL:https://www.kesslercollection.com/bohemian-charleston/event/eleveted-evenings/2024-10-06/
LOCATION:Élevé\, 55 Wentworth St.\, Charleston\, SC\, 29401\, United States
ATTACH;FMTTYPE=image/jpeg:https://www.kesslercollection.com/bohemian-charleston/wp-content/uploads/sites/8/2024/08/10132023_ELEVE_Andrew-Cebulka-12757-1-scaled.jpg
END:VEVENT
BEGIN:VEVENT
DTSTART;TZID=America/New_York:20241007T140000
DTEND;TZID=America/New_York:20241007T170000
DTSTAMP:20260423T161839
CREATED:20240130T203624Z
LAST-MODIFIED:20241015T202454Z
UID:10003007-1728309600-1728320400@www.kesslercollection.com
SUMMARY:Happy Hour at Élevé
DESCRIPTION:A beacon for the unexpected and the avant-garde\, visit Élevé for Happy Hour every Monday – Friday from 2:00 PM – 5:00 PM. Experience an elegant rooftop garden and indulge in exclusively priced specialty cocktails\, appetizers\, wine bottles\, and wine-by-the-glass.
URL:https://www.kesslercollection.com/bohemian-charleston/event/happy-hour-at-eleve/2024-10-07/
LOCATION:Élevé\, 55 Wentworth St.\, Charleston\, SC\, 29401\, United States
ATTACH;FMTTYPE=image/jpeg:https://www.kesslercollection.com/bohemian-charleston/wp-content/uploads/sites/8/2024/01/10132023_ELEVE_Andrew-Cebulka-12558-3-1-scaled.jpg
END:VEVENT
BEGIN:VEVENT
DTSTART;TZID=America/New_York:20241007T170000
DTEND;TZID=America/New_York:20241007T220000
DTSTAMP:20260423T161839
CREATED:20240828T155130Z
LAST-MODIFIED:20240828T155130Z
UID:10002947-1728320400-1728338400@www.kesslercollection.com
SUMMARY:Élevéted Evenings
DESCRIPTION:Join us every Sunday – Wednesday from 5:00 PM – 10:00 PM at Élevé for an exquisite date-night experience. Élevéte your evening with a special three-course menu for two including a bottle of wine\, two appetizers and entrées\, and a dessert to share for just $59 per person. \nMinimum of 2 guests per experience.
URL:https://www.kesslercollection.com/bohemian-charleston/event/eleveted-evenings/2024-10-07/
LOCATION:Élevé\, 55 Wentworth St.\, Charleston\, SC\, 29401\, United States
ATTACH;FMTTYPE=image/jpeg:https://www.kesslercollection.com/bohemian-charleston/wp-content/uploads/sites/8/2024/08/10132023_ELEVE_Andrew-Cebulka-12757-1-scaled.jpg
END:VEVENT
BEGIN:VEVENT
DTSTART;TZID=America/New_York:20241008T140000
DTEND;TZID=America/New_York:20241008T170000
DTSTAMP:20260423T161839
CREATED:20240130T203624Z
LAST-MODIFIED:20241015T202454Z
UID:10003008-1728396000-1728406800@www.kesslercollection.com
SUMMARY:Happy Hour at Élevé
DESCRIPTION:A beacon for the unexpected and the avant-garde\, visit Élevé for Happy Hour every Monday – Friday from 2:00 PM – 5:00 PM. Experience an elegant rooftop garden and indulge in exclusively priced specialty cocktails\, appetizers\, wine bottles\, and wine-by-the-glass.
URL:https://www.kesslercollection.com/bohemian-charleston/event/happy-hour-at-eleve/2024-10-08/
LOCATION:Élevé\, 55 Wentworth St.\, Charleston\, SC\, 29401\, United States
ATTACH;FMTTYPE=image/jpeg:https://www.kesslercollection.com/bohemian-charleston/wp-content/uploads/sites/8/2024/01/10132023_ELEVE_Andrew-Cebulka-12558-3-1-scaled.jpg
END:VEVENT
BEGIN:VEVENT
DTSTART;TZID=America/New_York:20241008T170000
DTEND;TZID=America/New_York:20241008T220000
DTSTAMP:20260423T161839
CREATED:20240828T155130Z
LAST-MODIFIED:20240828T155130Z
UID:10002948-1728406800-1728424800@www.kesslercollection.com
SUMMARY:Élevéted Evenings
DESCRIPTION:Join us every Sunday – Wednesday from 5:00 PM – 10:00 PM at Élevé for an exquisite date-night experience. Élevéte your evening with a special three-course menu for two including a bottle of wine\, two appetizers and entrées\, and a dessert to share for just $59 per person. \nMinimum of 2 guests per experience.
URL:https://www.kesslercollection.com/bohemian-charleston/event/eleveted-evenings/2024-10-08/
LOCATION:Élevé\, 55 Wentworth St.\, Charleston\, SC\, 29401\, United States
ATTACH;FMTTYPE=image/jpeg:https://www.kesslercollection.com/bohemian-charleston/wp-content/uploads/sites/8/2024/08/10132023_ELEVE_Andrew-Cebulka-12757-1-scaled.jpg
END:VEVENT
BEGIN:VEVENT
DTSTART;TZID=America/New_York:20241009T140000
DTEND;TZID=America/New_York:20241009T170000
DTSTAMP:20260423T161839
CREATED:20240130T203624Z
LAST-MODIFIED:20241015T202454Z
UID:10003009-1728482400-1728493200@www.kesslercollection.com
SUMMARY:Happy Hour at Élevé
DESCRIPTION:A beacon for the unexpected and the avant-garde\, visit Élevé for Happy Hour every Monday – Friday from 2:00 PM – 5:00 PM. Experience an elegant rooftop garden and indulge in exclusively priced specialty cocktails\, appetizers\, wine bottles\, and wine-by-the-glass.
URL:https://www.kesslercollection.com/bohemian-charleston/event/happy-hour-at-eleve/2024-10-09/
LOCATION:Élevé\, 55 Wentworth St.\, Charleston\, SC\, 29401\, United States
ATTACH;FMTTYPE=image/jpeg:https://www.kesslercollection.com/bohemian-charleston/wp-content/uploads/sites/8/2024/01/10132023_ELEVE_Andrew-Cebulka-12558-3-1-scaled.jpg
END:VEVENT
BEGIN:VEVENT
DTSTART;TZID=America/New_York:20241009T170000
DTEND;TZID=America/New_York:20241009T220000
DTSTAMP:20260423T161839
CREATED:20240828T155130Z
LAST-MODIFIED:20240828T155130Z
UID:10002949-1728493200-1728511200@www.kesslercollection.com
SUMMARY:Élevéted Evenings
DESCRIPTION:Join us every Sunday – Wednesday from 5:00 PM – 10:00 PM at Élevé for an exquisite date-night experience. Élevéte your evening with a special three-course menu for two including a bottle of wine\, two appetizers and entrées\, and a dessert to share for just $59 per person. \nMinimum of 2 guests per experience.
URL:https://www.kesslercollection.com/bohemian-charleston/event/eleveted-evenings/2024-10-09/
LOCATION:Élevé\, 55 Wentworth St.\, Charleston\, SC\, 29401\, United States
ATTACH;FMTTYPE=image/jpeg:https://www.kesslercollection.com/bohemian-charleston/wp-content/uploads/sites/8/2024/08/10132023_ELEVE_Andrew-Cebulka-12757-1-scaled.jpg
END:VEVENT
BEGIN:VEVENT
DTSTART;TZID=America/New_York:20241010T140000
DTEND;TZID=America/New_York:20241010T170000
DTSTAMP:20260423T161839
CREATED:20240130T203624Z
LAST-MODIFIED:20241015T202454Z
UID:10003010-1728568800-1728579600@www.kesslercollection.com
SUMMARY:Happy Hour at Élevé
DESCRIPTION:A beacon for the unexpected and the avant-garde\, visit Élevé for Happy Hour every Monday – Friday from 2:00 PM – 5:00 PM. Experience an elegant rooftop garden and indulge in exclusively priced specialty cocktails\, appetizers\, wine bottles\, and wine-by-the-glass.
URL:https://www.kesslercollection.com/bohemian-charleston/event/happy-hour-at-eleve/2024-10-10/
LOCATION:Élevé\, 55 Wentworth St.\, Charleston\, SC\, 29401\, United States
ATTACH;FMTTYPE=image/jpeg:https://www.kesslercollection.com/bohemian-charleston/wp-content/uploads/sites/8/2024/01/10132023_ELEVE_Andrew-Cebulka-12558-3-1-scaled.jpg
END:VEVENT
BEGIN:VEVENT
DTSTART;TZID=America/New_York:20241010T160000
DTEND;TZID=America/New_York:20241010T173000
DTSTAMP:20260423T161839
CREATED:20240307T144444Z
LAST-MODIFIED:20250327T143520Z
UID:10003116-1728576000-1728581400@www.kesslercollection.com
SUMMARY:Cocktail Classes
DESCRIPTION:Elevate your mixology skills at Élevé every Thursday – Saturday from 4:00 PM – 5:30 PM. Explore the intricacies of mixology with guided tastings of classic cocktails and the creation of your own masterpiece. \n$109.69 per person.
URL:https://www.kesslercollection.com/bohemian-charleston/event/cocktail-class-at-eleve/2024-10-10/
LOCATION:Élevé\, 55 Wentworth St.\, Charleston\, SC\, 29401\, United States
ATTACH;FMTTYPE=image/jpeg:https://www.kesslercollection.com/bohemian-charleston/wp-content/uploads/sites/8/2024/03/10112022_Eleve_Andrew-Cebulka-16826-scaled.jpg
END:VEVENT
BEGIN:VEVENT
DTSTART;TZID=America/New_York:20241010T173000
DTEND;TZID=America/New_York:20241010T203000
DTSTAMP:20260423T161839
CREATED:20240417T131012Z
LAST-MODIFIED:20241120T142322Z
UID:10003101-1728581400-1728592200@www.kesslercollection.com
SUMMARY:Live Music at the Grand Bohemian Wine Bar
DESCRIPTION:Discover live music and a world of flavor at the Grand Bohemian Wine Bar every Thursday – Saturday from 5:30 PM – 8:30 PM. Explore a diverse selection of wines from around the world\, and indulge in delectable bites promised to satisfy your cravings.
URL:https://www.kesslercollection.com/bohemian-charleston/event/live-music-at-the-grand-bohemian-wine-bar/2024-10-10/
LOCATION:Grand Bohemian Wine Bar\, 55 Wentworth St.\, Charleston\, SC\, 29401\, United States
ATTACH;FMTTYPE=image/jpeg:https://www.kesslercollection.com/bohemian-charleston/wp-content/uploads/sites/8/2024/04/AK_CHSAK_WineTasting_Room-1-scaled.jpg
END:VEVENT
BEGIN:VEVENT
DTSTART;TZID=America/New_York:20241010T183000
DTEND;TZID=America/New_York:20241010T220000
DTSTAMP:20260423T161839
CREATED:20240925T184924Z
LAST-MODIFIED:20240925T184924Z
UID:10003128-1728585000-1728597600@www.kesslercollection.com
SUMMARY:Chateau Montelena Wine Dinner at Élevé
DESCRIPTION:For one night only\, join us for an exclusive 5-course wine dinner featuring varietals from the esteemed Napa Valley vineyard Chateau Montelena. Savor creative dishes inspired by the finest ingredients\, perfectly paired with hand-selected wines chosen to enhance every bite. Jock Busser of Chateau Montelena will lead the dinner\, providing education and background on the evening’s wines and pairings.
URL:https://www.kesslercollection.com/bohemian-charleston/event/chateau-montelena-wine-dinner-at-eleve/
LOCATION:Élevé\, 55 Wentworth St.\, Charleston\, SC\, 29401\, United States
ATTACH;FMTTYPE=image/png:https://www.kesslercollection.com/bohemian-charleston/wp-content/uploads/sites/8/2024/09/MP_4181.png
END:VEVENT
BEGIN:VEVENT
DTSTART;TZID=America/New_York:20241011T140000
DTEND;TZID=America/New_York:20241011T153000
DTSTAMP:20260423T161839
CREATED:20240621T171817Z
LAST-MODIFIED:20251013T183556Z
UID:10002993-1728655200-1728660600@www.kesslercollection.com
SUMMARY:Wine Blending
DESCRIPTION:Looking for the perfect date night\, business\, or family gathering? Discover our Wine Blending class from 2:00 PM – 3:30 PM every Friday – Sunday at the Grand Bohemian Wine Bar for a hands-on wine adventure to discover the art of blending your ideal glass. Enjoy tastings\, learn about winemaking history\, and leave with a personalized bottle label.
URL:https://www.kesslercollection.com/bohemian-charleston/event/wine-blending-3/2024-10-11/
LOCATION:Grand Bohemian Wine Bar\, 55 Wentworth St.\, Charleston\, SC\, 29401\, United States
ATTACH;FMTTYPE=image/jpeg:https://www.kesslercollection.com/bohemian-charleston/wp-content/uploads/sites/8/2023/10/AK_BHMAG_GrandBohemianMountainBrook_KG-120.jpg
END:VEVENT
BEGIN:VEVENT
DTSTART;TZID=America/New_York:20241011T140000
DTEND;TZID=America/New_York:20241011T170000
DTSTAMP:20260423T161839
CREATED:20240130T203624Z
LAST-MODIFIED:20241015T202454Z
UID:10003011-1728655200-1728666000@www.kesslercollection.com
SUMMARY:Happy Hour at Élevé
DESCRIPTION:A beacon for the unexpected and the avant-garde\, visit Élevé for Happy Hour every Monday – Friday from 2:00 PM – 5:00 PM. Experience an elegant rooftop garden and indulge in exclusively priced specialty cocktails\, appetizers\, wine bottles\, and wine-by-the-glass.
URL:https://www.kesslercollection.com/bohemian-charleston/event/happy-hour-at-eleve/2024-10-11/
LOCATION:Élevé\, 55 Wentworth St.\, Charleston\, SC\, 29401\, United States
ATTACH;FMTTYPE=image/jpeg:https://www.kesslercollection.com/bohemian-charleston/wp-content/uploads/sites/8/2024/01/10132023_ELEVE_Andrew-Cebulka-12558-3-1-scaled.jpg
END:VEVENT
BEGIN:VEVENT
DTSTART;TZID=America/New_York:20241011T160000
DTEND;TZID=America/New_York:20241011T173000
DTSTAMP:20260423T161839
CREATED:20240307T144444Z
LAST-MODIFIED:20250327T143520Z
UID:10003117-1728662400-1728667800@www.kesslercollection.com
SUMMARY:Cocktail Classes
DESCRIPTION:Elevate your mixology skills at Élevé every Thursday – Saturday from 4:00 PM – 5:30 PM. Explore the intricacies of mixology with guided tastings of classic cocktails and the creation of your own masterpiece. \n$109.69 per person.
URL:https://www.kesslercollection.com/bohemian-charleston/event/cocktail-class-at-eleve/2024-10-11/
LOCATION:Élevé\, 55 Wentworth St.\, Charleston\, SC\, 29401\, United States
ATTACH;FMTTYPE=image/jpeg:https://www.kesslercollection.com/bohemian-charleston/wp-content/uploads/sites/8/2024/03/10112022_Eleve_Andrew-Cebulka-16826-scaled.jpg
END:VEVENT
BEGIN:VEVENT
DTSTART;TZID=America/New_York:20241011T173000
DTEND;TZID=America/New_York:20241011T203000
DTSTAMP:20260423T161839
CREATED:20240417T131012Z
LAST-MODIFIED:20241120T142322Z
UID:10003102-1728667800-1728678600@www.kesslercollection.com
SUMMARY:Live Music at the Grand Bohemian Wine Bar
DESCRIPTION:Discover live music and a world of flavor at the Grand Bohemian Wine Bar every Thursday – Saturday from 5:30 PM – 8:30 PM. Explore a diverse selection of wines from around the world\, and indulge in delectable bites promised to satisfy your cravings.
URL:https://www.kesslercollection.com/bohemian-charleston/event/live-music-at-the-grand-bohemian-wine-bar/2024-10-11/
LOCATION:Grand Bohemian Wine Bar\, 55 Wentworth St.\, Charleston\, SC\, 29401\, United States
ATTACH;FMTTYPE=image/jpeg:https://www.kesslercollection.com/bohemian-charleston/wp-content/uploads/sites/8/2024/04/AK_CHSAK_WineTasting_Room-1-scaled.jpg
END:VEVENT
BEGIN:VEVENT
DTSTART;TZID=America/New_York:20241012T140000
DTEND;TZID=America/New_York:20241012T153000
DTSTAMP:20260423T161839
CREATED:20240621T171817Z
LAST-MODIFIED:20251013T183556Z
UID:10002994-1728741600-1728747000@www.kesslercollection.com
SUMMARY:Wine Blending
DESCRIPTION:Looking for the perfect date night\, business\, or family gathering? Discover our Wine Blending class from 2:00 PM – 3:30 PM every Friday – Sunday at the Grand Bohemian Wine Bar for a hands-on wine adventure to discover the art of blending your ideal glass. Enjoy tastings\, learn about winemaking history\, and leave with a personalized bottle label.
URL:https://www.kesslercollection.com/bohemian-charleston/event/wine-blending-3/2024-10-12/
LOCATION:Grand Bohemian Wine Bar\, 55 Wentworth St.\, Charleston\, SC\, 29401\, United States
ATTACH;FMTTYPE=image/jpeg:https://www.kesslercollection.com/bohemian-charleston/wp-content/uploads/sites/8/2023/10/AK_BHMAG_GrandBohemianMountainBrook_KG-120.jpg
END:VEVENT
BEGIN:VEVENT
DTSTART;TZID=America/New_York:20241012T160000
DTEND;TZID=America/New_York:20241012T173000
DTSTAMP:20260423T161839
CREATED:20240307T144444Z
LAST-MODIFIED:20250327T143520Z
UID:10003118-1728748800-1728754200@www.kesslercollection.com
SUMMARY:Cocktail Classes
DESCRIPTION:Elevate your mixology skills at Élevé every Thursday – Saturday from 4:00 PM – 5:30 PM. Explore the intricacies of mixology with guided tastings of classic cocktails and the creation of your own masterpiece. \n$109.69 per person.
URL:https://www.kesslercollection.com/bohemian-charleston/event/cocktail-class-at-eleve/2024-10-12/
LOCATION:Élevé\, 55 Wentworth St.\, Charleston\, SC\, 29401\, United States
ATTACH;FMTTYPE=image/jpeg:https://www.kesslercollection.com/bohemian-charleston/wp-content/uploads/sites/8/2024/03/10112022_Eleve_Andrew-Cebulka-16826-scaled.jpg
END:VEVENT
BEGIN:VEVENT
DTSTART;TZID=America/New_York:20241012T173000
DTEND;TZID=America/New_York:20241012T203000
DTSTAMP:20260423T161839
CREATED:20240417T131012Z
LAST-MODIFIED:20241120T142322Z
UID:10003103-1728754200-1728765000@www.kesslercollection.com
SUMMARY:Live Music at the Grand Bohemian Wine Bar
DESCRIPTION:Discover live music and a world of flavor at the Grand Bohemian Wine Bar every Thursday – Saturday from 5:30 PM – 8:30 PM. Explore a diverse selection of wines from around the world\, and indulge in delectable bites promised to satisfy your cravings.
URL:https://www.kesslercollection.com/bohemian-charleston/event/live-music-at-the-grand-bohemian-wine-bar/2024-10-12/
LOCATION:Grand Bohemian Wine Bar\, 55 Wentworth St.\, Charleston\, SC\, 29401\, United States
ATTACH;FMTTYPE=image/jpeg:https://www.kesslercollection.com/bohemian-charleston/wp-content/uploads/sites/8/2024/04/AK_CHSAK_WineTasting_Room-1-scaled.jpg
END:VEVENT
BEGIN:VEVENT
DTSTART;TZID=America/New_York:20241013T140000
DTEND;TZID=America/New_York:20241013T153000
DTSTAMP:20260423T161839
CREATED:20240621T171817Z
LAST-MODIFIED:20251013T183556Z
UID:10002995-1728828000-1728833400@www.kesslercollection.com
SUMMARY:Wine Blending
DESCRIPTION:Looking for the perfect date night\, business\, or family gathering? Discover our Wine Blending class from 2:00 PM – 3:30 PM every Friday – Sunday at the Grand Bohemian Wine Bar for a hands-on wine adventure to discover the art of blending your ideal glass. Enjoy tastings\, learn about winemaking history\, and leave with a personalized bottle label.
URL:https://www.kesslercollection.com/bohemian-charleston/event/wine-blending-3/2024-10-13/
LOCATION:Grand Bohemian Wine Bar\, 55 Wentworth St.\, Charleston\, SC\, 29401\, United States
ATTACH;FMTTYPE=image/jpeg:https://www.kesslercollection.com/bohemian-charleston/wp-content/uploads/sites/8/2023/10/AK_BHMAG_GrandBohemianMountainBrook_KG-120.jpg
END:VEVENT
BEGIN:VEVENT
DTSTART;TZID=America/New_York:20241013T160000
DTEND;TZID=America/New_York:20241013T190000
DTSTAMP:20260423T161839
CREATED:20240516T132600Z
LAST-MODIFIED:20251013T184007Z
UID:10003028-1728835200-1728846000@www.kesslercollection.com
SUMMARY:Live Music at the Grand Bohemian Wine Bar
DESCRIPTION:Discover live music and a world of flavor at the Grand Bohemian Wine Bar every Sunday from 4:00 PM – 7:00 PM. Explore a diverse selection of wines from around the world\, and indulge in delectable bites promised to satisfy your cravings.
URL:https://www.kesslercollection.com/bohemian-charleston/event/live-music-at-the-grand-bohemian-wine-bar-2/2024-10-13/
LOCATION:Grand Bohemian Wine Bar\, 55 Wentworth St.\, Charleston\, SC\, 29401\, United States
ATTACH;FMTTYPE=image/jpeg:https://www.kesslercollection.com/bohemian-charleston/wp-content/uploads/sites/8/2024/04/AK_CHSAK_WineTasting_Room-1-scaled.jpg
END:VEVENT
BEGIN:VEVENT
DTSTART;TZID=America/New_York:20241013T170000
DTEND;TZID=America/New_York:20241013T220000
DTSTAMP:20260423T161839
CREATED:20240828T155130Z
LAST-MODIFIED:20240828T155130Z
UID:10002950-1728838800-1728856800@www.kesslercollection.com
SUMMARY:Élevéted Evenings
DESCRIPTION:Join us every Sunday – Wednesday from 5:00 PM – 10:00 PM at Élevé for an exquisite date-night experience. Élevéte your evening with a special three-course menu for two including a bottle of wine\, two appetizers and entrées\, and a dessert to share for just $59 per person. \nMinimum of 2 guests per experience.
URL:https://www.kesslercollection.com/bohemian-charleston/event/eleveted-evenings/2024-10-13/
LOCATION:Élevé\, 55 Wentworth St.\, Charleston\, SC\, 29401\, United States
ATTACH;FMTTYPE=image/jpeg:https://www.kesslercollection.com/bohemian-charleston/wp-content/uploads/sites/8/2024/08/10132023_ELEVE_Andrew-Cebulka-12757-1-scaled.jpg
END:VEVENT
BEGIN:VEVENT
DTSTART;TZID=America/New_York:20241014T140000
DTEND;TZID=America/New_York:20241014T170000
DTSTAMP:20260423T161839
CREATED:20240130T203624Z
LAST-MODIFIED:20241015T202454Z
UID:10003012-1728914400-1728925200@www.kesslercollection.com
SUMMARY:Happy Hour at Élevé
DESCRIPTION:A beacon for the unexpected and the avant-garde\, visit Élevé for Happy Hour every Monday – Friday from 2:00 PM – 5:00 PM. Experience an elegant rooftop garden and indulge in exclusively priced specialty cocktails\, appetizers\, wine bottles\, and wine-by-the-glass.
URL:https://www.kesslercollection.com/bohemian-charleston/event/happy-hour-at-eleve/2024-10-14/
LOCATION:Élevé\, 55 Wentworth St.\, Charleston\, SC\, 29401\, United States
ATTACH;FMTTYPE=image/jpeg:https://www.kesslercollection.com/bohemian-charleston/wp-content/uploads/sites/8/2024/01/10132023_ELEVE_Andrew-Cebulka-12558-3-1-scaled.jpg
END:VEVENT
BEGIN:VEVENT
DTSTART;TZID=America/New_York:20241014T170000
DTEND;TZID=America/New_York:20241014T220000
DTSTAMP:20260423T161839
CREATED:20240828T155130Z
LAST-MODIFIED:20240828T155130Z
UID:10002951-1728925200-1728943200@www.kesslercollection.com
SUMMARY:Élevéted Evenings
DESCRIPTION:Join us every Sunday – Wednesday from 5:00 PM – 10:00 PM at Élevé for an exquisite date-night experience. Élevéte your evening with a special three-course menu for two including a bottle of wine\, two appetizers and entrées\, and a dessert to share for just $59 per person. \nMinimum of 2 guests per experience.
URL:https://www.kesslercollection.com/bohemian-charleston/event/eleveted-evenings/2024-10-14/
LOCATION:Élevé\, 55 Wentworth St.\, Charleston\, SC\, 29401\, United States
ATTACH;FMTTYPE=image/jpeg:https://www.kesslercollection.com/bohemian-charleston/wp-content/uploads/sites/8/2024/08/10132023_ELEVE_Andrew-Cebulka-12757-1-scaled.jpg
END:VEVENT
BEGIN:VEVENT
DTSTART;TZID=America/New_York:20241015T140000
DTEND;TZID=America/New_York:20241015T170000
DTSTAMP:20260423T161839
CREATED:20240130T203624Z
LAST-MODIFIED:20241015T202454Z
UID:10003013-1729000800-1729011600@www.kesslercollection.com
SUMMARY:Happy Hour at Élevé
DESCRIPTION:A beacon for the unexpected and the avant-garde\, visit Élevé for Happy Hour every Monday – Friday from 2:00 PM – 5:00 PM. Experience an elegant rooftop garden and indulge in exclusively priced specialty cocktails\, appetizers\, wine bottles\, and wine-by-the-glass.
URL:https://www.kesslercollection.com/bohemian-charleston/event/happy-hour-at-eleve/2024-10-15/
LOCATION:Élevé\, 55 Wentworth St.\, Charleston\, SC\, 29401\, United States
ATTACH;FMTTYPE=image/jpeg:https://www.kesslercollection.com/bohemian-charleston/wp-content/uploads/sites/8/2024/01/10132023_ELEVE_Andrew-Cebulka-12558-3-1-scaled.jpg
END:VEVENT
END:VCALENDAR