BEGIN:VCALENDAR
VERSION:2.0
PRODID:-//Grand Bohemian Lodge Asheville - ECPv6.15.20//NONSGML v1.0//EN
CALSCALE:GREGORIAN
METHOD:PUBLISH
X-ORIGINAL-URL:https://www.kesslercollection.com/bohemian-asheville
X-WR-CALDESC:Events for Grand Bohemian Lodge Asheville
REFRESH-INTERVAL;VALUE=DURATION:PT1H
X-Robots-Tag:noindex
X-PUBLISHED-TTL:PT1H
BEGIN:VTIMEZONE
TZID:America/New_York
BEGIN:DAYLIGHT
TZOFFSETFROM:-0500
TZOFFSETTO:-0400
TZNAME:EDT
DTSTART:20220313T070000
END:DAYLIGHT
BEGIN:STANDARD
TZOFFSETFROM:-0400
TZOFFSETTO:-0500
TZNAME:EST
DTSTART:20221106T060000
END:STANDARD
BEGIN:DAYLIGHT
TZOFFSETFROM:-0500
TZOFFSETTO:-0400
TZNAME:EDT
DTSTART:20230312T070000
END:DAYLIGHT
BEGIN:STANDARD
TZOFFSETFROM:-0400
TZOFFSETTO:-0500
TZNAME:EST
DTSTART:20231105T060000
END:STANDARD
BEGIN:DAYLIGHT
TZOFFSETFROM:-0500
TZOFFSETTO:-0400
TZNAME:EDT
DTSTART:20240310T070000
END:DAYLIGHT
BEGIN:STANDARD
TZOFFSETFROM:-0400
TZOFFSETTO:-0500
TZNAME:EST
DTSTART:20241103T060000
END:STANDARD
BEGIN:DAYLIGHT
TZOFFSETFROM:-0500
TZOFFSETTO:-0400
TZNAME:EDT
DTSTART:20250309T070000
END:DAYLIGHT
BEGIN:STANDARD
TZOFFSETFROM:-0400
TZOFFSETTO:-0500
TZNAME:EST
DTSTART:20251102T060000
END:STANDARD
END:VTIMEZONE
BEGIN:VEVENT
DTSTART;TZID=America/New_York:20240328T200000
DTEND;TZID=America/New_York:20240328T220000
DTSTAMP:20260420T230950
CREATED:20240305T143038Z
LAST-MODIFIED:20240305T143038Z
UID:10001249-1711656000-1711663200@www.kesslercollection.com
SUMMARY:Katie Pruitt at Salvage Station
DESCRIPTION:Visit Salvage Station on March 28th at 8:00 PM for soul-stirring music by Katie Pruitt\, a Georgia-bred singer and songwriter. Discover a unique blend of folk and indie-rock with this transformative performance.
URL:https://www.kesslercollection.com/bohemian-asheville/event/katie-pruitt-at-salvage-station/
LOCATION:Salvage Station\, 468 Riverside Dr\, Asheville\, NC\, 28801\, United States
ATTACH;FMTTYPE=image/png:https://www.kesslercollection.com/bohemian-asheville/wp-content/uploads/sites/7/2024/02/Comedy-1.png
END:VEVENT
BEGIN:VEVENT
DTSTART;TZID=America/New_York:20230907T163000
DTEND;TZID=America/New_York:20230907T190000
DTSTAMP:20260420T230950
CREATED:20230831T203321Z
LAST-MODIFIED:20230901T185551Z
UID:10000763-1694104200-1694113200@www.kesslercollection.com
SUMMARY:Chow Chow Festival Opening Party
DESCRIPTION:Discover the Chow Chow Festival Opening Party at Salvage Station on September 7th from 4:30 PM – 7:00 PM. Celebrate the evolution of barbecue across cultures with bites from skillful Pitmaters\, sips from experienced mixologists\, and entertainment by Whitewater Bluegrass Co. \nAll attendees must be 21+ years of age
URL:https://www.kesslercollection.com/bohemian-asheville/event/chow-chow-festival-opening-party/
LOCATION:Salvage Station\, 468 Riverside Dr\, Asheville\, NC\, 28801\, United States
ATTACH;FMTTYPE=image/png:https://www.kesslercollection.com/bohemian-asheville/wp-content/uploads/sites/7/2023/08/Event-calendar-25.png
END:VEVENT
END:VCALENDAR