BEGIN:VCALENDAR
VERSION:2.0
PRODID:-//Grand Bohemian Lodge Asheville - ECPv6.15.20//NONSGML v1.0//EN
CALSCALE:GREGORIAN
METHOD:PUBLISH
X-ORIGINAL-URL:https://www.kesslercollection.com/bohemian-asheville
X-WR-CALDESC:Events for Grand Bohemian Lodge Asheville
REFRESH-INTERVAL;VALUE=DURATION:PT1H
X-Robots-Tag:noindex
X-PUBLISHED-TTL:PT1H
BEGIN:VTIMEZONE
TZID:America/New_York
BEGIN:DAYLIGHT
TZOFFSETFROM:-0500
TZOFFSETTO:-0400
TZNAME:EDT
DTSTART:20250309T070000
END:DAYLIGHT
BEGIN:STANDARD
TZOFFSETFROM:-0400
TZOFFSETTO:-0500
TZNAME:EST
DTSTART:20251102T060000
END:STANDARD
BEGIN:DAYLIGHT
TZOFFSETFROM:-0500
TZOFFSETTO:-0400
TZNAME:EDT
DTSTART:20260308T070000
END:DAYLIGHT
BEGIN:STANDARD
TZOFFSETFROM:-0400
TZOFFSETTO:-0500
TZNAME:EST
DTSTART:20261101T060000
END:STANDARD
BEGIN:DAYLIGHT
TZOFFSETFROM:-0500
TZOFFSETTO:-0400
TZNAME:EDT
DTSTART:20270314T070000
END:DAYLIGHT
BEGIN:STANDARD
TZOFFSETFROM:-0400
TZOFFSETTO:-0500
TZNAME:EST
DTSTART:20271107T060000
END:STANDARD
END:VTIMEZONE
BEGIN:VEVENT
DTSTART;TZID=America/New_York:20260501T000000
DTEND;TZID=America/New_York:20260501T235900
DTSTAMP:20260420T212307
CREATED:20260319T160938Z
LAST-MODIFIED:20260319T163436Z
UID:10002242-1777593600-1777679940@www.kesslercollection.com
SUMMARY:Spring Cocktails featuring Hendrick's & Milagro
DESCRIPTION:Now pouring at Red Stag Grill: a limited-edition cocktail collection that brings the garden to the glass\, handcrafted with Hendrick’s Gin and Milagro Blanco Tequila.   \nAvailable March 23 – May 3 exclusively at Kessler restaurants and lounges.  \nWild Roots Spritz\nA lively refresher featuring Milagro tequila and blueberry rooibos tea. A splash of lemon juice and soda brightens the cocktail for a crisp sip any time of day.  \nGarden Smash\nA classic combination of spring favorites. Cucumbers\, elderflower\, and ginger come together with the floral notes of Hendrick’s gin for a fresh\, balanced cocktail.
URL:https://www.kesslercollection.com/bohemian-asheville/event/spring-cocktails-featuring-hendricks-milagro-3/
ATTACH;FMTTYPE=image/jpeg:https://www.kesslercollection.com/bohemian-asheville/wp-content/uploads/sites/7/2026/03/TKC_Spring_LTO_Happenings_Calendar.jpg
END:VEVENT
BEGIN:VEVENT
DTSTART;TZID=America/New_York:20260504T170000
DTEND;TZID=America/New_York:20260504T213000
DTSTAMP:20260420T212307
CREATED:20250701T210247Z
LAST-MODIFIED:20250701T210750Z
UID:10002014-1777914000-1777930200@www.kesslercollection.com
SUMMARY:Wine Up Mondays at Red Stag Grill
DESCRIPTION:Raise your glass to the good times and indulge in fine wines at a special price with Wine Up Mondays. Join us Monday evenings for 50% off any wine bottle from our award-winning wine cellar when you dine at Red Stag Grill.
URL:https://www.kesslercollection.com/bohemian-asheville/event/wine-up-mondays-at-red-stag-grill-3/2026-05-04/
ATTACH;FMTTYPE=image/jpeg:https://www.kesslercollection.com/bohemian-asheville/wp-content/uploads/sites/7/2025/07/1L7A6621-min-scaled-e1751403261884.jpg
END:VEVENT
BEGIN:VEVENT
DTSTART;TZID=America/New_York:20260506T170000
DTEND;TZID=America/New_York:20260506T220000
DTSTAMP:20260420T212307
CREATED:20250701T204443Z
LAST-MODIFIED:20250701T210436Z
UID:10001754-1778086800-1778104800@www.kesslercollection.com
SUMMARY:Prime Rib Night at Red Stag Grill
DESCRIPTION:Join us at Red Stag Grill every Wednesday for an unforgettable dining experience. For $95\, indulge in a special 3-course menu by our Chef De Cuisine Michelle Britten\, featuring our signature Prime Rib prepared to perfection. \nThe Prime Rib special is available at 5:00 PM every Wednesday\, until supplies last. Reservations are highly recommended.
URL:https://www.kesslercollection.com/bohemian-asheville/event/prime-rib-night-at-red-stag-grill-3/2026-05-06/
ATTACH;FMTTYPE=image/jpeg:https://www.kesslercollection.com/bohemian-asheville/wp-content/uploads/sites/7/2024/06/AdobeStock_187072649-scaled.jpeg
END:VEVENT
BEGIN:VEVENT
DTSTART;TZID=America/New_York:20260510T110000
DTEND;TZID=America/New_York:20260510T140000
DTSTAMP:20260420T212307
CREATED:20260417T193147Z
LAST-MODIFIED:20260417T193147Z
UID:10002243-1778410800-1778421600@www.kesslercollection.com
SUMMARY:Mother's Day Brunch at Red Stag Grill
DESCRIPTION:Celebrate with us at Red Stag Grill for a refined three-course holiday brunch experience featuring a complimentary glass of seasonal mimosa or champagne\, thoughtfully crafted seasonal dishes\, and an inviting atmosphere designed for lingering moments and meaningful celebration with Mom.
URL:https://www.kesslercollection.com/bohemian-asheville/event/mothers-day-brunch-at-red-stag-grill-2/
ATTACH;FMTTYPE=image/jpeg:https://www.kesslercollection.com/bohemian-asheville/wp-content/uploads/sites/7/2026/04/TKC_MothersDay_Happenings_Calendar_Cover.jpg
END:VEVENT
BEGIN:VEVENT
DTSTART;TZID=America/New_York:20260511T170000
DTEND;TZID=America/New_York:20260511T213000
DTSTAMP:20260420T212307
CREATED:20250701T210247Z
LAST-MODIFIED:20250701T210750Z
UID:10002015-1778518800-1778535000@www.kesslercollection.com
SUMMARY:Wine Up Mondays at Red Stag Grill
DESCRIPTION:Raise your glass to the good times and indulge in fine wines at a special price with Wine Up Mondays. Join us Monday evenings for 50% off any wine bottle from our award-winning wine cellar when you dine at Red Stag Grill.
URL:https://www.kesslercollection.com/bohemian-asheville/event/wine-up-mondays-at-red-stag-grill-3/2026-05-11/
ATTACH;FMTTYPE=image/jpeg:https://www.kesslercollection.com/bohemian-asheville/wp-content/uploads/sites/7/2025/07/1L7A6621-min-scaled-e1751403261884.jpg
END:VEVENT
BEGIN:VEVENT
DTSTART;TZID=America/New_York:20260513T170000
DTEND;TZID=America/New_York:20260513T220000
DTSTAMP:20260420T212307
CREATED:20250701T204443Z
LAST-MODIFIED:20250701T210436Z
UID:10001755-1778691600-1778709600@www.kesslercollection.com
SUMMARY:Prime Rib Night at Red Stag Grill
DESCRIPTION:Join us at Red Stag Grill every Wednesday for an unforgettable dining experience. For $95\, indulge in a special 3-course menu by our Chef De Cuisine Michelle Britten\, featuring our signature Prime Rib prepared to perfection. \nThe Prime Rib special is available at 5:00 PM every Wednesday\, until supplies last. Reservations are highly recommended.
URL:https://www.kesslercollection.com/bohemian-asheville/event/prime-rib-night-at-red-stag-grill-3/2026-05-13/
ATTACH;FMTTYPE=image/jpeg:https://www.kesslercollection.com/bohemian-asheville/wp-content/uploads/sites/7/2024/06/AdobeStock_187072649-scaled.jpeg
END:VEVENT
BEGIN:VEVENT
DTSTART;TZID=America/New_York:20260518T170000
DTEND;TZID=America/New_York:20260518T213000
DTSTAMP:20260420T212307
CREATED:20250701T210247Z
LAST-MODIFIED:20250701T210750Z
UID:10002016-1779123600-1779139800@www.kesslercollection.com
SUMMARY:Wine Up Mondays at Red Stag Grill
DESCRIPTION:Raise your glass to the good times and indulge in fine wines at a special price with Wine Up Mondays. Join us Monday evenings for 50% off any wine bottle from our award-winning wine cellar when you dine at Red Stag Grill.
URL:https://www.kesslercollection.com/bohemian-asheville/event/wine-up-mondays-at-red-stag-grill-3/2026-05-18/
ATTACH;FMTTYPE=image/jpeg:https://www.kesslercollection.com/bohemian-asheville/wp-content/uploads/sites/7/2025/07/1L7A6621-min-scaled-e1751403261884.jpg
END:VEVENT
BEGIN:VEVENT
DTSTART;TZID=America/New_York:20260520T170000
DTEND;TZID=America/New_York:20260520T220000
DTSTAMP:20260420T212307
CREATED:20250701T204443Z
LAST-MODIFIED:20250701T210436Z
UID:10001756-1779296400-1779314400@www.kesslercollection.com
SUMMARY:Prime Rib Night at Red Stag Grill
DESCRIPTION:Join us at Red Stag Grill every Wednesday for an unforgettable dining experience. For $95\, indulge in a special 3-course menu by our Chef De Cuisine Michelle Britten\, featuring our signature Prime Rib prepared to perfection. \nThe Prime Rib special is available at 5:00 PM every Wednesday\, until supplies last. Reservations are highly recommended.
URL:https://www.kesslercollection.com/bohemian-asheville/event/prime-rib-night-at-red-stag-grill-3/2026-05-20/
ATTACH;FMTTYPE=image/jpeg:https://www.kesslercollection.com/bohemian-asheville/wp-content/uploads/sites/7/2024/06/AdobeStock_187072649-scaled.jpeg
END:VEVENT
BEGIN:VEVENT
DTSTART;TZID=America/New_York:20260525T170000
DTEND;TZID=America/New_York:20260525T213000
DTSTAMP:20260420T212307
CREATED:20250701T210247Z
LAST-MODIFIED:20250701T210750Z
UID:10002017-1779728400-1779744600@www.kesslercollection.com
SUMMARY:Wine Up Mondays at Red Stag Grill
DESCRIPTION:Raise your glass to the good times and indulge in fine wines at a special price with Wine Up Mondays. Join us Monday evenings for 50% off any wine bottle from our award-winning wine cellar when you dine at Red Stag Grill.
URL:https://www.kesslercollection.com/bohemian-asheville/event/wine-up-mondays-at-red-stag-grill-3/2026-05-25/
ATTACH;FMTTYPE=image/jpeg:https://www.kesslercollection.com/bohemian-asheville/wp-content/uploads/sites/7/2025/07/1L7A6621-min-scaled-e1751403261884.jpg
END:VEVENT
BEGIN:VEVENT
DTSTART;TZID=America/New_York:20260527T170000
DTEND;TZID=America/New_York:20260527T220000
DTSTAMP:20260420T212307
CREATED:20250701T204443Z
LAST-MODIFIED:20250701T210436Z
UID:10001757-1779901200-1779919200@www.kesslercollection.com
SUMMARY:Prime Rib Night at Red Stag Grill
DESCRIPTION:Join us at Red Stag Grill every Wednesday for an unforgettable dining experience. For $95\, indulge in a special 3-course menu by our Chef De Cuisine Michelle Britten\, featuring our signature Prime Rib prepared to perfection. \nThe Prime Rib special is available at 5:00 PM every Wednesday\, until supplies last. Reservations are highly recommended.
URL:https://www.kesslercollection.com/bohemian-asheville/event/prime-rib-night-at-red-stag-grill-3/2026-05-27/
ATTACH;FMTTYPE=image/jpeg:https://www.kesslercollection.com/bohemian-asheville/wp-content/uploads/sites/7/2024/06/AdobeStock_187072649-scaled.jpeg
END:VEVENT
END:VCALENDAR