BEGIN:VCALENDAR
VERSION:2.0
PRODID:-//Grand Bohemian Lodge Asheville - ECPv6.15.20//NONSGML v1.0//EN
CALSCALE:GREGORIAN
METHOD:PUBLISH
X-WR-CALNAME:Grand Bohemian Lodge Asheville
X-ORIGINAL-URL:https://www.kesslercollection.com/bohemian-asheville
X-WR-CALDESC:Events for Grand Bohemian Lodge Asheville
REFRESH-INTERVAL;VALUE=DURATION:PT1H
X-Robots-Tag:noindex
X-PUBLISHED-TTL:PT1H
BEGIN:VTIMEZONE
TZID:America/New_York
BEGIN:DAYLIGHT
TZOFFSETFROM:-0500
TZOFFSETTO:-0400
TZNAME:EDT
DTSTART:20250309T070000
END:DAYLIGHT
BEGIN:STANDARD
TZOFFSETFROM:-0400
TZOFFSETTO:-0500
TZNAME:EST
DTSTART:20251102T060000
END:STANDARD
BEGIN:DAYLIGHT
TZOFFSETFROM:-0500
TZOFFSETTO:-0400
TZNAME:EDT
DTSTART:20260308T070000
END:DAYLIGHT
BEGIN:STANDARD
TZOFFSETFROM:-0400
TZOFFSETTO:-0500
TZNAME:EST
DTSTART:20261101T060000
END:STANDARD
BEGIN:DAYLIGHT
TZOFFSETFROM:-0500
TZOFFSETTO:-0400
TZNAME:EDT
DTSTART:20270314T070000
END:DAYLIGHT
BEGIN:STANDARD
TZOFFSETFROM:-0400
TZOFFSETTO:-0500
TZNAME:EST
DTSTART:20271107T060000
END:STANDARD
END:VTIMEZONE
BEGIN:VEVENT
DTSTART;TZID=America/New_York:20260713T170000
DTEND;TZID=America/New_York:20260713T213000
DTSTAMP:20260420T225515
CREATED:20250701T210247Z
LAST-MODIFIED:20250701T210750Z
UID:10002024-1783962000-1783978200@www.kesslercollection.com
SUMMARY:Wine Up Mondays at Red Stag Grill
DESCRIPTION:Raise your glass to the good times and indulge in fine wines at a special price with Wine Up Mondays. Join us Monday evenings for 50% off any wine bottle from our award-winning wine cellar when you dine at Red Stag Grill.
URL:https://www.kesslercollection.com/bohemian-asheville/event/wine-up-mondays-at-red-stag-grill-3/2026-07-13/
ATTACH;FMTTYPE=image/jpeg:https://www.kesslercollection.com/bohemian-asheville/wp-content/uploads/sites/7/2025/07/1L7A6621-min-scaled-e1751403261884.jpg
END:VEVENT
BEGIN:VEVENT
DTSTART;TZID=America/New_York:20260715T170000
DTEND;TZID=America/New_York:20260715T220000
DTSTAMP:20260420T225515
CREATED:20250701T204443Z
LAST-MODIFIED:20250701T210436Z
UID:10001764-1784134800-1784152800@www.kesslercollection.com
SUMMARY:Prime Rib Night at Red Stag Grill
DESCRIPTION:Join us at Red Stag Grill every Wednesday for an unforgettable dining experience. For $95\, indulge in a special 3-course menu by our Chef De Cuisine Michelle Britten\, featuring our signature Prime Rib prepared to perfection. \nThe Prime Rib special is available at 5:00 PM every Wednesday\, until supplies last. Reservations are highly recommended.
URL:https://www.kesslercollection.com/bohemian-asheville/event/prime-rib-night-at-red-stag-grill-3/2026-07-15/
ATTACH;FMTTYPE=image/jpeg:https://www.kesslercollection.com/bohemian-asheville/wp-content/uploads/sites/7/2024/06/AdobeStock_187072649-scaled.jpeg
END:VEVENT
BEGIN:VEVENT
DTSTART;TZID=America/New_York:20260720T170000
DTEND;TZID=America/New_York:20260720T213000
DTSTAMP:20260420T225515
CREATED:20250701T210247Z
LAST-MODIFIED:20250701T210750Z
UID:10002025-1784566800-1784583000@www.kesslercollection.com
SUMMARY:Wine Up Mondays at Red Stag Grill
DESCRIPTION:Raise your glass to the good times and indulge in fine wines at a special price with Wine Up Mondays. Join us Monday evenings for 50% off any wine bottle from our award-winning wine cellar when you dine at Red Stag Grill.
URL:https://www.kesslercollection.com/bohemian-asheville/event/wine-up-mondays-at-red-stag-grill-3/2026-07-20/
ATTACH;FMTTYPE=image/jpeg:https://www.kesslercollection.com/bohemian-asheville/wp-content/uploads/sites/7/2025/07/1L7A6621-min-scaled-e1751403261884.jpg
END:VEVENT
BEGIN:VEVENT
DTSTART;TZID=America/New_York:20260722T170000
DTEND;TZID=America/New_York:20260722T220000
DTSTAMP:20260420T225515
CREATED:20250701T204443Z
LAST-MODIFIED:20250701T210436Z
UID:10001765-1784739600-1784757600@www.kesslercollection.com
SUMMARY:Prime Rib Night at Red Stag Grill
DESCRIPTION:Join us at Red Stag Grill every Wednesday for an unforgettable dining experience. For $95\, indulge in a special 3-course menu by our Chef De Cuisine Michelle Britten\, featuring our signature Prime Rib prepared to perfection. \nThe Prime Rib special is available at 5:00 PM every Wednesday\, until supplies last. Reservations are highly recommended.
URL:https://www.kesslercollection.com/bohemian-asheville/event/prime-rib-night-at-red-stag-grill-3/2026-07-22/
ATTACH;FMTTYPE=image/jpeg:https://www.kesslercollection.com/bohemian-asheville/wp-content/uploads/sites/7/2024/06/AdobeStock_187072649-scaled.jpeg
END:VEVENT
BEGIN:VEVENT
DTSTART;TZID=America/New_York:20260727T170000
DTEND;TZID=America/New_York:20260727T213000
DTSTAMP:20260420T225515
CREATED:20250701T210247Z
LAST-MODIFIED:20250701T210750Z
UID:10002026-1785171600-1785187800@www.kesslercollection.com
SUMMARY:Wine Up Mondays at Red Stag Grill
DESCRIPTION:Raise your glass to the good times and indulge in fine wines at a special price with Wine Up Mondays. Join us Monday evenings for 50% off any wine bottle from our award-winning wine cellar when you dine at Red Stag Grill.
URL:https://www.kesslercollection.com/bohemian-asheville/event/wine-up-mondays-at-red-stag-grill-3/2026-07-27/
ATTACH;FMTTYPE=image/jpeg:https://www.kesslercollection.com/bohemian-asheville/wp-content/uploads/sites/7/2025/07/1L7A6621-min-scaled-e1751403261884.jpg
END:VEVENT
BEGIN:VEVENT
DTSTART;TZID=America/New_York:20260729T170000
DTEND;TZID=America/New_York:20260729T220000
DTSTAMP:20260420T225515
CREATED:20250701T204443Z
LAST-MODIFIED:20250701T210436Z
UID:10001766-1785344400-1785362400@www.kesslercollection.com
SUMMARY:Prime Rib Night at Red Stag Grill
DESCRIPTION:Join us at Red Stag Grill every Wednesday for an unforgettable dining experience. For $95\, indulge in a special 3-course menu by our Chef De Cuisine Michelle Britten\, featuring our signature Prime Rib prepared to perfection. \nThe Prime Rib special is available at 5:00 PM every Wednesday\, until supplies last. Reservations are highly recommended.
URL:https://www.kesslercollection.com/bohemian-asheville/event/prime-rib-night-at-red-stag-grill-3/2026-07-29/
ATTACH;FMTTYPE=image/jpeg:https://www.kesslercollection.com/bohemian-asheville/wp-content/uploads/sites/7/2024/06/AdobeStock_187072649-scaled.jpeg
END:VEVENT
BEGIN:VEVENT
DTSTART;TZID=America/New_York:20260803T170000
DTEND;TZID=America/New_York:20260803T213000
DTSTAMP:20260420T225515
CREATED:20250701T210247Z
LAST-MODIFIED:20250701T210750Z
UID:10002027-1785776400-1785792600@www.kesslercollection.com
SUMMARY:Wine Up Mondays at Red Stag Grill
DESCRIPTION:Raise your glass to the good times and indulge in fine wines at a special price with Wine Up Mondays. Join us Monday evenings for 50% off any wine bottle from our award-winning wine cellar when you dine at Red Stag Grill.
URL:https://www.kesslercollection.com/bohemian-asheville/event/wine-up-mondays-at-red-stag-grill-3/2026-08-03/
ATTACH;FMTTYPE=image/jpeg:https://www.kesslercollection.com/bohemian-asheville/wp-content/uploads/sites/7/2025/07/1L7A6621-min-scaled-e1751403261884.jpg
END:VEVENT
BEGIN:VEVENT
DTSTART;TZID=America/New_York:20260805T170000
DTEND;TZID=America/New_York:20260805T220000
DTSTAMP:20260420T225515
CREATED:20250701T204443Z
LAST-MODIFIED:20250701T210436Z
UID:10001767-1785949200-1785967200@www.kesslercollection.com
SUMMARY:Prime Rib Night at Red Stag Grill
DESCRIPTION:Join us at Red Stag Grill every Wednesday for an unforgettable dining experience. For $95\, indulge in a special 3-course menu by our Chef De Cuisine Michelle Britten\, featuring our signature Prime Rib prepared to perfection. \nThe Prime Rib special is available at 5:00 PM every Wednesday\, until supplies last. Reservations are highly recommended.
URL:https://www.kesslercollection.com/bohemian-asheville/event/prime-rib-night-at-red-stag-grill-3/2026-08-05/
ATTACH;FMTTYPE=image/jpeg:https://www.kesslercollection.com/bohemian-asheville/wp-content/uploads/sites/7/2024/06/AdobeStock_187072649-scaled.jpeg
END:VEVENT
BEGIN:VEVENT
DTSTART;TZID=America/New_York:20260810T170000
DTEND;TZID=America/New_York:20260810T213000
DTSTAMP:20260420T225515
CREATED:20250701T210247Z
LAST-MODIFIED:20250701T210750Z
UID:10002028-1786381200-1786397400@www.kesslercollection.com
SUMMARY:Wine Up Mondays at Red Stag Grill
DESCRIPTION:Raise your glass to the good times and indulge in fine wines at a special price with Wine Up Mondays. Join us Monday evenings for 50% off any wine bottle from our award-winning wine cellar when you dine at Red Stag Grill.
URL:https://www.kesslercollection.com/bohemian-asheville/event/wine-up-mondays-at-red-stag-grill-3/2026-08-10/
ATTACH;FMTTYPE=image/jpeg:https://www.kesslercollection.com/bohemian-asheville/wp-content/uploads/sites/7/2025/07/1L7A6621-min-scaled-e1751403261884.jpg
END:VEVENT
BEGIN:VEVENT
DTSTART;TZID=America/New_York:20260812T170000
DTEND;TZID=America/New_York:20260812T220000
DTSTAMP:20260420T225515
CREATED:20250701T204443Z
LAST-MODIFIED:20250701T210436Z
UID:10001768-1786554000-1786572000@www.kesslercollection.com
SUMMARY:Prime Rib Night at Red Stag Grill
DESCRIPTION:Join us at Red Stag Grill every Wednesday for an unforgettable dining experience. For $95\, indulge in a special 3-course menu by our Chef De Cuisine Michelle Britten\, featuring our signature Prime Rib prepared to perfection. \nThe Prime Rib special is available at 5:00 PM every Wednesday\, until supplies last. Reservations are highly recommended.
URL:https://www.kesslercollection.com/bohemian-asheville/event/prime-rib-night-at-red-stag-grill-3/2026-08-12/
ATTACH;FMTTYPE=image/jpeg:https://www.kesslercollection.com/bohemian-asheville/wp-content/uploads/sites/7/2024/06/AdobeStock_187072649-scaled.jpeg
END:VEVENT
BEGIN:VEVENT
DTSTART;TZID=America/New_York:20260817T170000
DTEND;TZID=America/New_York:20260817T213000
DTSTAMP:20260420T225515
CREATED:20250701T210247Z
LAST-MODIFIED:20250701T210750Z
UID:10002029-1786986000-1787002200@www.kesslercollection.com
SUMMARY:Wine Up Mondays at Red Stag Grill
DESCRIPTION:Raise your glass to the good times and indulge in fine wines at a special price with Wine Up Mondays. Join us Monday evenings for 50% off any wine bottle from our award-winning wine cellar when you dine at Red Stag Grill.
URL:https://www.kesslercollection.com/bohemian-asheville/event/wine-up-mondays-at-red-stag-grill-3/2026-08-17/
ATTACH;FMTTYPE=image/jpeg:https://www.kesslercollection.com/bohemian-asheville/wp-content/uploads/sites/7/2025/07/1L7A6621-min-scaled-e1751403261884.jpg
END:VEVENT
BEGIN:VEVENT
DTSTART;TZID=America/New_York:20260819T170000
DTEND;TZID=America/New_York:20260819T220000
DTSTAMP:20260420T225515
CREATED:20250701T204443Z
LAST-MODIFIED:20250701T210436Z
UID:10001769-1787158800-1787176800@www.kesslercollection.com
SUMMARY:Prime Rib Night at Red Stag Grill
DESCRIPTION:Join us at Red Stag Grill every Wednesday for an unforgettable dining experience. For $95\, indulge in a special 3-course menu by our Chef De Cuisine Michelle Britten\, featuring our signature Prime Rib prepared to perfection. \nThe Prime Rib special is available at 5:00 PM every Wednesday\, until supplies last. Reservations are highly recommended.
URL:https://www.kesslercollection.com/bohemian-asheville/event/prime-rib-night-at-red-stag-grill-3/2026-08-19/
ATTACH;FMTTYPE=image/jpeg:https://www.kesslercollection.com/bohemian-asheville/wp-content/uploads/sites/7/2024/06/AdobeStock_187072649-scaled.jpeg
END:VEVENT
BEGIN:VEVENT
DTSTART;TZID=America/New_York:20260824T170000
DTEND;TZID=America/New_York:20260824T213000
DTSTAMP:20260420T225515
CREATED:20250701T210247Z
LAST-MODIFIED:20250701T210750Z
UID:10002030-1787590800-1787607000@www.kesslercollection.com
SUMMARY:Wine Up Mondays at Red Stag Grill
DESCRIPTION:Raise your glass to the good times and indulge in fine wines at a special price with Wine Up Mondays. Join us Monday evenings for 50% off any wine bottle from our award-winning wine cellar when you dine at Red Stag Grill.
URL:https://www.kesslercollection.com/bohemian-asheville/event/wine-up-mondays-at-red-stag-grill-3/2026-08-24/
ATTACH;FMTTYPE=image/jpeg:https://www.kesslercollection.com/bohemian-asheville/wp-content/uploads/sites/7/2025/07/1L7A6621-min-scaled-e1751403261884.jpg
END:VEVENT
BEGIN:VEVENT
DTSTART;TZID=America/New_York:20260826T170000
DTEND;TZID=America/New_York:20260826T220000
DTSTAMP:20260420T225515
CREATED:20250701T204443Z
LAST-MODIFIED:20250701T210436Z
UID:10001770-1787763600-1787781600@www.kesslercollection.com
SUMMARY:Prime Rib Night at Red Stag Grill
DESCRIPTION:Join us at Red Stag Grill every Wednesday for an unforgettable dining experience. For $95\, indulge in a special 3-course menu by our Chef De Cuisine Michelle Britten\, featuring our signature Prime Rib prepared to perfection. \nThe Prime Rib special is available at 5:00 PM every Wednesday\, until supplies last. Reservations are highly recommended.
URL:https://www.kesslercollection.com/bohemian-asheville/event/prime-rib-night-at-red-stag-grill-3/2026-08-26/
ATTACH;FMTTYPE=image/jpeg:https://www.kesslercollection.com/bohemian-asheville/wp-content/uploads/sites/7/2024/06/AdobeStock_187072649-scaled.jpeg
END:VEVENT
BEGIN:VEVENT
DTSTART;TZID=America/New_York:20260831T170000
DTEND;TZID=America/New_York:20260831T213000
DTSTAMP:20260420T225515
CREATED:20250701T210247Z
LAST-MODIFIED:20250701T210750Z
UID:10002031-1788195600-1788211800@www.kesslercollection.com
SUMMARY:Wine Up Mondays at Red Stag Grill
DESCRIPTION:Raise your glass to the good times and indulge in fine wines at a special price with Wine Up Mondays. Join us Monday evenings for 50% off any wine bottle from our award-winning wine cellar when you dine at Red Stag Grill.
URL:https://www.kesslercollection.com/bohemian-asheville/event/wine-up-mondays-at-red-stag-grill-3/2026-08-31/
ATTACH;FMTTYPE=image/jpeg:https://www.kesslercollection.com/bohemian-asheville/wp-content/uploads/sites/7/2025/07/1L7A6621-min-scaled-e1751403261884.jpg
END:VEVENT
BEGIN:VEVENT
DTSTART;TZID=America/New_York:20260902T170000
DTEND;TZID=America/New_York:20260902T220000
DTSTAMP:20260420T225515
CREATED:20250701T204443Z
LAST-MODIFIED:20250701T210436Z
UID:10001771-1788368400-1788386400@www.kesslercollection.com
SUMMARY:Prime Rib Night at Red Stag Grill
DESCRIPTION:Join us at Red Stag Grill every Wednesday for an unforgettable dining experience. For $95\, indulge in a special 3-course menu by our Chef De Cuisine Michelle Britten\, featuring our signature Prime Rib prepared to perfection. \nThe Prime Rib special is available at 5:00 PM every Wednesday\, until supplies last. Reservations are highly recommended.
URL:https://www.kesslercollection.com/bohemian-asheville/event/prime-rib-night-at-red-stag-grill-3/2026-09-02/
ATTACH;FMTTYPE=image/jpeg:https://www.kesslercollection.com/bohemian-asheville/wp-content/uploads/sites/7/2024/06/AdobeStock_187072649-scaled.jpeg
END:VEVENT
BEGIN:VEVENT
DTSTART;TZID=America/New_York:20260907T170000
DTEND;TZID=America/New_York:20260907T213000
DTSTAMP:20260420T225515
CREATED:20250701T210247Z
LAST-MODIFIED:20250701T210750Z
UID:10002032-1788800400-1788816600@www.kesslercollection.com
SUMMARY:Wine Up Mondays at Red Stag Grill
DESCRIPTION:Raise your glass to the good times and indulge in fine wines at a special price with Wine Up Mondays. Join us Monday evenings for 50% off any wine bottle from our award-winning wine cellar when you dine at Red Stag Grill.
URL:https://www.kesslercollection.com/bohemian-asheville/event/wine-up-mondays-at-red-stag-grill-3/2026-09-07/
ATTACH;FMTTYPE=image/jpeg:https://www.kesslercollection.com/bohemian-asheville/wp-content/uploads/sites/7/2025/07/1L7A6621-min-scaled-e1751403261884.jpg
END:VEVENT
BEGIN:VEVENT
DTSTART;TZID=America/New_York:20260909T170000
DTEND;TZID=America/New_York:20260909T220000
DTSTAMP:20260420T225515
CREATED:20250701T204443Z
LAST-MODIFIED:20250701T210436Z
UID:10001772-1788973200-1788991200@www.kesslercollection.com
SUMMARY:Prime Rib Night at Red Stag Grill
DESCRIPTION:Join us at Red Stag Grill every Wednesday for an unforgettable dining experience. For $95\, indulge in a special 3-course menu by our Chef De Cuisine Michelle Britten\, featuring our signature Prime Rib prepared to perfection. \nThe Prime Rib special is available at 5:00 PM every Wednesday\, until supplies last. Reservations are highly recommended.
URL:https://www.kesslercollection.com/bohemian-asheville/event/prime-rib-night-at-red-stag-grill-3/2026-09-09/
ATTACH;FMTTYPE=image/jpeg:https://www.kesslercollection.com/bohemian-asheville/wp-content/uploads/sites/7/2024/06/AdobeStock_187072649-scaled.jpeg
END:VEVENT
BEGIN:VEVENT
DTSTART;TZID=America/New_York:20260914T170000
DTEND;TZID=America/New_York:20260914T213000
DTSTAMP:20260420T225515
CREATED:20250701T210247Z
LAST-MODIFIED:20250701T210750Z
UID:10002033-1789405200-1789421400@www.kesslercollection.com
SUMMARY:Wine Up Mondays at Red Stag Grill
DESCRIPTION:Raise your glass to the good times and indulge in fine wines at a special price with Wine Up Mondays. Join us Monday evenings for 50% off any wine bottle from our award-winning wine cellar when you dine at Red Stag Grill.
URL:https://www.kesslercollection.com/bohemian-asheville/event/wine-up-mondays-at-red-stag-grill-3/2026-09-14/
ATTACH;FMTTYPE=image/jpeg:https://www.kesslercollection.com/bohemian-asheville/wp-content/uploads/sites/7/2025/07/1L7A6621-min-scaled-e1751403261884.jpg
END:VEVENT
BEGIN:VEVENT
DTSTART;TZID=America/New_York:20260916T170000
DTEND;TZID=America/New_York:20260916T220000
DTSTAMP:20260420T225515
CREATED:20250701T204443Z
LAST-MODIFIED:20250701T210436Z
UID:10001773-1789578000-1789596000@www.kesslercollection.com
SUMMARY:Prime Rib Night at Red Stag Grill
DESCRIPTION:Join us at Red Stag Grill every Wednesday for an unforgettable dining experience. For $95\, indulge in a special 3-course menu by our Chef De Cuisine Michelle Britten\, featuring our signature Prime Rib prepared to perfection. \nThe Prime Rib special is available at 5:00 PM every Wednesday\, until supplies last. Reservations are highly recommended.
URL:https://www.kesslercollection.com/bohemian-asheville/event/prime-rib-night-at-red-stag-grill-3/2026-09-16/
ATTACH;FMTTYPE=image/jpeg:https://www.kesslercollection.com/bohemian-asheville/wp-content/uploads/sites/7/2024/06/AdobeStock_187072649-scaled.jpeg
END:VEVENT
BEGIN:VEVENT
DTSTART;TZID=America/New_York:20260921T170000
DTEND;TZID=America/New_York:20260921T213000
DTSTAMP:20260420T225515
CREATED:20250701T210247Z
LAST-MODIFIED:20250701T210750Z
UID:10002034-1790010000-1790026200@www.kesslercollection.com
SUMMARY:Wine Up Mondays at Red Stag Grill
DESCRIPTION:Raise your glass to the good times and indulge in fine wines at a special price with Wine Up Mondays. Join us Monday evenings for 50% off any wine bottle from our award-winning wine cellar when you dine at Red Stag Grill.
URL:https://www.kesslercollection.com/bohemian-asheville/event/wine-up-mondays-at-red-stag-grill-3/2026-09-21/
ATTACH;FMTTYPE=image/jpeg:https://www.kesslercollection.com/bohemian-asheville/wp-content/uploads/sites/7/2025/07/1L7A6621-min-scaled-e1751403261884.jpg
END:VEVENT
BEGIN:VEVENT
DTSTART;TZID=America/New_York:20260923T170000
DTEND;TZID=America/New_York:20260923T220000
DTSTAMP:20260420T225515
CREATED:20250701T204443Z
LAST-MODIFIED:20250701T210436Z
UID:10001774-1790182800-1790200800@www.kesslercollection.com
SUMMARY:Prime Rib Night at Red Stag Grill
DESCRIPTION:Join us at Red Stag Grill every Wednesday for an unforgettable dining experience. For $95\, indulge in a special 3-course menu by our Chef De Cuisine Michelle Britten\, featuring our signature Prime Rib prepared to perfection. \nThe Prime Rib special is available at 5:00 PM every Wednesday\, until supplies last. Reservations are highly recommended.
URL:https://www.kesslercollection.com/bohemian-asheville/event/prime-rib-night-at-red-stag-grill-3/2026-09-23/
ATTACH;FMTTYPE=image/jpeg:https://www.kesslercollection.com/bohemian-asheville/wp-content/uploads/sites/7/2024/06/AdobeStock_187072649-scaled.jpeg
END:VEVENT
BEGIN:VEVENT
DTSTART;TZID=America/New_York:20260928T170000
DTEND;TZID=America/New_York:20260928T213000
DTSTAMP:20260420T225515
CREATED:20250701T210247Z
LAST-MODIFIED:20250701T210750Z
UID:10002035-1790614800-1790631000@www.kesslercollection.com
SUMMARY:Wine Up Mondays at Red Stag Grill
DESCRIPTION:Raise your glass to the good times and indulge in fine wines at a special price with Wine Up Mondays. Join us Monday evenings for 50% off any wine bottle from our award-winning wine cellar when you dine at Red Stag Grill.
URL:https://www.kesslercollection.com/bohemian-asheville/event/wine-up-mondays-at-red-stag-grill-3/2026-09-28/
ATTACH;FMTTYPE=image/jpeg:https://www.kesslercollection.com/bohemian-asheville/wp-content/uploads/sites/7/2025/07/1L7A6621-min-scaled-e1751403261884.jpg
END:VEVENT
BEGIN:VEVENT
DTSTART;TZID=America/New_York:20260930T170000
DTEND;TZID=America/New_York:20260930T220000
DTSTAMP:20260420T225515
CREATED:20250701T204443Z
LAST-MODIFIED:20250701T210436Z
UID:10001775-1790787600-1790805600@www.kesslercollection.com
SUMMARY:Prime Rib Night at Red Stag Grill
DESCRIPTION:Join us at Red Stag Grill every Wednesday for an unforgettable dining experience. For $95\, indulge in a special 3-course menu by our Chef De Cuisine Michelle Britten\, featuring our signature Prime Rib prepared to perfection. \nThe Prime Rib special is available at 5:00 PM every Wednesday\, until supplies last. Reservations are highly recommended.
URL:https://www.kesslercollection.com/bohemian-asheville/event/prime-rib-night-at-red-stag-grill-3/2026-09-30/
ATTACH;FMTTYPE=image/jpeg:https://www.kesslercollection.com/bohemian-asheville/wp-content/uploads/sites/7/2024/06/AdobeStock_187072649-scaled.jpeg
END:VEVENT
BEGIN:VEVENT
DTSTART;TZID=America/New_York:20261005T170000
DTEND;TZID=America/New_York:20261005T213000
DTSTAMP:20260420T225515
CREATED:20250701T210247Z
LAST-MODIFIED:20250701T210750Z
UID:10002036-1791219600-1791235800@www.kesslercollection.com
SUMMARY:Wine Up Mondays at Red Stag Grill
DESCRIPTION:Raise your glass to the good times and indulge in fine wines at a special price with Wine Up Mondays. Join us Monday evenings for 50% off any wine bottle from our award-winning wine cellar when you dine at Red Stag Grill.
URL:https://www.kesslercollection.com/bohemian-asheville/event/wine-up-mondays-at-red-stag-grill-3/2026-10-05/
ATTACH;FMTTYPE=image/jpeg:https://www.kesslercollection.com/bohemian-asheville/wp-content/uploads/sites/7/2025/07/1L7A6621-min-scaled-e1751403261884.jpg
END:VEVENT
BEGIN:VEVENT
DTSTART;TZID=America/New_York:20261007T170000
DTEND;TZID=America/New_York:20261007T220000
DTSTAMP:20260420T225515
CREATED:20250701T204443Z
LAST-MODIFIED:20250701T210436Z
UID:10001776-1791392400-1791410400@www.kesslercollection.com
SUMMARY:Prime Rib Night at Red Stag Grill
DESCRIPTION:Join us at Red Stag Grill every Wednesday for an unforgettable dining experience. For $95\, indulge in a special 3-course menu by our Chef De Cuisine Michelle Britten\, featuring our signature Prime Rib prepared to perfection. \nThe Prime Rib special is available at 5:00 PM every Wednesday\, until supplies last. Reservations are highly recommended.
URL:https://www.kesslercollection.com/bohemian-asheville/event/prime-rib-night-at-red-stag-grill-3/2026-10-07/
ATTACH;FMTTYPE=image/jpeg:https://www.kesslercollection.com/bohemian-asheville/wp-content/uploads/sites/7/2024/06/AdobeStock_187072649-scaled.jpeg
END:VEVENT
BEGIN:VEVENT
DTSTART;TZID=America/New_York:20261012T170000
DTEND;TZID=America/New_York:20261012T213000
DTSTAMP:20260420T225515
CREATED:20250701T210247Z
LAST-MODIFIED:20250701T210750Z
UID:10002037-1791824400-1791840600@www.kesslercollection.com
SUMMARY:Wine Up Mondays at Red Stag Grill
DESCRIPTION:Raise your glass to the good times and indulge in fine wines at a special price with Wine Up Mondays. Join us Monday evenings for 50% off any wine bottle from our award-winning wine cellar when you dine at Red Stag Grill.
URL:https://www.kesslercollection.com/bohemian-asheville/event/wine-up-mondays-at-red-stag-grill-3/2026-10-12/
ATTACH;FMTTYPE=image/jpeg:https://www.kesslercollection.com/bohemian-asheville/wp-content/uploads/sites/7/2025/07/1L7A6621-min-scaled-e1751403261884.jpg
END:VEVENT
BEGIN:VEVENT
DTSTART;TZID=America/New_York:20261014T170000
DTEND;TZID=America/New_York:20261014T220000
DTSTAMP:20260420T225515
CREATED:20250701T204443Z
LAST-MODIFIED:20250701T210436Z
UID:10001777-1791997200-1792015200@www.kesslercollection.com
SUMMARY:Prime Rib Night at Red Stag Grill
DESCRIPTION:Join us at Red Stag Grill every Wednesday for an unforgettable dining experience. For $95\, indulge in a special 3-course menu by our Chef De Cuisine Michelle Britten\, featuring our signature Prime Rib prepared to perfection. \nThe Prime Rib special is available at 5:00 PM every Wednesday\, until supplies last. Reservations are highly recommended.
URL:https://www.kesslercollection.com/bohemian-asheville/event/prime-rib-night-at-red-stag-grill-3/2026-10-14/
ATTACH;FMTTYPE=image/jpeg:https://www.kesslercollection.com/bohemian-asheville/wp-content/uploads/sites/7/2024/06/AdobeStock_187072649-scaled.jpeg
END:VEVENT
BEGIN:VEVENT
DTSTART;TZID=America/New_York:20261019T170000
DTEND;TZID=America/New_York:20261019T213000
DTSTAMP:20260420T225515
CREATED:20250701T210247Z
LAST-MODIFIED:20250701T210750Z
UID:10002038-1792429200-1792445400@www.kesslercollection.com
SUMMARY:Wine Up Mondays at Red Stag Grill
DESCRIPTION:Raise your glass to the good times and indulge in fine wines at a special price with Wine Up Mondays. Join us Monday evenings for 50% off any wine bottle from our award-winning wine cellar when you dine at Red Stag Grill.
URL:https://www.kesslercollection.com/bohemian-asheville/event/wine-up-mondays-at-red-stag-grill-3/2026-10-19/
ATTACH;FMTTYPE=image/jpeg:https://www.kesslercollection.com/bohemian-asheville/wp-content/uploads/sites/7/2025/07/1L7A6621-min-scaled-e1751403261884.jpg
END:VEVENT
BEGIN:VEVENT
DTSTART;TZID=America/New_York:20261021T170000
DTEND;TZID=America/New_York:20261021T220000
DTSTAMP:20260420T225515
CREATED:20250701T204443Z
LAST-MODIFIED:20250701T210436Z
UID:10001778-1792602000-1792620000@www.kesslercollection.com
SUMMARY:Prime Rib Night at Red Stag Grill
DESCRIPTION:Join us at Red Stag Grill every Wednesday for an unforgettable dining experience. For $95\, indulge in a special 3-course menu by our Chef De Cuisine Michelle Britten\, featuring our signature Prime Rib prepared to perfection. \nThe Prime Rib special is available at 5:00 PM every Wednesday\, until supplies last. Reservations are highly recommended.
URL:https://www.kesslercollection.com/bohemian-asheville/event/prime-rib-night-at-red-stag-grill-3/2026-10-21/
ATTACH;FMTTYPE=image/jpeg:https://www.kesslercollection.com/bohemian-asheville/wp-content/uploads/sites/7/2024/06/AdobeStock_187072649-scaled.jpeg
END:VEVENT
END:VCALENDAR