BEGIN:VCALENDAR
VERSION:2.0
PRODID:-//Grand Bohemian Lodge Asheville - ECPv6.15.20//NONSGML v1.0//EN
CALSCALE:GREGORIAN
METHOD:PUBLISH
X-ORIGINAL-URL:https://www.kesslercollection.com/bohemian-asheville
X-WR-CALDESC:Events for Grand Bohemian Lodge Asheville
REFRESH-INTERVAL;VALUE=DURATION:PT1H
X-Robots-Tag:noindex
X-PUBLISHED-TTL:PT1H
BEGIN:VTIMEZONE
TZID:America/New_York
BEGIN:DAYLIGHT
TZOFFSETFROM:-0500
TZOFFSETTO:-0400
TZNAME:EDT
DTSTART:20230312T070000
END:DAYLIGHT
BEGIN:STANDARD
TZOFFSETFROM:-0400
TZOFFSETTO:-0500
TZNAME:EST
DTSTART:20231105T060000
END:STANDARD
BEGIN:DAYLIGHT
TZOFFSETFROM:-0500
TZOFFSETTO:-0400
TZNAME:EDT
DTSTART:20240310T070000
END:DAYLIGHT
BEGIN:STANDARD
TZOFFSETFROM:-0400
TZOFFSETTO:-0500
TZNAME:EST
DTSTART:20241103T060000
END:STANDARD
BEGIN:DAYLIGHT
TZOFFSETFROM:-0500
TZOFFSETTO:-0400
TZNAME:EDT
DTSTART:20250309T070000
END:DAYLIGHT
BEGIN:STANDARD
TZOFFSETFROM:-0400
TZOFFSETTO:-0500
TZNAME:EST
DTSTART:20251102T060000
END:STANDARD
BEGIN:DAYLIGHT
TZOFFSETFROM:-0500
TZOFFSETTO:-0400
TZNAME:EDT
DTSTART:20260308T070000
END:DAYLIGHT
BEGIN:STANDARD
TZOFFSETFROM:-0400
TZOFFSETTO:-0500
TZNAME:EST
DTSTART:20261101T060000
END:STANDARD
END:VTIMEZONE
BEGIN:VEVENT
DTSTART;TZID=America/New_York:20241116T180000
DTEND;TZID=America/New_York:20241116T210000
DTSTAMP:20260421T222539
CREATED:20241016T181641Z
LAST-MODIFIED:20241016T181641Z
UID:10001448-1731780000-1731790800@www.kesslercollection.com
SUMMARY:Event Moved - Private Dinner with JCR
DESCRIPTION:IMPORTANT ANNOUNCEMENT: Due to Hurricane Helene’s devastation\, this event has been moved from Grand Bohemian Asheville to Grand Bohemian Lodge Greenville. \n  \nJoin us under the inspiring suns of Jean Claude Roy’s radiant landscapes during the artist’s 22nd Annual Art Tour. Explore Roy’s latest masterpieces and add them to your collection during a series of receptions\, private dinners\, and exhibitions hosted within Kessler’s exquisite boutique hotels. \n  \nRSVP for our private dinner on November 16th at 6:00 PM to enjoy an intimate evening with Jean Claude Roy featuring a five-course dinner and hand-selected French wine pairings.
URL:https://www.kesslercollection.com/bohemian-asheville/event/event-moved-private-dinner-with-jcr/
LOCATION:Grand Bohemian Lodge Greenville\, 44 E Camperdown Way\, Greenville\, SC\, 29601\, United States
ATTACH;FMTTYPE=image/png:https://www.kesslercollection.com/bohemian-asheville/wp-content/uploads/sites/7/2024/10/Disco-34.png
END:VEVENT
BEGIN:VEVENT
DTSTART;TZID=America/New_York:20250702T170000
DTEND;TZID=America/New_York:20250702T213000
DTSTAMP:20260421T222539
CREATED:20250701T204239Z
LAST-MODIFIED:20250702T133758Z
UID:10001293-1751475600-1751491800@www.kesslercollection.com
SUMMARY:Prime Rib Night at Red Stag Grill
DESCRIPTION:Join us at Red Stag Grill every Wednesday for an unforgettable dining experience. For $95\, indulge in a special 3-course menu by our Chef De Cuisine Michelle Britten\, featuring our signature Prime Rib prepared to perfection. \nThe Prime Rib special is available at 5:00 PM every Wednesday\, until supplies last. Reservations are highly recommended.
URL:https://www.kesslercollection.com/bohemian-asheville/event/prime-rib-night-at-red-stag-grill-2/
LOCATION:Red Stag Grill\, 11 Boston Way\, Asheville\, NC\, 28803\, United States
ATTACH;FMTTYPE=image/jpeg:https://www.kesslercollection.com/bohemian-asheville/wp-content/uploads/sites/7/2024/06/AdobeStock_187072649-scaled.jpeg
END:VEVENT
BEGIN:VEVENT
DTSTART;TZID=America/New_York:20250707T170000
DTEND;TZID=America/New_York:20250707T213000
DTSTAMP:20260421T222539
CREATED:20250701T210247Z
LAST-MODIFIED:20250701T210750Z
UID:10001971-1751907600-1751923800@www.kesslercollection.com
SUMMARY:Wine Up Mondays at Red Stag Grill
DESCRIPTION:Raise your glass to the good times and indulge in fine wines at a special price with Wine Up Mondays. Join us Monday evenings for 50% off any wine bottle from our award-winning wine cellar when you dine at Red Stag Grill.
URL:https://www.kesslercollection.com/bohemian-asheville/event/wine-up-mondays-at-red-stag-grill-3/2025-07-07/
ATTACH;FMTTYPE=image/jpeg:https://www.kesslercollection.com/bohemian-asheville/wp-content/uploads/sites/7/2025/07/1L7A6621-min-scaled-e1751403261884.jpg
END:VEVENT
BEGIN:VEVENT
DTSTART;TZID=America/New_York:20250709T170000
DTEND;TZID=America/New_York:20250709T220000
DTSTAMP:20260421T222539
CREATED:20250701T204443Z
LAST-MODIFIED:20250701T210436Z
UID:10001711-1752080400-1752098400@www.kesslercollection.com
SUMMARY:Prime Rib Night at Red Stag Grill
DESCRIPTION:Join us at Red Stag Grill every Wednesday for an unforgettable dining experience. For $95\, indulge in a special 3-course menu by our Chef De Cuisine Michelle Britten\, featuring our signature Prime Rib prepared to perfection. \nThe Prime Rib special is available at 5:00 PM every Wednesday\, until supplies last. Reservations are highly recommended.
URL:https://www.kesslercollection.com/bohemian-asheville/event/prime-rib-night-at-red-stag-grill-3/2025-07-09/
ATTACH;FMTTYPE=image/jpeg:https://www.kesslercollection.com/bohemian-asheville/wp-content/uploads/sites/7/2024/06/AdobeStock_187072649-scaled.jpeg
END:VEVENT
BEGIN:VEVENT
DTSTART;TZID=America/New_York:20250714T170000
DTEND;TZID=America/New_York:20250714T213000
DTSTAMP:20260421T222539
CREATED:20250701T210247Z
LAST-MODIFIED:20250701T210750Z
UID:10001972-1752512400-1752528600@www.kesslercollection.com
SUMMARY:Wine Up Mondays at Red Stag Grill
DESCRIPTION:Raise your glass to the good times and indulge in fine wines at a special price with Wine Up Mondays. Join us Monday evenings for 50% off any wine bottle from our award-winning wine cellar when you dine at Red Stag Grill.
URL:https://www.kesslercollection.com/bohemian-asheville/event/wine-up-mondays-at-red-stag-grill-3/2025-07-14/
ATTACH;FMTTYPE=image/jpeg:https://www.kesslercollection.com/bohemian-asheville/wp-content/uploads/sites/7/2025/07/1L7A6621-min-scaled-e1751403261884.jpg
END:VEVENT
BEGIN:VEVENT
DTSTART;TZID=America/New_York:20250716T170000
DTEND;TZID=America/New_York:20250716T220000
DTSTAMP:20260421T222539
CREATED:20250701T204443Z
LAST-MODIFIED:20250701T210436Z
UID:10001712-1752685200-1752703200@www.kesslercollection.com
SUMMARY:Prime Rib Night at Red Stag Grill
DESCRIPTION:Join us at Red Stag Grill every Wednesday for an unforgettable dining experience. For $95\, indulge in a special 3-course menu by our Chef De Cuisine Michelle Britten\, featuring our signature Prime Rib prepared to perfection. \nThe Prime Rib special is available at 5:00 PM every Wednesday\, until supplies last. Reservations are highly recommended.
URL:https://www.kesslercollection.com/bohemian-asheville/event/prime-rib-night-at-red-stag-grill-3/2025-07-16/
ATTACH;FMTTYPE=image/jpeg:https://www.kesslercollection.com/bohemian-asheville/wp-content/uploads/sites/7/2024/06/AdobeStock_187072649-scaled.jpeg
END:VEVENT
BEGIN:VEVENT
DTSTART;TZID=America/New_York:20250721T170000
DTEND;TZID=America/New_York:20250721T213000
DTSTAMP:20260421T222539
CREATED:20250701T210247Z
LAST-MODIFIED:20250701T210750Z
UID:10001973-1753117200-1753133400@www.kesslercollection.com
SUMMARY:Wine Up Mondays at Red Stag Grill
DESCRIPTION:Raise your glass to the good times and indulge in fine wines at a special price with Wine Up Mondays. Join us Monday evenings for 50% off any wine bottle from our award-winning wine cellar when you dine at Red Stag Grill.
URL:https://www.kesslercollection.com/bohemian-asheville/event/wine-up-mondays-at-red-stag-grill-3/2025-07-21/
ATTACH;FMTTYPE=image/jpeg:https://www.kesslercollection.com/bohemian-asheville/wp-content/uploads/sites/7/2025/07/1L7A6621-min-scaled-e1751403261884.jpg
END:VEVENT
BEGIN:VEVENT
DTSTART;TZID=America/New_York:20250723T170000
DTEND;TZID=America/New_York:20250723T220000
DTSTAMP:20260421T222539
CREATED:20250701T204443Z
LAST-MODIFIED:20250701T210436Z
UID:10001713-1753290000-1753308000@www.kesslercollection.com
SUMMARY:Prime Rib Night at Red Stag Grill
DESCRIPTION:Join us at Red Stag Grill every Wednesday for an unforgettable dining experience. For $95\, indulge in a special 3-course menu by our Chef De Cuisine Michelle Britten\, featuring our signature Prime Rib prepared to perfection. \nThe Prime Rib special is available at 5:00 PM every Wednesday\, until supplies last. Reservations are highly recommended.
URL:https://www.kesslercollection.com/bohemian-asheville/event/prime-rib-night-at-red-stag-grill-3/2025-07-23/
ATTACH;FMTTYPE=image/jpeg:https://www.kesslercollection.com/bohemian-asheville/wp-content/uploads/sites/7/2024/06/AdobeStock_187072649-scaled.jpeg
END:VEVENT
BEGIN:VEVENT
DTSTART;TZID=America/New_York:20250728T170000
DTEND;TZID=America/New_York:20250728T213000
DTSTAMP:20260421T222539
CREATED:20250701T210247Z
LAST-MODIFIED:20250701T210750Z
UID:10001974-1753722000-1753738200@www.kesslercollection.com
SUMMARY:Wine Up Mondays at Red Stag Grill
DESCRIPTION:Raise your glass to the good times and indulge in fine wines at a special price with Wine Up Mondays. Join us Monday evenings for 50% off any wine bottle from our award-winning wine cellar when you dine at Red Stag Grill.
URL:https://www.kesslercollection.com/bohemian-asheville/event/wine-up-mondays-at-red-stag-grill-3/2025-07-28/
ATTACH;FMTTYPE=image/jpeg:https://www.kesslercollection.com/bohemian-asheville/wp-content/uploads/sites/7/2025/07/1L7A6621-min-scaled-e1751403261884.jpg
END:VEVENT
BEGIN:VEVENT
DTSTART;TZID=America/New_York:20250730T170000
DTEND;TZID=America/New_York:20250730T220000
DTSTAMP:20260421T222539
CREATED:20250701T204443Z
LAST-MODIFIED:20250701T210436Z
UID:10001714-1753894800-1753912800@www.kesslercollection.com
SUMMARY:Prime Rib Night at Red Stag Grill
DESCRIPTION:Join us at Red Stag Grill every Wednesday for an unforgettable dining experience. For $95\, indulge in a special 3-course menu by our Chef De Cuisine Michelle Britten\, featuring our signature Prime Rib prepared to perfection. \nThe Prime Rib special is available at 5:00 PM every Wednesday\, until supplies last. Reservations are highly recommended.
URL:https://www.kesslercollection.com/bohemian-asheville/event/prime-rib-night-at-red-stag-grill-3/2025-07-30/
ATTACH;FMTTYPE=image/jpeg:https://www.kesslercollection.com/bohemian-asheville/wp-content/uploads/sites/7/2024/06/AdobeStock_187072649-scaled.jpeg
END:VEVENT
BEGIN:VEVENT
DTSTART;TZID=America/New_York:20250804T170000
DTEND;TZID=America/New_York:20250804T213000
DTSTAMP:20260421T222539
CREATED:20250701T210247Z
LAST-MODIFIED:20250701T210750Z
UID:10001975-1754326800-1754343000@www.kesslercollection.com
SUMMARY:Wine Up Mondays at Red Stag Grill
DESCRIPTION:Raise your glass to the good times and indulge in fine wines at a special price with Wine Up Mondays. Join us Monday evenings for 50% off any wine bottle from our award-winning wine cellar when you dine at Red Stag Grill.
URL:https://www.kesslercollection.com/bohemian-asheville/event/wine-up-mondays-at-red-stag-grill-3/2025-08-04/
ATTACH;FMTTYPE=image/jpeg:https://www.kesslercollection.com/bohemian-asheville/wp-content/uploads/sites/7/2025/07/1L7A6621-min-scaled-e1751403261884.jpg
END:VEVENT
BEGIN:VEVENT
DTSTART;TZID=America/New_York:20250806T170000
DTEND;TZID=America/New_York:20250806T220000
DTSTAMP:20260421T222539
CREATED:20250701T204443Z
LAST-MODIFIED:20250701T210436Z
UID:10001715-1754499600-1754517600@www.kesslercollection.com
SUMMARY:Prime Rib Night at Red Stag Grill
DESCRIPTION:Join us at Red Stag Grill every Wednesday for an unforgettable dining experience. For $95\, indulge in a special 3-course menu by our Chef De Cuisine Michelle Britten\, featuring our signature Prime Rib prepared to perfection. \nThe Prime Rib special is available at 5:00 PM every Wednesday\, until supplies last. Reservations are highly recommended.
URL:https://www.kesslercollection.com/bohemian-asheville/event/prime-rib-night-at-red-stag-grill-3/2025-08-06/
ATTACH;FMTTYPE=image/jpeg:https://www.kesslercollection.com/bohemian-asheville/wp-content/uploads/sites/7/2024/06/AdobeStock_187072649-scaled.jpeg
END:VEVENT
BEGIN:VEVENT
DTSTART;TZID=America/New_York:20250811T170000
DTEND;TZID=America/New_York:20250811T213000
DTSTAMP:20260421T222539
CREATED:20250701T210247Z
LAST-MODIFIED:20250701T210750Z
UID:10001976-1754931600-1754947800@www.kesslercollection.com
SUMMARY:Wine Up Mondays at Red Stag Grill
DESCRIPTION:Raise your glass to the good times and indulge in fine wines at a special price with Wine Up Mondays. Join us Monday evenings for 50% off any wine bottle from our award-winning wine cellar when you dine at Red Stag Grill.
URL:https://www.kesslercollection.com/bohemian-asheville/event/wine-up-mondays-at-red-stag-grill-3/2025-08-11/
ATTACH;FMTTYPE=image/jpeg:https://www.kesslercollection.com/bohemian-asheville/wp-content/uploads/sites/7/2025/07/1L7A6621-min-scaled-e1751403261884.jpg
END:VEVENT
BEGIN:VEVENT
DTSTART;TZID=America/New_York:20250813T170000
DTEND;TZID=America/New_York:20250813T220000
DTSTAMP:20260421T222539
CREATED:20250701T204443Z
LAST-MODIFIED:20250701T210436Z
UID:10001716-1755104400-1755122400@www.kesslercollection.com
SUMMARY:Prime Rib Night at Red Stag Grill
DESCRIPTION:Join us at Red Stag Grill every Wednesday for an unforgettable dining experience. For $95\, indulge in a special 3-course menu by our Chef De Cuisine Michelle Britten\, featuring our signature Prime Rib prepared to perfection. \nThe Prime Rib special is available at 5:00 PM every Wednesday\, until supplies last. Reservations are highly recommended.
URL:https://www.kesslercollection.com/bohemian-asheville/event/prime-rib-night-at-red-stag-grill-3/2025-08-13/
ATTACH;FMTTYPE=image/jpeg:https://www.kesslercollection.com/bohemian-asheville/wp-content/uploads/sites/7/2024/06/AdobeStock_187072649-scaled.jpeg
END:VEVENT
BEGIN:VEVENT
DTSTART;TZID=America/New_York:20250818T170000
DTEND;TZID=America/New_York:20250818T213000
DTSTAMP:20260421T222539
CREATED:20250701T210247Z
LAST-MODIFIED:20250701T210750Z
UID:10001977-1755536400-1755552600@www.kesslercollection.com
SUMMARY:Wine Up Mondays at Red Stag Grill
DESCRIPTION:Raise your glass to the good times and indulge in fine wines at a special price with Wine Up Mondays. Join us Monday evenings for 50% off any wine bottle from our award-winning wine cellar when you dine at Red Stag Grill.
URL:https://www.kesslercollection.com/bohemian-asheville/event/wine-up-mondays-at-red-stag-grill-3/2025-08-18/
ATTACH;FMTTYPE=image/jpeg:https://www.kesslercollection.com/bohemian-asheville/wp-content/uploads/sites/7/2025/07/1L7A6621-min-scaled-e1751403261884.jpg
END:VEVENT
BEGIN:VEVENT
DTSTART;TZID=America/New_York:20250820T170000
DTEND;TZID=America/New_York:20250820T220000
DTSTAMP:20260421T222539
CREATED:20250701T204443Z
LAST-MODIFIED:20250701T210436Z
UID:10001717-1755709200-1755727200@www.kesslercollection.com
SUMMARY:Prime Rib Night at Red Stag Grill
DESCRIPTION:Join us at Red Stag Grill every Wednesday for an unforgettable dining experience. For $95\, indulge in a special 3-course menu by our Chef De Cuisine Michelle Britten\, featuring our signature Prime Rib prepared to perfection. \nThe Prime Rib special is available at 5:00 PM every Wednesday\, until supplies last. Reservations are highly recommended.
URL:https://www.kesslercollection.com/bohemian-asheville/event/prime-rib-night-at-red-stag-grill-3/2025-08-20/
ATTACH;FMTTYPE=image/jpeg:https://www.kesslercollection.com/bohemian-asheville/wp-content/uploads/sites/7/2024/06/AdobeStock_187072649-scaled.jpeg
END:VEVENT
BEGIN:VEVENT
DTSTART;TZID=America/New_York:20250825T170000
DTEND;TZID=America/New_York:20250825T213000
DTSTAMP:20260421T222539
CREATED:20250701T210247Z
LAST-MODIFIED:20250701T210750Z
UID:10001978-1756141200-1756157400@www.kesslercollection.com
SUMMARY:Wine Up Mondays at Red Stag Grill
DESCRIPTION:Raise your glass to the good times and indulge in fine wines at a special price with Wine Up Mondays. Join us Monday evenings for 50% off any wine bottle from our award-winning wine cellar when you dine at Red Stag Grill.
URL:https://www.kesslercollection.com/bohemian-asheville/event/wine-up-mondays-at-red-stag-grill-3/2025-08-25/
ATTACH;FMTTYPE=image/jpeg:https://www.kesslercollection.com/bohemian-asheville/wp-content/uploads/sites/7/2025/07/1L7A6621-min-scaled-e1751403261884.jpg
END:VEVENT
BEGIN:VEVENT
DTSTART;TZID=America/New_York:20250827T170000
DTEND;TZID=America/New_York:20250827T220000
DTSTAMP:20260421T222539
CREATED:20250701T204443Z
LAST-MODIFIED:20250701T210436Z
UID:10001718-1756314000-1756332000@www.kesslercollection.com
SUMMARY:Prime Rib Night at Red Stag Grill
DESCRIPTION:Join us at Red Stag Grill every Wednesday for an unforgettable dining experience. For $95\, indulge in a special 3-course menu by our Chef De Cuisine Michelle Britten\, featuring our signature Prime Rib prepared to perfection. \nThe Prime Rib special is available at 5:00 PM every Wednesday\, until supplies last. Reservations are highly recommended.
URL:https://www.kesslercollection.com/bohemian-asheville/event/prime-rib-night-at-red-stag-grill-3/2025-08-27/
ATTACH;FMTTYPE=image/jpeg:https://www.kesslercollection.com/bohemian-asheville/wp-content/uploads/sites/7/2024/06/AdobeStock_187072649-scaled.jpeg
END:VEVENT
BEGIN:VEVENT
DTSTART;TZID=America/New_York:20250901T170000
DTEND;TZID=America/New_York:20250901T213000
DTSTAMP:20260421T222539
CREATED:20250701T210247Z
LAST-MODIFIED:20250701T210750Z
UID:10001979-1756746000-1756762200@www.kesslercollection.com
SUMMARY:Wine Up Mondays at Red Stag Grill
DESCRIPTION:Raise your glass to the good times and indulge in fine wines at a special price with Wine Up Mondays. Join us Monday evenings for 50% off any wine bottle from our award-winning wine cellar when you dine at Red Stag Grill.
URL:https://www.kesslercollection.com/bohemian-asheville/event/wine-up-mondays-at-red-stag-grill-3/2025-09-01/
ATTACH;FMTTYPE=image/jpeg:https://www.kesslercollection.com/bohemian-asheville/wp-content/uploads/sites/7/2025/07/1L7A6621-min-scaled-e1751403261884.jpg
END:VEVENT
BEGIN:VEVENT
DTSTART;TZID=America/New_York:20250903T170000
DTEND;TZID=America/New_York:20250903T220000
DTSTAMP:20260421T222539
CREATED:20250701T204443Z
LAST-MODIFIED:20250701T210436Z
UID:10001719-1756918800-1756936800@www.kesslercollection.com
SUMMARY:Prime Rib Night at Red Stag Grill
DESCRIPTION:Join us at Red Stag Grill every Wednesday for an unforgettable dining experience. For $95\, indulge in a special 3-course menu by our Chef De Cuisine Michelle Britten\, featuring our signature Prime Rib prepared to perfection. \nThe Prime Rib special is available at 5:00 PM every Wednesday\, until supplies last. Reservations are highly recommended.
URL:https://www.kesslercollection.com/bohemian-asheville/event/prime-rib-night-at-red-stag-grill-3/2025-09-03/
ATTACH;FMTTYPE=image/jpeg:https://www.kesslercollection.com/bohemian-asheville/wp-content/uploads/sites/7/2024/06/AdobeStock_187072649-scaled.jpeg
END:VEVENT
BEGIN:VEVENT
DTSTART;TZID=America/New_York:20250908T170000
DTEND;TZID=America/New_York:20250908T213000
DTSTAMP:20260421T222539
CREATED:20250701T210247Z
LAST-MODIFIED:20250701T210750Z
UID:10001980-1757350800-1757367000@www.kesslercollection.com
SUMMARY:Wine Up Mondays at Red Stag Grill
DESCRIPTION:Raise your glass to the good times and indulge in fine wines at a special price with Wine Up Mondays. Join us Monday evenings for 50% off any wine bottle from our award-winning wine cellar when you dine at Red Stag Grill.
URL:https://www.kesslercollection.com/bohemian-asheville/event/wine-up-mondays-at-red-stag-grill-3/2025-09-08/
ATTACH;FMTTYPE=image/jpeg:https://www.kesslercollection.com/bohemian-asheville/wp-content/uploads/sites/7/2025/07/1L7A6621-min-scaled-e1751403261884.jpg
END:VEVENT
BEGIN:VEVENT
DTSTART;TZID=America/New_York:20250910T170000
DTEND;TZID=America/New_York:20250910T220000
DTSTAMP:20260421T222539
CREATED:20250701T204443Z
LAST-MODIFIED:20250701T210436Z
UID:10001720-1757523600-1757541600@www.kesslercollection.com
SUMMARY:Prime Rib Night at Red Stag Grill
DESCRIPTION:Join us at Red Stag Grill every Wednesday for an unforgettable dining experience. For $95\, indulge in a special 3-course menu by our Chef De Cuisine Michelle Britten\, featuring our signature Prime Rib prepared to perfection. \nThe Prime Rib special is available at 5:00 PM every Wednesday\, until supplies last. Reservations are highly recommended.
URL:https://www.kesslercollection.com/bohemian-asheville/event/prime-rib-night-at-red-stag-grill-3/2025-09-10/
ATTACH;FMTTYPE=image/jpeg:https://www.kesslercollection.com/bohemian-asheville/wp-content/uploads/sites/7/2024/06/AdobeStock_187072649-scaled.jpeg
END:VEVENT
BEGIN:VEVENT
DTSTART;TZID=America/New_York:20250915T170000
DTEND;TZID=America/New_York:20250915T213000
DTSTAMP:20260421T222539
CREATED:20250701T210247Z
LAST-MODIFIED:20250701T210750Z
UID:10001981-1757955600-1757971800@www.kesslercollection.com
SUMMARY:Wine Up Mondays at Red Stag Grill
DESCRIPTION:Raise your glass to the good times and indulge in fine wines at a special price with Wine Up Mondays. Join us Monday evenings for 50% off any wine bottle from our award-winning wine cellar when you dine at Red Stag Grill.
URL:https://www.kesslercollection.com/bohemian-asheville/event/wine-up-mondays-at-red-stag-grill-3/2025-09-15/
ATTACH;FMTTYPE=image/jpeg:https://www.kesslercollection.com/bohemian-asheville/wp-content/uploads/sites/7/2025/07/1L7A6621-min-scaled-e1751403261884.jpg
END:VEVENT
BEGIN:VEVENT
DTSTART;TZID=America/New_York:20250917T170000
DTEND;TZID=America/New_York:20250917T220000
DTSTAMP:20260421T222539
CREATED:20250701T204443Z
LAST-MODIFIED:20250701T210436Z
UID:10001721-1758128400-1758146400@www.kesslercollection.com
SUMMARY:Prime Rib Night at Red Stag Grill
DESCRIPTION:Join us at Red Stag Grill every Wednesday for an unforgettable dining experience. For $95\, indulge in a special 3-course menu by our Chef De Cuisine Michelle Britten\, featuring our signature Prime Rib prepared to perfection. \nThe Prime Rib special is available at 5:00 PM every Wednesday\, until supplies last. Reservations are highly recommended.
URL:https://www.kesslercollection.com/bohemian-asheville/event/prime-rib-night-at-red-stag-grill-3/2025-09-17/
ATTACH;FMTTYPE=image/jpeg:https://www.kesslercollection.com/bohemian-asheville/wp-content/uploads/sites/7/2024/06/AdobeStock_187072649-scaled.jpeg
END:VEVENT
BEGIN:VEVENT
DTSTART;TZID=America/New_York:20250922T170000
DTEND;TZID=America/New_York:20250922T213000
DTSTAMP:20260421T222539
CREATED:20250701T210247Z
LAST-MODIFIED:20250701T210750Z
UID:10001982-1758560400-1758576600@www.kesslercollection.com
SUMMARY:Wine Up Mondays at Red Stag Grill
DESCRIPTION:Raise your glass to the good times and indulge in fine wines at a special price with Wine Up Mondays. Join us Monday evenings for 50% off any wine bottle from our award-winning wine cellar when you dine at Red Stag Grill.
URL:https://www.kesslercollection.com/bohemian-asheville/event/wine-up-mondays-at-red-stag-grill-3/2025-09-22/
ATTACH;FMTTYPE=image/jpeg:https://www.kesslercollection.com/bohemian-asheville/wp-content/uploads/sites/7/2025/07/1L7A6621-min-scaled-e1751403261884.jpg
END:VEVENT
BEGIN:VEVENT
DTSTART;TZID=America/New_York:20250924T170000
DTEND;TZID=America/New_York:20250924T220000
DTSTAMP:20260421T222539
CREATED:20250701T204443Z
LAST-MODIFIED:20250701T210436Z
UID:10001722-1758733200-1758751200@www.kesslercollection.com
SUMMARY:Prime Rib Night at Red Stag Grill
DESCRIPTION:Join us at Red Stag Grill every Wednesday for an unforgettable dining experience. For $95\, indulge in a special 3-course menu by our Chef De Cuisine Michelle Britten\, featuring our signature Prime Rib prepared to perfection. \nThe Prime Rib special is available at 5:00 PM every Wednesday\, until supplies last. Reservations are highly recommended.
URL:https://www.kesslercollection.com/bohemian-asheville/event/prime-rib-night-at-red-stag-grill-3/2025-09-24/
ATTACH;FMTTYPE=image/jpeg:https://www.kesslercollection.com/bohemian-asheville/wp-content/uploads/sites/7/2024/06/AdobeStock_187072649-scaled.jpeg
END:VEVENT
BEGIN:VEVENT
DTSTART;TZID=America/New_York:20250929T170000
DTEND;TZID=America/New_York:20250929T213000
DTSTAMP:20260421T222539
CREATED:20250701T210247Z
LAST-MODIFIED:20250701T210750Z
UID:10001983-1759165200-1759181400@www.kesslercollection.com
SUMMARY:Wine Up Mondays at Red Stag Grill
DESCRIPTION:Raise your glass to the good times and indulge in fine wines at a special price with Wine Up Mondays. Join us Monday evenings for 50% off any wine bottle from our award-winning wine cellar when you dine at Red Stag Grill.
URL:https://www.kesslercollection.com/bohemian-asheville/event/wine-up-mondays-at-red-stag-grill-3/2025-09-29/
ATTACH;FMTTYPE=image/jpeg:https://www.kesslercollection.com/bohemian-asheville/wp-content/uploads/sites/7/2025/07/1L7A6621-min-scaled-e1751403261884.jpg
END:VEVENT
BEGIN:VEVENT
DTSTART;TZID=America/New_York:20251001T170000
DTEND;TZID=America/New_York:20251001T220000
DTSTAMP:20260421T222539
CREATED:20250701T204443Z
LAST-MODIFIED:20250701T210436Z
UID:10001723-1759338000-1759356000@www.kesslercollection.com
SUMMARY:Prime Rib Night at Red Stag Grill
DESCRIPTION:Join us at Red Stag Grill every Wednesday for an unforgettable dining experience. For $95\, indulge in a special 3-course menu by our Chef De Cuisine Michelle Britten\, featuring our signature Prime Rib prepared to perfection. \nThe Prime Rib special is available at 5:00 PM every Wednesday\, until supplies last. Reservations are highly recommended.
URL:https://www.kesslercollection.com/bohemian-asheville/event/prime-rib-night-at-red-stag-grill-3/2025-10-01/
ATTACH;FMTTYPE=image/jpeg:https://www.kesslercollection.com/bohemian-asheville/wp-content/uploads/sites/7/2024/06/AdobeStock_187072649-scaled.jpeg
END:VEVENT
BEGIN:VEVENT
DTSTART;TZID=America/New_York:20251006T170000
DTEND;TZID=America/New_York:20251006T213000
DTSTAMP:20260421T222539
CREATED:20250701T210247Z
LAST-MODIFIED:20250701T210750Z
UID:10001984-1759770000-1759786200@www.kesslercollection.com
SUMMARY:Wine Up Mondays at Red Stag Grill
DESCRIPTION:Raise your glass to the good times and indulge in fine wines at a special price with Wine Up Mondays. Join us Monday evenings for 50% off any wine bottle from our award-winning wine cellar when you dine at Red Stag Grill.
URL:https://www.kesslercollection.com/bohemian-asheville/event/wine-up-mondays-at-red-stag-grill-3/2025-10-06/
ATTACH;FMTTYPE=image/jpeg:https://www.kesslercollection.com/bohemian-asheville/wp-content/uploads/sites/7/2025/07/1L7A6621-min-scaled-e1751403261884.jpg
END:VEVENT
BEGIN:VEVENT
DTSTART;TZID=America/New_York:20251008T170000
DTEND;TZID=America/New_York:20251008T220000
DTSTAMP:20260421T222539
CREATED:20250701T204443Z
LAST-MODIFIED:20250701T210436Z
UID:10001724-1759942800-1759960800@www.kesslercollection.com
SUMMARY:Prime Rib Night at Red Stag Grill
DESCRIPTION:Join us at Red Stag Grill every Wednesday for an unforgettable dining experience. For $95\, indulge in a special 3-course menu by our Chef De Cuisine Michelle Britten\, featuring our signature Prime Rib prepared to perfection. \nThe Prime Rib special is available at 5:00 PM every Wednesday\, until supplies last. Reservations are highly recommended.
URL:https://www.kesslercollection.com/bohemian-asheville/event/prime-rib-night-at-red-stag-grill-3/2025-10-08/
ATTACH;FMTTYPE=image/jpeg:https://www.kesslercollection.com/bohemian-asheville/wp-content/uploads/sites/7/2024/06/AdobeStock_187072649-scaled.jpeg
END:VEVENT
END:VCALENDAR